BEGIN:VCALENDAR
VERSION:2.0
PRODID:-//Nu Deli - ECPv6.15.1.1//NONSGML v1.0//EN
CALSCALE:GREGORIAN
METHOD:PUBLISH
X-WR-CALNAME:Nu Deli
X-ORIGINAL-URL:https://thenudeli.com
X-WR-CALDESC:Events for Nu Deli
REFRESH-INTERVAL;VALUE=DURATION:PT1H
X-Robots-Tag:noindex
X-PUBLISHED-TTL:PT1H
BEGIN:VTIMEZONE
TZID:America/Detroit
BEGIN:DAYLIGHT
TZOFFSETFROM:-0500
TZOFFSETTO:-0400
TZNAME:EDT
DTSTART:20240310T070000
END:DAYLIGHT
BEGIN:STANDARD
TZOFFSETFROM:-0400
TZOFFSETTO:-0500
TZNAME:EST
DTSTART:20241103T060000
END:STANDARD
BEGIN:DAYLIGHT
TZOFFSETFROM:-0500
TZOFFSETTO:-0400
TZNAME:EDT
DTSTART:20250309T070000
END:DAYLIGHT
BEGIN:STANDARD
TZOFFSETFROM:-0400
TZOFFSETTO:-0500
TZNAME:EST
DTSTART:20251102T060000
END:STANDARD
END:VTIMEZONE
BEGIN:VEVENT
DTSTART;TZID=America/Detroit:20250531T160000
DTEND;TZID=America/Detroit:20250531T200000
DTSTAMP:20260424T035938
CREATED:20250527T162435Z
LAST-MODIFIED:20250527T162435Z
UID:1679-1748707200-1748721600@thenudeli.com
SUMMARY:Private Event
DESCRIPTION:
URL:https://thenudeli.com/event/private-event-5/
CATEGORIES:Private Event
END:VEVENT
BEGIN:VEVENT
DTSTART;TZID=America/Detroit:20250531T090000
DTEND;TZID=America/Detroit:20250531T150000
DTSTAMP:20260424T035938
CREATED:20250527T162350Z
LAST-MODIFIED:20250527T162350Z
UID:1677-1748682000-1748703600@thenudeli.com
SUMMARY:Eastern Market Shed 5 Plaza
DESCRIPTION:
URL:https://thenudeli.com/event/eastern-market-shed-5-plaza-24/
LOCATION:Shed 5\, Eastern Market
CATEGORIES:Breakfast,Lunch,Market
END:VEVENT
BEGIN:VEVENT
DTSTART;TZID=America/Detroit:20250529T170000
DTEND;TZID=America/Detroit:20250529T220000
DTSTAMP:20260424T035938
CREATED:20250527T162257Z
LAST-MODIFIED:20250527T162257Z
UID:1675-1748538000-1748556000@thenudeli.com
SUMMARY:Northville Winery & Brewing Co.
DESCRIPTION:
URL:https://thenudeli.com/event/northville-winery-brewing-co-6/
LOCATION:Northville Winery and Brewery\, 630 Baseline Rd\, Northville\, MI\, 48167\, United States
CATEGORIES:Brewery,Dinner,Music
END:VEVENT
BEGIN:VEVENT
DTSTART;TZID=America/Detroit:20250529T110000
DTEND;TZID=America/Detroit:20250529T150000
DTSTAMP:20260424T035938
CREATED:20250527T162208Z
LAST-MODIFIED:20250527T162208Z
UID:1673-1748516400-1748530800@thenudeli.com
SUMMARY:Downtown Street Eats @ Cadillac Square
DESCRIPTION:
URL:https://thenudeli.com/event/downtown-street-eats-cadillac-square-56/
LOCATION:Campus Martius Park\, 800 Woodward Ave\, Detroit\, MI\, 48226\, United States
CATEGORIES:Lunch
END:VEVENT
BEGIN:VEVENT
DTSTART;TZID=America/Detroit:20250528T170000
DTEND;TZID=America/Detroit:20250528T200000
DTSTAMP:20260424T035938
CREATED:20250527T162107Z
LAST-MODIFIED:20250527T162107Z
UID:1671-1748451600-1748462400@thenudeli.com
SUMMARY:Novi Meadows 5K
DESCRIPTION:
URL:https://thenudeli.com/event/novi-meadows-5k/
LOCATION:Novi Meadows Elementary\, 25299 Taft Rd\, Novi\, MI\, 48374\, United States
CATEGORIES:Dinner,Fundraiser,Game Day,Rally
END:VEVENT
BEGIN:VEVENT
DTSTART;TZID=America/Detroit:20241011T170000
DTEND;TZID=America/Detroit:20241011T200000
DTSTAMP:20260424T035938
CREATED:20241003T212827Z
LAST-MODIFIED:20241003T212827Z
UID:1665-1728666000-1728676800@thenudeli.com
SUMMARY:Urbanrest Brewing\, Ferndale
DESCRIPTION:
URL:https://thenudeli.com/event/urbanrest-brewing-ferndale-29/
LOCATION:Urbanrest Brewing Company\, 2615 Wolcott Street\, Ferndale\, MI\, 48220\, United States
CATEGORIES:Brewery,Dinner
END:VEVENT
BEGIN:VEVENT
DTSTART;TZID=America/Detroit:20241011T110000
DTEND;TZID=America/Detroit:20241011T140000
DTSTAMP:20260424T035938
CREATED:20241003T212733Z
LAST-MODIFIED:20241003T212733Z
UID:1661-1728644400-1728655200@thenudeli.com
SUMMARY:Berkley High School
DESCRIPTION:
URL:https://thenudeli.com/event/berkley-high-school/
LOCATION:Berkley ArtSpace\, 2524 Coolidge Hwy\, Berkley\, MI\, 48072\, United States
CATEGORIES:Lunch
END:VEVENT
BEGIN:VEVENT
DTSTART;TZID=America/Detroit:20241010T180000
DTEND;TZID=America/Detroit:20241010T200000
DTSTAMP:20260424T035938
CREATED:20241003T212301Z
LAST-MODIFIED:20241003T212301Z
UID:1659-1728583200-1728590400@thenudeli.com
SUMMARY:Special Event
DESCRIPTION:Book yours today!
URL:https://thenudeli.com/event/special-event/
CATEGORIES:Private Event
END:VEVENT
BEGIN:VEVENT
DTSTART;TZID=America/Detroit:20240914T170000
DTEND;TZID=America/Detroit:20240914T200000
DTSTAMP:20260424T035938
CREATED:20240903T191516Z
LAST-MODIFIED:20240903T191516Z
UID:1656-1726333200-1726344000@thenudeli.com
SUMMARY:Brewery Faisan
DESCRIPTION:
URL:https://thenudeli.com/event/brewery-faisan/
LOCATION:Brewery Faisan\, 1087 Beaufait St\, Detroit\, MI\, 48207\, United States
CATEGORIES:Brewery,Dinner
END:VEVENT
BEGIN:VEVENT
DTSTART;TZID=America/Detroit:20240914T090000
DTEND;TZID=America/Detroit:20240914T150000
DTSTAMP:20260424T035938
CREATED:20240903T191334Z
LAST-MODIFIED:20240903T191334Z
UID:1654-1726304400-1726326000@thenudeli.com
SUMMARY:Eastern Market\, Shed 5 Plaza
DESCRIPTION:
URL:https://thenudeli.com/event/eastern-market-shed-5-plaza-23/
LOCATION:Shed 5\, Eastern Market
CATEGORIES:Breakfast,Lunch,Market,Music
END:VEVENT
BEGIN:VEVENT
DTSTART;TZID=America/Detroit:20240911T170000
DTEND;TZID=America/Detroit:20240911T210000
DTSTAMP:20260424T035938
CREATED:20240903T003426Z
LAST-MODIFIED:20240903T003426Z
UID:1652-1726074000-1726088400@thenudeli.com
SUMMARY:Urbanrest Brewing\, Ferndale
DESCRIPTION:
URL:https://thenudeli.com/event/urbanrest-brewing-ferndale-28/
LOCATION:Urbanrest Brewing Company\, 2615 Wolcott Street\, Ferndale\, MI\, 48220\, United States
CATEGORIES:Brewery,Dinner
END:VEVENT
BEGIN:VEVENT
DTSTART;TZID=America/Detroit:20240909T110000
DTEND;TZID=America/Detroit:20240909T150000
DTSTAMP:20260424T035938
CREATED:20240903T002452Z
LAST-MODIFIED:20240903T002452Z
UID:1650-1725879600-1725894000@thenudeli.com
SUMMARY:Cadillac Square
DESCRIPTION:
URL:https://thenudeli.com/event/cadillac-square/
LOCATION:Campus Martius Park\, 800 Woodward Ave\, Detroit\, MI\, 48226\, United States
CATEGORIES:Lunch
END:VEVENT
BEGIN:VEVENT
DTSTART;TZID=America/Detroit:20240907T110000
DTEND;TZID=America/Detroit:20240907T230000
DTSTAMP:20260424T035938
CREATED:20240903T002129Z
LAST-MODIFIED:20240903T002129Z
UID:1646-1725706800-1725750000@thenudeli.com
SUMMARY:Dally in the Alley 2024
DESCRIPTION:
URL:https://thenudeli.com/event/dally-in-the-alley-2024/
LOCATION:Cass Corridor\, Cass Ave\, Detroit\, MI\, 48201\, United States
CATEGORIES:Dinner,Festival,Late Night,Lunch,Music,Neighborhood
ORGANIZER;CN="North Cass Community Union":MAILTO:pr@dallyinthealley.com
END:VEVENT
BEGIN:VEVENT
DTSTART;TZID=America/Detroit:20240906T170000
DTEND;TZID=America/Detroit:20240906T210000
DTSTAMP:20260424T035938
CREATED:20240903T000844Z
LAST-MODIFIED:20240903T000844Z
UID:1643-1725642000-1725656400@thenudeli.com
SUMMARY:Novi TasteFest
DESCRIPTION:
URL:https://thenudeli.com/event/novi-tastefest/
LOCATION:Novi High School\, 24062 Taft Rd\, Novi\, MI\, 48375\, United States
CATEGORIES:Dinner,Fundraiser,Game Day,Rally
END:VEVENT
BEGIN:VEVENT
DTSTART;TZID=America/Detroit:20240901T110000
DTEND;TZID=America/Detroit:20240901T170000
DTSTAMP:20260424T035938
CREATED:20240802T153752Z
LAST-MODIFIED:20240802T153857Z
UID:1640-1725188400-1725210000@thenudeli.com
SUMMARY:Detroit Sandwich Party
DESCRIPTION:
URL:https://thenudeli.com/event/detroit-sandwich-party/
LOCATION:Shed 5\, Eastern Market
CATEGORIES:Festival,Lunch,Market,Rally
END:VEVENT
BEGIN:VEVENT
DTSTART;TZID=America/Detroit:20240830T180000
DTEND;TZID=America/Detroit:20240830T220000
DTSTAMP:20260424T035938
CREATED:20240802T153604Z
LAST-MODIFIED:20240802T153604Z
UID:1638-1725040800-1725055200@thenudeli.com
SUMMARY:Northville Brewery
DESCRIPTION:
URL:https://thenudeli.com/event/northville-brewery-2/
LOCATION:Northville Winery and Brewery\, 630 Baseline Rd\, Northville\, MI\, 48167\, United States
CATEGORIES:Brewery,Dinner,Music
END:VEVENT
BEGIN:VEVENT
DTSTART;TZID=America/Detroit:20240828T110000
DTEND;TZID=America/Detroit:20240828T140000
DTSTAMP:20260424T035938
CREATED:20240802T153518Z
LAST-MODIFIED:20240802T153518Z
UID:1636-1724842800-1724853600@thenudeli.com
SUMMARY:3000 Town Center\, Southfield
DESCRIPTION:
URL:https://thenudeli.com/event/3000-town-center-southfield-9/
LOCATION:Southfield Town Center\, 3000 Town Center\, Southfield\, MI\, 48075\, United States
CATEGORIES:Lunch
END:VEVENT
BEGIN:VEVENT
DTSTART;TZID=America/Detroit:20240826T110000
DTEND;TZID=America/Detroit:20240826T150000
DTSTAMP:20260424T035938
CREATED:20240802T153438Z
LAST-MODIFIED:20240802T153438Z
UID:1634-1724670000-1724684400@thenudeli.com
SUMMARY:Spirit Plaza\, Woodward @ Jefferson
DESCRIPTION:
URL:https://thenudeli.com/event/spirit-plaza-woodward-jefferson-16/
LOCATION:Spirit of Detroit Plaza\, 1 Woodward Avenue\, Detroit\, MI\, United States
CATEGORIES:Lunch
ORGANIZER;CN="Total Access Events":MAILTO:philtalbert@totalaccessinc.com
END:VEVENT
BEGIN:VEVENT
DTSTART;TZID=America/Detroit:20240824T170000
DTEND;TZID=America/Detroit:20240824T220000
DTSTAMP:20260424T035938
CREATED:20240802T153357Z
LAST-MODIFIED:20240802T153357Z
UID:1632-1724518800-1724536800@thenudeli.com
SUMMARY:Michigan Central Station
DESCRIPTION:
URL:https://thenudeli.com/event/michigan-central-station-2/
LOCATION:Michigan Central Station\, 2001 15th St\, Detroit\, MI\, 48216\, United States
CATEGORIES:Dinner,Lunch,Music
ORGANIZER;CN="Total Access Events":MAILTO:philtalbert@totalaccessinc.com
END:VEVENT
BEGIN:VEVENT
DTSTART;TZID=America/Detroit:20240823T160000
DTEND;TZID=America/Detroit:20240823T230000
DTSTAMP:20260424T035938
CREATED:20240802T152752Z
LAST-MODIFIED:20240802T152752Z
UID:1630-1724428800-1724454000@thenudeli.com
SUMMARY:Chutney Festival
DESCRIPTION:
URL:https://thenudeli.com/event/chutney-festival-2/
LOCATION:Royal Oak Farmers Market\, 316 E 11 Mile Rd\, Royal Oak\, MI\, 48067\, United States
CATEGORIES:Dinner,Festival,Market,Rally
ORGANIZER;CN="The Shanti Agency":MAILTO:info@theshantiagency.com
END:VEVENT
BEGIN:VEVENT
DTSTART;TZID=America/Detroit:20240822T110000
DTEND;TZID=America/Detroit:20240822T150000
DTSTAMP:20260424T035938
CREATED:20240802T152151Z
LAST-MODIFIED:20240802T152151Z
UID:1627-1724324400-1724338800@thenudeli.com
SUMMARY:Downtown Street Eats @ Cadillac Square
DESCRIPTION:
URL:https://thenudeli.com/event/downtown-street-eats-cadillac-square-55/
LOCATION:Campus Martius Park\, 800 Woodward Ave\, Detroit\, MI\, 48226\, United States
CATEGORIES:Lunch
END:VEVENT
BEGIN:VEVENT
DTSTART;TZID=America/Detroit:20240821T170000
DTEND;TZID=America/Detroit:20240821T200000
DTSTAMP:20260424T035938
CREATED:20240802T152025Z
LAST-MODIFIED:20240802T152107Z
UID:1625-1724259600-1724270400@thenudeli.com
SUMMARY:Ann Arbor Farmers Market
DESCRIPTION:
URL:https://thenudeli.com/event/ann-arbor-farmers-market/
LOCATION:Ann Arbor Farmers Market\, 315 Detroit Street\, Ann Arbor\, MI\, United States
CATEGORIES:Dinner,Market,Rally
END:VEVENT
BEGIN:VEVENT
DTSTART;TZID=America/Detroit:20240820T110000
DTEND;TZID=America/Detroit:20240820T150000
DTSTAMP:20260424T035938
CREATED:20240802T151719Z
LAST-MODIFIED:20240802T151719Z
UID:1623-1724151600-1724166000@thenudeli.com
SUMMARY:Downtown Street Eats @ Cadillac Square
DESCRIPTION:
URL:https://thenudeli.com/event/downtown-street-eats-cadillac-square-54/
LOCATION:Campus Martius Park\, 800 Woodward Ave\, Detroit\, MI\, 48226\, United States
CATEGORIES:Lunch
END:VEVENT
BEGIN:VEVENT
DTSTART;TZID=America/Detroit:20240818T110000
DTEND;TZID=America/Detroit:20240818T150000
DTSTAMP:20260424T035938
CREATED:20240731T222316Z
LAST-MODIFIED:20240731T222317Z
UID:1620-1723978800-1723993200@thenudeli.com
SUMMARY:Trucks Without Borders fusion food market
DESCRIPTION:
URL:https://thenudeli.com/event/trucks-without-borders-fusion-food-market/
LOCATION:Shed 5\, Eastern Market
CATEGORIES:Festival,Lunch,Market,Rally
ORGANIZER;CN="Nu Deli":MAILTO:eat@thenudeli.com
END:VEVENT
BEGIN:VEVENT
DTSTART;TZID=America/Detroit:20240817T090000
DTEND;TZID=America/Detroit:20240817T150000
DTSTAMP:20260424T035938
CREATED:20240731T221943Z
LAST-MODIFIED:20240731T221943Z
UID:1618-1723885200-1723906800@thenudeli.com
SUMMARY:Eastern Market\, Shed 5 Plaza
DESCRIPTION:
URL:https://thenudeli.com/event/eastern-market-shed-5-plaza-22/
LOCATION:Eastern Market Plaza South\, 2599 Market Street\, Detroit\, MI\, 48207\, United States
CATEGORIES:Breakfast,Lunch,Market,Music
END:VEVENT
BEGIN:VEVENT
DTSTART;TZID=America/Detroit:20240816T190000
DTEND;TZID=America/Detroit:20240816T210000
DTSTAMP:20260424T035938
CREATED:20240731T220441Z
LAST-MODIFIED:20240731T220441Z
UID:1615-1723834800-1723842000@thenudeli.com
SUMMARY:Southfield Summer Concert Series
DESCRIPTION:
URL:https://thenudeli.com/event/southfield-summer-concert-series-3/
LOCATION:City of Southfield\, 26000 Evergreen\, Southfield\, MI\, 48076\, United States
CATEGORIES:Dinner,Music
END:VEVENT
BEGIN:VEVENT
DTSTART;TZID=America/Detroit:20240815T180000
DTEND;TZID=America/Detroit:20240815T210000
DTSTAMP:20260424T035938
CREATED:20240731T220034Z
LAST-MODIFIED:20240731T220034Z
UID:1611-1723744800-1723755600@thenudeli.com
SUMMARY:WDET Presents: Sounds Like Detroit 2024
DESCRIPTION:Detroit Public Radio 101.9 WDET presents the 2024 Sounds Like Detroit showcase\, featuring the top five\, listener-voted Tiny Desk Contest participants! \nJoin us on Thursday\, August 15\, 2024\, at New Center Park for a musical showcase of Detroit Tiny Desk Contest talent hosted by WDET’s MI Local host Jeff Milo! \nThe Sounds Like Detroit Showcase will feature five listener-chosen acts during our online voting: \nDrey Skonie & The kLOUDs\nC3theartist\nElspeth Tremblay & The Treatment\nChris Lanard & One Band Global\nIsis Damil \nGates open at 6 p.m. and music starts promptly at 7 p.m. \nFood trucks and beverages will be on-site. \nThis is a BRING YOUR OWN CHAIR OR BLANKET-style event. Seating is not guaranteed.
URL:https://thenudeli.com/event/wdet-presents-sounds-like-detroit-2024/
LOCATION:New Center Park\, 2998 W Grand Blvd\, Detroit\, MI\, 48202\, United States
CATEGORIES:Dinner,Fundraiser,Music
END:VEVENT
BEGIN:VEVENT
DTSTART;TZID=America/Detroit:20240814T170000
DTEND;TZID=America/Detroit:20240814T210000
DTSTAMP:20260424T035938
CREATED:20240731T215549Z
LAST-MODIFIED:20240731T215549Z
UID:1609-1723654800-1723669200@thenudeli.com
SUMMARY:Urbanrest Brewing\, Ferndale
DESCRIPTION:
URL:https://thenudeli.com/event/urbanrest-brewing-ferndale-27/
LOCATION:Urbanrest Brewing Company\, 2615 Wolcott Street\, Ferndale\, MI\, 48220\, United States
CATEGORIES:Brewery,Dinner
END:VEVENT
BEGIN:VEVENT
DTSTART;TZID=America/Detroit:20240813T110000
DTEND;TZID=America/Detroit:20240813T150000
DTSTAMP:20260424T035938
CREATED:20240731T215441Z
LAST-MODIFIED:20240731T215441Z
UID:1607-1723546800-1723561200@thenudeli.com
SUMMARY:Spirit Plaza\, Woodward @ Jefferson
DESCRIPTION:
URL:https://thenudeli.com/event/spirit-plaza-woodward-jefferson-15/
LOCATION:Spirit of Detroit Plaza\, 1 Woodward Avenue\, Detroit\, MI\, United States
CATEGORIES:Lunch
ORGANIZER;CN="Total Access Events":MAILTO:philtalbert@totalaccessinc.com
END:VEVENT
BEGIN:VEVENT
DTSTART;TZID=America/Detroit:20240810T090000
DTEND;TZID=America/Detroit:20240810T150000
DTSTAMP:20260424T035938
CREATED:20240731T215208Z
LAST-MODIFIED:20240731T215208Z
UID:1605-1723280400-1723302000@thenudeli.com
SUMMARY:Eastern Market\, Shed 5 Plaza
DESCRIPTION:
URL:https://thenudeli.com/event/eastern-market-shed-5-plaza-21/
LOCATION:Eastern Market Plaza South\, 2599 Market Street\, Detroit\, MI\, 48207\, United States
CATEGORIES:Breakfast,Lunch,Market,Music
END:VEVENT
END:VCALENDAR