BEGIN:VCALENDAR
VERSION:2.0
PRODID:-//Nu Deli - ECPv6.15.1.1//NONSGML v1.0//EN
CALSCALE:GREGORIAN
METHOD:PUBLISH
X-WR-CALNAME:Nu Deli
X-ORIGINAL-URL:https://thenudeli.com
X-WR-CALDESC:Events for Nu Deli
REFRESH-INTERVAL;VALUE=DURATION:PT1H
X-Robots-Tag:noindex
X-PUBLISHED-TTL:PT1H
BEGIN:VTIMEZONE
TZID:America/Detroit
BEGIN:DAYLIGHT
TZOFFSETFROM:-0500
TZOFFSETTO:-0400
TZNAME:EDT
DTSTART:20250309T070000
END:DAYLIGHT
BEGIN:STANDARD
TZOFFSETFROM:-0400
TZOFFSETTO:-0500
TZNAME:EST
DTSTART:20251102T060000
END:STANDARD
END:VTIMEZONE
BEGIN:VEVENT
DTSTART;VALUE=DATE:20250720
DTEND;VALUE=DATE:20250721
DTSTAMP:20260423T232426
CREATED:20250628T041703Z
LAST-MODIFIED:20250628T041836Z
UID:1742-1752969600-1753055999@thenudeli.com
SUMMARY:Concert of Colors
DESCRIPTION:
URL:https://thenudeli.com/event/concert-of-colors-3/
LOCATION:Detroit Institute of Arts\, 5200 Woodward Ave\, Detroit\, MI\, 48202\, United States
CATEGORIES:Dinner,Festival,Lunch,Music
END:VEVENT
BEGIN:VEVENT
DTSTART;TZID=America/Detroit:20250719T170000
DTEND;TZID=America/Detroit:20250719T210000
DTSTAMP:20260423T232426
CREATED:20250628T041531Z
LAST-MODIFIED:20250628T041531Z
UID:1740-1752944400-1752958800@thenudeli.com
SUMMARY:Urbanrest Brewing
DESCRIPTION:
URL:https://thenudeli.com/event/urbanrest-brewing-8/
LOCATION:Urbanrest Brewing Company\, 2615 Wolcott Street\, Ferndale\, MI\, 48220\, United States
CATEGORIES:Brewery,Dinner
END:VEVENT
BEGIN:VEVENT
DTSTART;TZID=America/Detroit:20250719T110000
DTEND;TZID=America/Detroit:20250719T150000
DTSTAMP:20260423T232426
CREATED:20250628T041432Z
LAST-MODIFIED:20250628T041432Z
UID:1738-1752922800-1752937200@thenudeli.com
SUMMARY:Spirit Plaza
DESCRIPTION:
URL:https://thenudeli.com/event/spirit-plaza-15/
LOCATION:Spirit of Detroit Plaza\, 1 Woodward Avenue\, Detroit\, MI\, United States
CATEGORIES:Lunch
ORGANIZER;CN="Total Access Events":MAILTO:philtalbert@totalaccessinc.com
END:VEVENT
BEGIN:VEVENT
DTSTART;TZID=America/Detroit:20250717T170000
DTEND;TZID=America/Detroit:20250717T210000
DTSTAMP:20260423T232426
CREATED:20250628T041336Z
LAST-MODIFIED:20250628T041336Z
UID:1736-1752771600-1752786000@thenudeli.com
SUMMARY:House Night @ The Congregation
DESCRIPTION:Party of the summer!
URL:https://thenudeli.com/event/house-night-the-congregation-7/
LOCATION:The Congregation\, 9321 Rosa Parks Blvd\, Detroit\, MI\, 48206\, United States
CATEGORIES:Dinner,Music
END:VEVENT
BEGIN:VEVENT
DTSTART;TZID=America/Detroit:20250717T110000
DTEND;TZID=America/Detroit:20250717T150000
DTSTAMP:20260423T232426
CREATED:20250628T041112Z
LAST-MODIFIED:20250628T041112Z
UID:1734-1752750000-1752764400@thenudeli.com
SUMMARY:Downtown Street Eats @ Cadillac Square
DESCRIPTION:
URL:https://thenudeli.com/event/downtown-street-eats-cadillac-square-62/
LOCATION:Campus Martius Park\, 800 Woodward Ave\, Detroit\, MI\, 48226\, United States
CATEGORIES:Lunch
END:VEVENT
BEGIN:VEVENT
DTSTART;TZID=America/Detroit:20250716T170000
DTEND;TZID=America/Detroit:20250716T200000
DTSTAMP:20260423T232426
CREATED:20250628T040905Z
LAST-MODIFIED:20250628T040905Z
UID:1732-1752685200-1752696000@thenudeli.com
SUMMARY:Ann Arbor Farmers Market Food Truck Rally
DESCRIPTION:
URL:https://thenudeli.com/event/ann-arbor-farmers-market-food-truck-rally-2/
LOCATION:Ann Arbor Farmers Market\, 315 Detroit Street\, Ann Arbor\, MI\, United States
CATEGORIES:Dinner,Market,Rally
END:VEVENT
BEGIN:VEVENT
DTSTART;TZID=America/Detroit:20250716T110000
DTEND;TZID=America/Detroit:20250716T140000
DTSTAMP:20260423T232426
CREATED:20250628T040744Z
LAST-MODIFIED:20250628T040744Z
UID:1730-1752663600-1752674400@thenudeli.com
SUMMARY:Spirit Plaza
DESCRIPTION:
URL:https://thenudeli.com/event/spirit-plaza-14/
LOCATION:Spirit of Detroit Plaza\, 1 Woodward Avenue\, Detroit\, MI\, United States
CATEGORIES:Lunch
ORGANIZER;CN="Total Access Events":MAILTO:philtalbert@totalaccessinc.com
END:VEVENT
BEGIN:VEVENT
DTSTART;TZID=America/Detroit:20250715T110000
DTEND;TZID=America/Detroit:20250715T150000
DTSTAMP:20260423T232426
CREATED:20250628T040635Z
LAST-MODIFIED:20250628T040635Z
UID:1728-1752577200-1752591600@thenudeli.com
SUMMARY:Downtown Street Eats @ Cadillac Square
DESCRIPTION:
URL:https://thenudeli.com/event/downtown-street-eats-cadillac-square-61/
LOCATION:Campus Martius Park\, 800 Woodward Ave\, Detroit\, MI\, 48226\, United States
CATEGORIES:Lunch
END:VEVENT
BEGIN:VEVENT
DTSTART;TZID=America/Detroit:20250712T170000
DTEND;TZID=America/Detroit:20250712T210000
DTSTAMP:20260423T232426
CREATED:20250628T040518Z
LAST-MODIFIED:20250628T040518Z
UID:1725-1752339600-1752354000@thenudeli.com
SUMMARY:Florian East
DESCRIPTION:
URL:https://thenudeli.com/event/florian-east/
LOCATION:Florian East\, 9350 Joseph Campau\, Hamtramck\, MI\, 48212\, United States
CATEGORIES:Brewery,Dinner
END:VEVENT
BEGIN:VEVENT
DTSTART;TZID=America/Detroit:20250712T100000
DTEND;TZID=America/Detroit:20250712T150000
DTSTAMP:20260423T232426
CREATED:20250628T040123Z
LAST-MODIFIED:20250628T040123Z
UID:1722-1752314400-1752332400@thenudeli.com
SUMMARY:Eastern Market Shed 5 Plaza
DESCRIPTION:
URL:https://thenudeli.com/event/eastern-market-shed-5-plaza-26/
LOCATION:Shed 5\, Eastern Market
CATEGORIES:Breakfast,Lunch,Market
END:VEVENT
BEGIN:VEVENT
DTSTART;TZID=America/Detroit:20250709T170000
DTEND;TZID=America/Detroit:20250709T210000
DTSTAMP:20260423T232426
CREATED:20250628T035235Z
LAST-MODIFIED:20250628T035235Z
UID:1720-1752080400-1752094800@thenudeli.com
SUMMARY:Urbanrest Brewing
DESCRIPTION:
URL:https://thenudeli.com/event/urbanrest-brewing-7/
LOCATION:Urbanrest Brewing Company\, 2615 Wolcott Street\, Ferndale\, MI\, 48220\, United States
CATEGORIES:Brewery,Dinner
END:VEVENT
BEGIN:VEVENT
DTSTART;TZID=America/Detroit:20250709T110000
DTEND;TZID=America/Detroit:20250709T150000
DTSTAMP:20260423T232426
CREATED:20250627T194716Z
LAST-MODIFIED:20250627T194716Z
UID:1718-1752058800-1752073200@thenudeli.com
SUMMARY:Downtown Street Eats @ Cadillac Square
DESCRIPTION:
URL:https://thenudeli.com/event/downtown-street-eats-cadillac-square-60/
LOCATION:Campus Martius Park\, 800 Woodward Ave\, Detroit\, MI\, 48226\, United States
CATEGORIES:Lunch
END:VEVENT
BEGIN:VEVENT
DTSTART;TZID=America/Detroit:20250708T173000
DTEND;TZID=America/Detroit:20250708T193000
DTSTAMP:20260423T232426
CREATED:20250627T194145Z
LAST-MODIFIED:20250627T194145Z
UID:1715-1751995800-1752003000@thenudeli.com
SUMMARY:Cedarspring Estates\, Novi
DESCRIPTION:Neighborhood job at the commons of the Cedarspring Estates 1 & 2 subdivision. Out until demand and supplies last.
URL:https://thenudeli.com/event/cedarspring-estates-novi/
LOCATION:Cedarspring Estates Commons\, 25511 Buckminster Dr\, Novi\, MI\, 48375\, United States
CATEGORIES:Dinner,Neighborhood
END:VEVENT
BEGIN:VEVENT
DTSTART;TZID=America/Detroit:20250702T170000
DTEND;TZID=America/Detroit:20250702T210000
DTSTAMP:20260423T232426
CREATED:20250627T193024Z
LAST-MODIFIED:20250627T193024Z
UID:1713-1751475600-1751490000@thenudeli.com
SUMMARY:Urbanrest Brewing
DESCRIPTION:
URL:https://thenudeli.com/event/urbanrest-brewing-6/
LOCATION:Urbanrest Brewing Company\, 2615 Wolcott Street\, Ferndale\, MI\, 48220\, United States
CATEGORIES:Brewery,Dinner
END:VEVENT
BEGIN:VEVENT
DTSTART;TZID=America/Detroit:20250628T170000
DTEND;TZID=America/Detroit:20250628T220000
DTSTAMP:20260423T232426
CREATED:20250627T192238Z
LAST-MODIFIED:20250627T192238Z
UID:1711-1751130000-1751148000@thenudeli.com
SUMMARY:Northville Winery & Brewing Co.
DESCRIPTION:Featuring Social Bones – Grateful Dead tribute
URL:https://thenudeli.com/event/northville-winery-brewing-co-7/
LOCATION:Northville Winery and Brewery\, 630 Baseline Rd\, Northville\, MI\, 48167\, United States
CATEGORIES:Brewery,Dinner,Music
END:VEVENT
BEGIN:VEVENT
DTSTART;TZID=America/Detroit:20250628T120000
DTEND;TZID=America/Detroit:20250628T160000
DTSTAMP:20260423T232426
CREATED:20250627T192116Z
LAST-MODIFIED:20250627T192116Z
UID:1709-1751112000-1751126400@thenudeli.com
SUMMARY:Urbanrest Brewing 8th Anniversary Party
DESCRIPTION:
URL:https://thenudeli.com/event/urbanrest-brewing-8th-anniversary-party/
LOCATION:Urbanrest Brewing Company\, 2615 Wolcott Street\, Ferndale\, MI\, 48220\, United States
CATEGORIES:Brewery,Lunch
END:VEVENT
BEGIN:VEVENT
DTSTART;TZID=America/Detroit:20250627T180000
DTEND;TZID=America/Detroit:20250627T210000
DTSTAMP:20260423T232426
CREATED:20250627T192010Z
LAST-MODIFIED:20250627T192010Z
UID:1707-1751047200-1751058000@thenudeli.com
SUMMARY:Brewery Faisan
DESCRIPTION:
URL:https://thenudeli.com/event/brewery-faisan-2/
LOCATION:Brewery Faisan\, 1087 Beaufait St\, Detroit\, MI\, 48207\, United States
CATEGORIES:Brewery,Dinner
END:VEVENT
BEGIN:VEVENT
DTSTART;TZID=America/Detroit:20250626T160000
DTEND;TZID=America/Detroit:20250626T190000
DTSTAMP:20260423T232426
CREATED:20250628T043422Z
LAST-MODIFIED:20250628T043422Z
UID:1764-1750953600-1750964400@thenudeli.com
SUMMARY:Redford Public Library
DESCRIPTION:
URL:https://thenudeli.com/event/redford-public-library-2/
LOCATION:Redford Township District Library\, 25320 Six Mile Rd\, Redford Charter Township\, MI\, 48240\, United States
CATEGORIES:Dinner,Music
END:VEVENT
BEGIN:VEVENT
DTSTART;TZID=America/Detroit:20250625T110000
DTEND;TZID=America/Detroit:20250625T140000
DTSTAMP:20260423T232426
CREATED:20250628T043337Z
LAST-MODIFIED:20250628T043337Z
UID:1762-1750849200-1750860000@thenudeli.com
SUMMARY:Blue Cross Blue Shield HQ
DESCRIPTION:
URL:https://thenudeli.com/event/blue-cross-blue-shield-hq-3/
LOCATION:Blue Cross Blue Shield of Michigan\, 500 Renaissance Center\, Detroit\, MI\, 48243\, United States
CATEGORIES:Lunch
END:VEVENT
BEGIN:VEVENT
DTSTART;TZID=America/Detroit:20250622T130000
DTEND;TZID=America/Detroit:20250622T170000
DTSTAMP:20260423T232426
CREATED:20250628T043108Z
LAST-MODIFIED:20250628T043108Z
UID:1760-1750597200-1750611600@thenudeli.com
SUMMARY:Berkley Pride
DESCRIPTION:
URL:https://thenudeli.com/event/berkley-pride-2/
LOCATION:Berkeley Art Bash\, 2886 Twelve Mile Rd\, Berkley\, MI\, 48072\, United States
CATEGORIES:Festival,Lunch
END:VEVENT
BEGIN:VEVENT
DTSTART;TZID=America/Detroit:20250621T120000
DTEND;TZID=America/Detroit:20250621T160000
DTSTAMP:20260423T232426
CREATED:20250628T042951Z
LAST-MODIFIED:20250628T042951Z
UID:1758-1750507200-1750521600@thenudeli.com
SUMMARY:Urbanrest Brewing
DESCRIPTION:
URL:https://thenudeli.com/event/urbanrest-brewing-11/
LOCATION:Urbanrest Brewing Company\, 2615 Wolcott Street\, Ferndale\, MI\, 48220\, United States
CATEGORIES:Brewery,Lunch
END:VEVENT
BEGIN:VEVENT
DTSTART;TZID=America/Detroit:20250620T190000
DTEND;TZID=America/Detroit:20250620T230000
DTSTAMP:20260423T232426
CREATED:20250527T164936Z
LAST-MODIFIED:20250529T123918Z
UID:1700-1750446000-1750460400@thenudeli.com
SUMMARY:Sunset at the Zoo benefit
DESCRIPTION:
URL:https://thenudeli.com/event/sunset-at-the-zoo-benefit/
LOCATION:Detroit Zoo\, 8450 W 10 Mile Rd\, Royal Oak\, MI\, 48067\, United States
CATEGORIES:Dinner,Fundraiser,Rally,Tasting
END:VEVENT
BEGIN:VEVENT
DTSTART;TZID=America/Detroit:20250618T110000
DTEND;TZID=America/Detroit:20250618T140000
DTSTAMP:20260423T232426
CREATED:20250527T164015Z
LAST-MODIFIED:20250527T164015Z
UID:1698-1750244400-1750255200@thenudeli.com
SUMMARY:Blue Cross Blue Shield HQ
DESCRIPTION:
URL:https://thenudeli.com/event/blue-cross-blue-shield-hq-2/
LOCATION:Blue Cross Blue Shield of Michigan\, 500 Renaissance Center\, Detroit\, MI\, 48243\, United States
CATEGORIES:Lunch
END:VEVENT
BEGIN:VEVENT
DTSTART;TZID=America/Detroit:20250617T110000
DTEND;TZID=America/Detroit:20250617T150000
DTSTAMP:20260423T232426
CREATED:20250527T163633Z
LAST-MODIFIED:20250527T163633Z
UID:1696-1750158000-1750172400@thenudeli.com
SUMMARY:Downtown Street Eats @ Cadillac Square
DESCRIPTION:
URL:https://thenudeli.com/event/downtown-street-eats-cadillac-square-59/
LOCATION:Campus Martius Park\, 800 Woodward Ave\, Detroit\, MI\, 48226\, United States
CATEGORIES:Lunch
END:VEVENT
BEGIN:VEVENT
DTSTART;TZID=America/Detroit:20250614T090000
DTEND;TZID=America/Detroit:20250614T150000
DTSTAMP:20260423T232426
CREATED:20250527T163411Z
LAST-MODIFIED:20250527T163411Z
UID:1694-1749891600-1749913200@thenudeli.com
SUMMARY:Eastern Market Shed 5 Plaza
DESCRIPTION:
URL:https://thenudeli.com/event/eastern-market-shed-5-plaza-25/
LOCATION:Shed 5\, Eastern Market
CATEGORIES:Breakfast,Lunch,Market
END:VEVENT
BEGIN:VEVENT
DTSTART;TZID=America/Detroit:20250613T080000
DTEND;TZID=America/Detroit:20250613T170000
DTSTAMP:20260423T232426
CREATED:20250527T163311Z
LAST-MODIFIED:20250527T163311Z
UID:1692-1749801600-1749834000@thenudeli.com
SUMMARY:Downtown Street Eats @ Cadillac Square
DESCRIPTION:
URL:https://thenudeli.com/event/downtown-street-eats-cadillac-square-58/
LOCATION:Campus Martius Park\, 800 Woodward Ave\, Detroit\, MI\, 48226\, United States
CATEGORIES:Lunch
END:VEVENT
BEGIN:VEVENT
DTSTART;TZID=America/Detroit:20250612T170000
DTEND;TZID=America/Detroit:20250612T210000
DTSTAMP:20260423T232426
CREATED:20250527T163138Z
LAST-MODIFIED:20250527T163138Z
UID:1690-1749747600-1749762000@thenudeli.com
SUMMARY:Urbanrest Brewing
DESCRIPTION:
URL:https://thenudeli.com/event/urbanrest-brewing-5/
LOCATION:Urbanrest Brewing Company\, 2615 Wolcott Street\, Ferndale\, MI\, 48220\, United States
CATEGORIES:Brewery,Dinner
END:VEVENT
BEGIN:VEVENT
DTSTART;TZID=America/Detroit:20250612T110000
DTEND;TZID=America/Detroit:20250612T150000
DTSTAMP:20260423T232426
CREATED:20250527T163034Z
LAST-MODIFIED:20250527T163034Z
UID:1688-1749726000-1749740400@thenudeli.com
SUMMARY:Downtown Street Eats @ Cadillac Square
DESCRIPTION:
URL:https://thenudeli.com/event/downtown-street-eats-cadillac-square-57/
LOCATION:Campus Martius Park\, 800 Woodward Ave\, Detroit\, MI\, 48226\, United States
CATEGORIES:Lunch
END:VEVENT
BEGIN:VEVENT
DTSTART;TZID=America/Detroit:20250611T110000
DTEND;TZID=America/Detroit:20250611T140000
DTSTAMP:20260423T232426
CREATED:20250527T162924Z
LAST-MODIFIED:20250527T162924Z
UID:1684-1749639600-1749650400@thenudeli.com
SUMMARY:Blue Cross Blue Shield HQ
DESCRIPTION:
URL:https://thenudeli.com/event/blue-cross-blue-shield-hq/
LOCATION:Blue Cross Blue Shield of Michigan\, 500 Renaissance Center\, Detroit\, MI\, 48243\, United States
CATEGORIES:Lunch
END:VEVENT
BEGIN:VEVENT
DTSTART;TZID=America/Detroit:20250608T140000
DTEND;TZID=America/Detroit:20250608T170000
DTSTAMP:20260423T232426
CREATED:20250527T162524Z
LAST-MODIFIED:20250527T162524Z
UID:1681-1749391200-1749402000@thenudeli.com
SUMMARY:Private Event
DESCRIPTION:
URL:https://thenudeli.com/event/private-event-6/
LOCATION:MI
CATEGORIES:Private Event
END:VEVENT
END:VCALENDAR