BEGIN:VCALENDAR
VERSION:2.0
PRODID:-//Nu Deli - ECPv6.15.1.1//NONSGML v1.0//EN
CALSCALE:GREGORIAN
METHOD:PUBLISH
X-WR-CALNAME:Nu Deli
X-ORIGINAL-URL:https://thenudeli.com
X-WR-CALDESC:Events for Nu Deli
REFRESH-INTERVAL;VALUE=DURATION:PT1H
X-Robots-Tag:noindex
X-PUBLISHED-TTL:PT1H
BEGIN:VTIMEZONE
TZID:America/Detroit
BEGIN:DAYLIGHT
TZOFFSETFROM:-0500
TZOFFSETTO:-0400
TZNAME:EDT
DTSTART:20220313T070000
END:DAYLIGHT
BEGIN:STANDARD
TZOFFSETFROM:-0400
TZOFFSETTO:-0500
TZNAME:EST
DTSTART:20221106T060000
END:STANDARD
END:VTIMEZONE
BEGIN:VEVENT
DTSTART;TZID=America/Detroit:20220919T110000
DTEND;TZID=America/Detroit:20220919T140000
DTSTAMP:20260425T094412
CREATED:20220913T035701Z
LAST-MODIFIED:20220913T035701Z
UID:1190-1663585200-1663596000@thenudeli.com
SUMMARY:Henry Ford Hospital\, New Center
DESCRIPTION:
URL:https://thenudeli.com/event/henry-ford-hospital-new-center-11/
LOCATION:Henry Ford Hospital\, West Grand Boulevard @ Lodge Fwy\, Detroit\, MI\, United States
CATEGORIES:Lunch
END:VEVENT
BEGIN:VEVENT
DTSTART;TZID=America/Detroit:20220915T180000
DTEND;TZID=America/Detroit:20220915T230000
DTSTAMP:20260425T094412
CREATED:20220913T035530Z
LAST-MODIFIED:20220913T035530Z
UID:1188-1663264800-1663282800@thenudeli.com
SUMMARY:Eastern Market After Dark
DESCRIPTION:
URL:https://thenudeli.com/event/eastern-market-after-dark-3/
LOCATION:Eastern Market\, Shed 5\, Russell Street\, Detroit\, MI\, United States
CATEGORIES:Dinner,Festival,Late Night,Market
END:VEVENT
BEGIN:VEVENT
DTSTART;TZID=America/Detroit:20220914T170000
DTEND;TZID=America/Detroit:20220914T200000
DTSTAMP:20260425T094412
CREATED:20220913T035407Z
LAST-MODIFIED:20220913T035407Z
UID:1186-1663174800-1663185600@thenudeli.com
SUMMARY:Urbanrest Brewing\, Ferndale
DESCRIPTION:
URL:https://thenudeli.com/event/urbanrest-brewing-ferndale-11/
LOCATION:Urbanrest Brewing Company\, 2615 Wolcott Street\, Ferndale\, MI\, 48220\, United States
CATEGORIES:Brewery,Dinner
END:VEVENT
BEGIN:VEVENT
DTSTART;TZID=America/Detroit:20220827T180000
DTEND;TZID=America/Detroit:20220827T210000
DTSTAMP:20260425T094412
CREATED:20220816T004903Z
LAST-MODIFIED:20220816T004903Z
UID:1184-1661623200-1661634000@thenudeli.com
SUMMARY:Northville Winery & Brewing
DESCRIPTION:
URL:https://thenudeli.com/event/northville-winery-brewing-2/
LOCATION:Northville Winery and Brewery\, 630 Baseline Rd\, Northville\, MI\, 48167\, United States
CATEGORIES:Brewery,Dinner,Music
END:VEVENT
BEGIN:VEVENT
DTSTART;TZID=America/Detroit:20220827T100000
DTEND;TZID=America/Detroit:20220827T150000
DTSTAMP:20260425T094412
CREATED:20220816T004809Z
LAST-MODIFIED:20220816T004809Z
UID:1182-1661594400-1661612400@thenudeli.com
SUMMARY:Eastern Market
DESCRIPTION:
URL:https://thenudeli.com/event/eastern-market-10/
LOCATION:Eastern Market Plaza South\, 2599 Market Street\, Detroit\, MI\, 48207\, United States
CATEGORIES:Breakfast,Lunch,Market
END:VEVENT
BEGIN:VEVENT
DTSTART;TZID=America/Detroit:20220826T110000
DTEND;TZID=America/Detroit:20220826T220000
DTSTAMP:20260425T094412
CREATED:20220816T004700Z
LAST-MODIFIED:20220816T004700Z
UID:1180-1661511600-1661551200@thenudeli.com
SUMMARY:Spirit Plaza
DESCRIPTION:
URL:https://thenudeli.com/event/spirit-plaza-9/
LOCATION:Spirit of Detroit Plaza\, 1 Woodward Avenue\, Detroit\, MI\, United States
CATEGORIES:Dinner,Lunch,Music
END:VEVENT
BEGIN:VEVENT
DTSTART;TZID=America/Detroit:20220825T090000
DTEND;TZID=America/Detroit:20220825T170000
DTSTAMP:20260425T094412
CREATED:20220816T004542Z
LAST-MODIFIED:20220816T004542Z
UID:1178-1661418000-1661446800@thenudeli.com
SUMMARY:WSU Freshman Orientation
DESCRIPTION:
URL:https://thenudeli.com/event/wsu-freshman-orientation/
LOCATION:Wayne State University Farmers Market\, Warren @ Woodward\, Detroit\, MI\, 48202\, United States
CATEGORIES:Breakfast,Lunch
END:VEVENT
BEGIN:VEVENT
DTSTART;TZID=America/Detroit:20220824T110000
DTEND;TZID=America/Detroit:20220824T150000
DTSTAMP:20260425T094412
CREATED:20220816T004315Z
LAST-MODIFIED:20220816T004315Z
UID:1176-1661338800-1661353200@thenudeli.com
SUMMARY:Downtown Street Eats @ Cadillac Square
DESCRIPTION:
URL:https://thenudeli.com/event/downtown-street-eats-cadillac-square-21/
LOCATION:Campus Martius Park\, 800 Woodward Ave\, Detroit\, MI\, 48226\, United States
CATEGORIES:Lunch
END:VEVENT
BEGIN:VEVENT
DTSTART;TZID=America/Detroit:20220822T110000
DTEND;TZID=America/Detroit:20220822T140000
DTSTAMP:20260425T094412
CREATED:20220816T004210Z
LAST-MODIFIED:20220816T004210Z
UID:1174-1661166000-1661176800@thenudeli.com
SUMMARY:Spirit Plaza
DESCRIPTION:
URL:https://thenudeli.com/event/spirit-plaza-8/
LOCATION:Spirit of Detroit Plaza\, 1 Woodward Avenue\, Detroit\, MI\, United States
CATEGORIES:Lunch
END:VEVENT
BEGIN:VEVENT
DTSTART;TZID=America/Detroit:20220821T110000
DTEND;TZID=America/Detroit:20220821T160000
DTSTAMP:20260425T094412
CREATED:20220816T004109Z
LAST-MODIFIED:20220816T004109Z
UID:1170-1661079600-1661097600@thenudeli.com
SUMMARY:Hazon Michigan Jewish Food Festival
DESCRIPTION:
URL:https://thenudeli.com/event/hazon-michigan-jewish-food-festival/
LOCATION:MI DNR Outdoor Adventure Center\, 1801 Atwater St\, Detroit\, MI\, 48207\, United States
CATEGORIES:Festival,Lunch
END:VEVENT
BEGIN:VEVENT
DTSTART;TZID=America/Detroit:20220820T170000
DTEND;TZID=America/Detroit:20220820T200000
DTSTAMP:20260425T094412
CREATED:20220816T003715Z
LAST-MODIFIED:20220816T003715Z
UID:1168-1661014800-1661025600@thenudeli.com
SUMMARY:Livonia Community Rally
DESCRIPTION:
URL:https://thenudeli.com/event/livonia-community-rally-2/
LOCATION:Jack Kirksey Recreation Center\, 15100 Hubbard St\, Livonia\, 48154\, United States
CATEGORIES:Dinner,Rally
END:VEVENT
BEGIN:VEVENT
DTSTART;TZID=America/Detroit:20220820T090000
DTEND;TZID=America/Detroit:20220820T150000
DTSTAMP:20260425T094412
CREATED:20220816T003613Z
LAST-MODIFIED:20220816T003613Z
UID:1166-1660986000-1661007600@thenudeli.com
SUMMARY:Eastern Market\, Shed 5 Plaza
DESCRIPTION:
URL:https://thenudeli.com/event/eastern-market-shed-5-plaza-9/
LOCATION:Eastern Market Plaza South\, 2599 Market Street\, Detroit\, MI\, 48207\, United States
CATEGORIES:Breakfast,Lunch,Market
END:VEVENT
BEGIN:VEVENT
DTSTART;TZID=America/Detroit:20220819T170000
DTEND;TZID=America/Detroit:20220819T200000
DTSTAMP:20260425T094412
CREATED:20220816T003405Z
LAST-MODIFIED:20220816T003405Z
UID:1163-1660928400-1660939200@thenudeli.com
SUMMARY:Opera in the Park @ Palmer Park
DESCRIPTION:
URL:https://thenudeli.com/event/opera-in-the-park-palmer-park/
LOCATION:Palmer Park\, 910 Merrill Plaisance St\, Detroit\, MI\, 48203\, United States
CATEGORIES:Dinner,Music
END:VEVENT
BEGIN:VEVENT
DTSTART;TZID=America/Detroit:20220817T110000
DTEND;TZID=America/Detroit:20220817T150000
DTSTAMP:20260425T094412
CREATED:20220816T003118Z
LAST-MODIFIED:20220816T003118Z
UID:1161-1660734000-1660748400@thenudeli.com
SUMMARY:Downtown Street Eats @ Cadillac Square
DESCRIPTION:
URL:https://thenudeli.com/event/downtown-street-eats-cadillac-square-20/
LOCATION:Campus Martius Park\, 800 Woodward Ave\, Detroit\, MI\, 48226\, United States
CATEGORIES:Lunch
END:VEVENT
BEGIN:VEVENT
DTSTART;TZID=America/Detroit:20220816T110000
DTEND;TZID=America/Detroit:20220816T200000
DTSTAMP:20260425T094412
CREATED:20220816T003029Z
LAST-MODIFIED:20220816T003029Z
UID:1159-1660647600-1660680000@thenudeli.com
SUMMARY:Spirit Plaza
DESCRIPTION:
URL:https://thenudeli.com/event/spirit-plaza-7/
LOCATION:Spirit of Detroit Plaza\, 1 Woodward Avenue\, Detroit\, MI\, United States
CATEGORIES:Dinner,Lunch
END:VEVENT
BEGIN:VEVENT
DTSTART;TZID=America/Detroit:20220815T110000
DTEND;TZID=America/Detroit:20220815T140000
DTSTAMP:20260425T094412
CREATED:20220816T002905Z
LAST-MODIFIED:20220816T002905Z
UID:1157-1660561200-1660572000@thenudeli.com
SUMMARY:Henry Ford Hospital\, New Center
DESCRIPTION:
URL:https://thenudeli.com/event/henry-ford-hospital-new-center-10/
LOCATION:Henry Ford Hospital\, West Grand Boulevard @ Lodge Fwy\, Detroit\, MI\, United States
CATEGORIES:Lunch,Rally
END:VEVENT
BEGIN:VEVENT
DTSTART;TZID=America/Detroit:20220813T050000
DTEND;TZID=America/Detroit:20220813T210000
DTSTAMP:20260425T094412
CREATED:20220804T034438Z
LAST-MODIFIED:20220804T034438Z
UID:1141-1660366800-1660424400@thenudeli.com
SUMMARY:Urbanrest Brewing
DESCRIPTION:
URL:https://thenudeli.com/event/urbanrest-brewing-4/
LOCATION:Urbanrest Brewing Company\, 2615 Wolcott Street\, Ferndale\, MI\, 48220\, United States
CATEGORIES:Brewery,Dinner
END:VEVENT
BEGIN:VEVENT
DTSTART;TZID=America/Detroit:20220812T110000
DTEND;TZID=America/Detroit:20220812T150000
DTSTAMP:20260425T094412
CREATED:20220804T033804Z
LAST-MODIFIED:20220804T033804Z
UID:1136-1660302000-1660316400@thenudeli.com
SUMMARY:Downtown Street Eats @ Cadillac Square
DESCRIPTION:
URL:https://thenudeli.com/event/downtown-street-eats-cadillac-square-19/
LOCATION:Campus Martius Park\, 800 Woodward Ave\, Detroit\, MI\, 48226\, United States
CATEGORIES:Lunch
END:VEVENT
BEGIN:VEVENT
DTSTART;TZID=America/Detroit:20220810T110000
DTEND;TZID=America/Detroit:20220810T133000
DTSTAMP:20260425T094412
CREATED:20220804T033554Z
LAST-MODIFIED:20220804T033554Z
UID:1134-1660129200-1660138200@thenudeli.com
SUMMARY:3000 Town Center\, Southfield
DESCRIPTION:
URL:https://thenudeli.com/event/3000-town-center-southfield-6/
LOCATION:Southfield Town Center\, 3000 Town Center\, Southfield\, MI\, 48075\, United States
CATEGORIES:Lunch
END:VEVENT
BEGIN:VEVENT
DTSTART;TZID=America/Detroit:20220809T110000
DTEND;TZID=America/Detroit:20220809T150000
DTSTAMP:20260425T094412
CREATED:20220804T033240Z
LAST-MODIFIED:20220804T033240Z
UID:1132-1660042800-1660057200@thenudeli.com
SUMMARY:Downtown Street Eats @ Cadillac Square
DESCRIPTION:
URL:https://thenudeli.com/event/downtown-street-eats-cadillac-square-18/
LOCATION:Campus Martius Park\, 800 Woodward Ave\, Detroit\, MI\, 48226\, United States
CATEGORIES:Lunch
END:VEVENT
BEGIN:VEVENT
DTSTART;TZID=America/Detroit:20220805T180000
DTEND;TZID=America/Detroit:20220805T200000
DTSTAMP:20260425T094412
CREATED:20220804T033045Z
LAST-MODIFIED:20220804T033045Z
UID:1129-1659722400-1659729600@thenudeli.com
SUMMARY:Opera in the Park @ North Rosedale
DESCRIPTION:
URL:https://thenudeli.com/event/opera-in-the-park-north-rosedale/
LOCATION:North Rosedale Park Civic Association\, 18445 Scarsdale St\, Detroit\, MI\, 48223\, United States
CATEGORIES:Dinner,Music
END:VEVENT
BEGIN:VEVENT
DTSTART;TZID=America/Detroit:20220805T110000
DTEND;TZID=America/Detroit:20220805T150000
DTSTAMP:20260425T094412
CREATED:20220804T032408Z
LAST-MODIFIED:20220804T032408Z
UID:1127-1659697200-1659711600@thenudeli.com
SUMMARY:Downtown Street Eats @ Cadillac Square
DESCRIPTION:
URL:https://thenudeli.com/event/downtown-street-eats-cadillac-square-17/
LOCATION:Campus Martius Park\, 800 Woodward Ave\, Detroit\, MI\, 48226\, United States
CATEGORIES:Lunch
END:VEVENT
BEGIN:VEVENT
DTSTART;TZID=America/Detroit:20220804T160000
DTEND;TZID=America/Detroit:20220804T200000
DTSTAMP:20260425T094412
CREATED:20220804T032120Z
LAST-MODIFIED:20220804T032120Z
UID:1125-1659628800-1659643200@thenudeli.com
SUMMARY:Family Fun Health Expo @ Royal Oak Farmers Market
DESCRIPTION:
URL:https://thenudeli.com/event/family-fun-health-expo-royal-oak-farmers-market/
LOCATION:Royal Oak Farmers Market\, 316 E 11 Mile Rd\, Royal Oak\, MI\, 48067\, United States
CATEGORIES:Dinner
END:VEVENT
BEGIN:VEVENT
DTSTART;TZID=America/Detroit:20220803T180000
DTEND;TZID=America/Detroit:20220803T210000
DTSTAMP:20260425T094412
CREATED:20220804T034224Z
LAST-MODIFIED:20220804T034224Z
UID:1138-1659549600-1659560400@thenudeli.com
SUMMARY:Forgotten Harvest Benefit
DESCRIPTION:
URL:https://thenudeli.com/event/forgotten-harvest-benefit/
LOCATION:Beacon Park\, 1903 Grand River Ave\, Detroit\, MI\, United States
CATEGORIES:Dinner
END:VEVENT
BEGIN:VEVENT
DTSTART;VALUE=DATE:20220730
DTEND;VALUE=DATE:20220801
DTSTAMP:20260425T094412
CREATED:20220701T024903Z
LAST-MODIFIED:20220701T024903Z
UID:1114-1659139200-1659311999@thenudeli.com
SUMMARY:Mo Pop 2022
DESCRIPTION:
URL:https://thenudeli.com/event/mo-pop-2022/
LOCATION:Hart Plaza\, Jefferson @ Woodward\, Detroit\, MI\, United States
CATEGORIES:Dinner,Festival,Lunch,Music
END:VEVENT
BEGIN:VEVENT
DTSTART;TZID=America/Detroit:20220727T170000
DTEND;TZID=America/Detroit:20220727T200000
DTSTAMP:20260425T094412
CREATED:20220701T024631Z
LAST-MODIFIED:20220701T024631Z
UID:1112-1658941200-1658952000@thenudeli.com
SUMMARY:Urbanrest Brewing\, Ferndale
DESCRIPTION:
URL:https://thenudeli.com/event/urbanrest-brewing-ferndale-10/
LOCATION:Urbanrest Brewing Company\, 2615 Wolcott Street\, Ferndale\, MI\, 48220\, United States
CATEGORIES:Brewery,Dinner
END:VEVENT
BEGIN:VEVENT
DTSTART;TZID=America/Detroit:20220727T100000
DTEND;TZID=America/Detroit:20220727T150000
DTSTAMP:20260425T094412
CREATED:20220701T024540Z
LAST-MODIFIED:20220701T024540Z
UID:1110-1658916000-1658934000@thenudeli.com
SUMMARY:Wayne State Farmers Market
DESCRIPTION:
URL:https://thenudeli.com/event/wayne-state-farmers-market-4/
LOCATION:Warren @Woodward SE Corner
CATEGORIES:Lunch,Market
END:VEVENT
BEGIN:VEVENT
DTSTART;TZID=America/Detroit:20220726T110000
DTEND;TZID=America/Detroit:20220726T190000
DTSTAMP:20260425T094412
CREATED:20220701T024440Z
LAST-MODIFIED:20220701T024440Z
UID:1108-1658833200-1658862000@thenudeli.com
SUMMARY:Spirit Plaza
DESCRIPTION:
URL:https://thenudeli.com/event/spirit-plaza-6/
LOCATION:Spirit of Detroit Plaza\, 1 Woodward Avenue\, Detroit\, MI\, United States
CATEGORIES:Dinner,Lunch,Music
END:VEVENT
BEGIN:VEVENT
DTSTART;TZID=America/Detroit:20220725T110000
DTEND;TZID=America/Detroit:20220725T150000
DTSTAMP:20260425T094412
CREATED:20220701T024358Z
LAST-MODIFIED:20220701T024358Z
UID:1106-1658746800-1658761200@thenudeli.com
SUMMARY:Downtown Street Eats\, Cadillac Square
DESCRIPTION:
URL:https://thenudeli.com/event/downtown-street-eats-cadillac-square-16/
LOCATION:Campus Martius Park\, 800 Woodward Ave\, Detroit\, MI\, 48226\, United States
CATEGORIES:Lunch
END:VEVENT
BEGIN:VEVENT
DTSTART;TZID=America/Detroit:20220723T170000
DTEND;TZID=America/Detroit:20220723T200000
DTSTAMP:20260425T094412
CREATED:20220723T055356Z
LAST-MODIFIED:20220723T055356Z
UID:1120-1658595600-1658606400@thenudeli.com
SUMMARY:Livonia Community Rally
DESCRIPTION:
URL:https://thenudeli.com/event/livonia-community-rally/
LOCATION:Jack Kirksey Recreation Center\, 15100 Hubbard St\, Livonia\, 48154\, United States
CATEGORIES:Dinner,Rally
END:VEVENT
END:VCALENDAR