BEGIN:VCALENDAR
VERSION:2.0
PRODID:-//Nu Deli - ECPv6.15.1.1//NONSGML v1.0//EN
CALSCALE:GREGORIAN
METHOD:PUBLISH
X-WR-CALNAME:Nu Deli
X-ORIGINAL-URL:https://thenudeli.com
X-WR-CALDESC:Events for Nu Deli
REFRESH-INTERVAL;VALUE=DURATION:PT1H
X-Robots-Tag:noindex
X-PUBLISHED-TTL:PT1H
BEGIN:VTIMEZONE
TZID:America/Detroit
BEGIN:DAYLIGHT
TZOFFSETFROM:-0500
TZOFFSETTO:-0400
TZNAME:EDT
DTSTART:20220313T070000
END:DAYLIGHT
BEGIN:STANDARD
TZOFFSETFROM:-0400
TZOFFSETTO:-0500
TZNAME:EST
DTSTART:20221106T060000
END:STANDARD
BEGIN:DAYLIGHT
TZOFFSETFROM:-0500
TZOFFSETTO:-0400
TZNAME:EDT
DTSTART:20230312T070000
END:DAYLIGHT
BEGIN:STANDARD
TZOFFSETFROM:-0400
TZOFFSETTO:-0500
TZNAME:EST
DTSTART:20231105T060000
END:STANDARD
END:VTIMEZONE
BEGIN:VEVENT
DTSTART;TZID=America/Detroit:20230607T170000
DTEND;TZID=America/Detroit:20230607T200000
DTSTAMP:20260425T063811
CREATED:20230531T171038Z
LAST-MODIFIED:20230531T171038Z
UID:1257-1686157200-1686168000@thenudeli.com
SUMMARY:Bingham Woods neighborhood rally
DESCRIPTION:
URL:https://thenudeli.com/event/bingham-woods-neighborhood-rally/
LOCATION:Bingham Woods Clubhouse\, 30760 River Crossing St\, Bingham Farms\, 48025\, United States
CATEGORIES:Dinner
END:VEVENT
BEGIN:VEVENT
DTSTART;TZID=America/Detroit:20230606T160000
DTEND;TZID=America/Detroit:20230606T210000
DTSTAMP:20260425T063811
CREATED:20230531T170849Z
LAST-MODIFIED:20230531T170849Z
UID:1253-1686067200-1686085200@thenudeli.com
SUMMARY:Business of Food Summit
DESCRIPTION:
URL:https://thenudeli.com/event/business-of-food-summit/
LOCATION:The Eastern\, 3434 Russell St\, Detroit\, MI\, 48207\, United States
CATEGORIES:Dinner,Rally,Tasting
END:VEVENT
BEGIN:VEVENT
DTSTART;TZID=America/Detroit:20230604T080000
DTEND;TZID=America/Detroit:20230604T190000
DTSTAMP:20260425T063811
CREATED:20230531T170439Z
LAST-MODIFIED:20230531T170439Z
UID:1251-1685865600-1685905200@thenudeli.com
SUMMARY:Detroit Grand Prix food court
DESCRIPTION:
URL:https://thenudeli.com/event/detroit-grand-prix-food-court-3/
LOCATION:Detroit Grand Prix food court\, Franklin St\, Detroit\, MI\, 48226\, United States
CATEGORIES:Breakfast,Dinner,Festival,Game Day,Lunch,Rally
END:VEVENT
BEGIN:VEVENT
DTSTART;TZID=America/Detroit:20230603T080000
DTEND;TZID=America/Detroit:20230603T190000
DTSTAMP:20260425T063811
CREATED:20230531T170343Z
LAST-MODIFIED:20230531T170343Z
UID:1249-1685779200-1685818800@thenudeli.com
SUMMARY:Detroit Grand Prix food court
DESCRIPTION:
URL:https://thenudeli.com/event/detroit-grand-prix-food-court-2/
LOCATION:Detroit Grand Prix food court\, Franklin St\, Detroit\, MI\, 48226\, United States
CATEGORIES:Breakfast,Dinner,Festival,Game Day,Lunch,Rally
END:VEVENT
BEGIN:VEVENT
DTSTART;TZID=America/Detroit:20230602T080000
DTEND;TZID=America/Detroit:20230602T190000
DTSTAMP:20260425T063811
CREATED:20230531T165929Z
LAST-MODIFIED:20230531T165929Z
UID:1245-1685692800-1685732400@thenudeli.com
SUMMARY:Detroit Grand Prix food court
DESCRIPTION:
URL:https://thenudeli.com/event/detroit-grand-prix-food-court/
LOCATION:Detroit Grand Prix food court\, Franklin St\, Detroit\, MI\, 48226\, United States
CATEGORIES:Breakfast,Dinner,Festival,Game Day,Lunch,Rally
END:VEVENT
BEGIN:VEVENT
DTSTART;TZID=America/Detroit:20230601T110000
DTEND;TZID=America/Detroit:20230601T150000
DTSTAMP:20260425T063811
CREATED:20230531T165017Z
LAST-MODIFIED:20230531T165017Z
UID:1243-1685617200-1685631600@thenudeli.com
SUMMARY:Downtown Street Eats @ Cadillac Square
DESCRIPTION:
URL:https://thenudeli.com/event/downtown-street-eats-cadillac-square-22/
LOCATION:Campus Martius Park\, 800 Woodward Ave\, Detroit\, MI\, 48226\, United States
CATEGORIES:Lunch
END:VEVENT
BEGIN:VEVENT
DTSTART;TZID=America/Detroit:20230531T170000
DTEND;TZID=America/Detroit:20230531T200000
DTSTAMP:20260425T063811
CREATED:20230512T173756Z
LAST-MODIFIED:20230512T173756Z
UID:1227-1685552400-1685563200@thenudeli.com
SUMMARY:Novi Meadows PTO 5K
DESCRIPTION:
URL:https://thenudeli.com/event/novi-meadows-pto-5k/
LOCATION:Novi Meadows Elementary\, 25299 Taft Rd\, Novi\, MI\, 48374\, United States
CATEGORIES:Dinner,Game Day,Rally
END:VEVENT
BEGIN:VEVENT
DTSTART;TZID=America/Detroit:20230527T090000
DTEND;TZID=America/Detroit:20230527T150000
DTSTAMP:20260425T063811
CREATED:20230512T173259Z
LAST-MODIFIED:20230512T173259Z
UID:1223-1685178000-1685199600@thenudeli.com
SUMMARY:Eastern Market\, Shed 5 Plaza
DESCRIPTION:
URL:https://thenudeli.com/event/eastern-market-shed-5-plaza-11/
LOCATION:Shed 5\, Eastern Market
CATEGORIES:Breakfast,Lunch,Market
END:VEVENT
BEGIN:VEVENT
DTSTART;TZID=America/Detroit:20230521T070000
DTEND;TZID=America/Detroit:20230521T170000
DTSTAMP:20260425T063811
CREATED:20230512T173155Z
LAST-MODIFIED:20230512T173155Z
UID:1221-1684652400-1684688400@thenudeli.com
SUMMARY:Flower Day @ Eastern Market
DESCRIPTION:
URL:https://thenudeli.com/event/flower-day-eastern-market-3/
LOCATION:Eastern Market\, Shed 5\, Russell Street\, Detroit\, MI\, United States
CATEGORIES:Breakfast,Lunch,Market
END:VEVENT
BEGIN:VEVENT
DTSTART;TZID=America/Detroit:20230519T120000
DTEND;TZID=America/Detroit:20230519T190000
DTSTAMP:20260425T063811
CREATED:20230512T165806Z
LAST-MODIFIED:20230512T165806Z
UID:1218-1684497600-1684522800@thenudeli.com
SUMMARY:East Warren Farmers' Market Food Truck Fridays
DESCRIPTION:
URL:https://thenudeli.com/event/east-warren-farmers-market-food-truck-fridays/
LOCATION:East Warren Farmers’ Market\, 16835 E Warren Ave\, Detroit\, Michigan\, 48224\, United States
CATEGORIES:Dinner,Lunch,Market
END:VEVENT
BEGIN:VEVENT
DTSTART;TZID=America/Detroit:20230513T100000
DTEND;TZID=America/Detroit:20230513T150000
DTSTAMP:20260425T063811
CREATED:20230512T173435Z
LAST-MODIFIED:20230512T173435Z
UID:1225-1683972000-1683990000@thenudeli.com
SUMMARY:Product tasting @ Rocky Peanut Co.
DESCRIPTION:
URL:https://thenudeli.com/event/product-tasting-rocky-peanut-co/
LOCATION:Eastern Market\, Shed 5\, Russell Street\, Detroit\, MI\, United States
CATEGORIES:Tasting
END:VEVENT
BEGIN:VEVENT
DTSTART;TZID=America/Detroit:20221005T170000
DTEND;TZID=America/Detroit:20221005T200000
DTSTAMP:20260425T063811
CREATED:20221005T131618Z
LAST-MODIFIED:20221005T131618Z
UID:1211-1664989200-1665000000@thenudeli.com
SUMMARY:Urbanrest Brewing\, Ferndale
DESCRIPTION:
URL:https://thenudeli.com/event/urbanrest-brewing-ferndale-13/
LOCATION:Urbanrest Brewing Company\, 2615 Wolcott Street\, Ferndale\, MI\, 48220\, United States
CATEGORIES:Brewery,Dinner
END:VEVENT
BEGIN:VEVENT
DTSTART;TZID=America/Detroit:20221005T110000
DTEND;TZID=America/Detroit:20221005T133000
DTSTAMP:20260425T063811
CREATED:20220927T024654Z
LAST-MODIFIED:20220927T024654Z
UID:1209-1664967600-1664976600@thenudeli.com
SUMMARY:3000 Town Center\, Southfield
DESCRIPTION:
URL:https://thenudeli.com/event/3000-town-center-southfield-7/
LOCATION:Southfield Town Center\, 3000 Town Center\, Southfield\, MI\, 48075\, United States
CATEGORIES:Lunch
END:VEVENT
BEGIN:VEVENT
DTSTART;TZID=America/Detroit:20221003T120000
DTEND;TZID=America/Detroit:20221004T140000
DTSTAMP:20260425T063811
CREATED:20220927T024542Z
LAST-MODIFIED:20220927T024542Z
UID:1205-1664798400-1664892000@thenudeli.com
SUMMARY:Forbes Under 30 Summit
DESCRIPTION:
URL:https://thenudeli.com/event/forbes-under-30-summit/
LOCATION:Detroit Opera\, 1526 Broadway\, Detroit\, MI\, 48226\, United States
CATEGORIES:Festival,Lunch
END:VEVENT
BEGIN:VEVENT
DTSTART;TZID=America/Detroit:20221001T120000
DTEND;TZID=America/Detroit:20221001T150000
DTSTAMP:20260425T063811
CREATED:20220927T023957Z
LAST-MODIFIED:20220927T023957Z
UID:1202-1664625600-1664636400@thenudeli.com
SUMMARY:Detroit Country Day School Homecoming
DESCRIPTION:
URL:https://thenudeli.com/event/detroit-country-day-school-homecoming/
LOCATION:Detroit Country Day School\, 13 Mile Rd & Lahser Rd\, Beverly Hills\, MI\, United States
CATEGORIES:Game Day,Lunch
END:VEVENT
BEGIN:VEVENT
DTSTART;TZID=America/Detroit:20220928T120000
DTEND;TZID=America/Detroit:20220928T140000
DTSTAMP:20260425T063811
CREATED:20220927T023713Z
LAST-MODIFIED:20220927T023713Z
UID:1200-1664366400-1664373600@thenudeli.com
SUMMARY:Spirit Plaza
DESCRIPTION:
URL:https://thenudeli.com/event/spirit-plaza-10/
LOCATION:Spirit of Detroit Plaza\, 1 Woodward Avenue\, Detroit\, MI\, United States
CATEGORIES:Lunch
END:VEVENT
BEGIN:VEVENT
DTSTART;TZID=America/Detroit:20220927T163000
DTEND;TZID=America/Detroit:20220927T193000
DTSTAMP:20260425T063811
CREATED:20220927T023619Z
LAST-MODIFIED:20220927T023619Z
UID:1198-1664296200-1664307000@thenudeli.com
SUMMARY:Northwood Avenue Social\, Royal Oak
DESCRIPTION:
URL:https://thenudeli.com/event/northwood-avenue-social-royal-oak/
LOCATION:Northwood Social\, Northwood Blvd & Lloyd Ave\, Royal Oak\, MI\, 48073\, United States
CATEGORIES:Dinner
END:VEVENT
BEGIN:VEVENT
DTSTART;TZID=America/Detroit:20220924T170000
DTEND;TZID=America/Detroit:20220924T210000
DTSTAMP:20260425T063811
CREATED:20220913T040120Z
LAST-MODIFIED:20220913T040120Z
UID:1196-1664038800-1664053200@thenudeli.com
SUMMARY:Urbanrest Brewing\, Ferndale
DESCRIPTION:
URL:https://thenudeli.com/event/urbanrest-brewing-ferndale-12/
LOCATION:Urbanrest Brewing Company\, 2615 Wolcott Street\, Ferndale\, MI\, 48220\, United States
CATEGORIES:Brewery,Dinner
END:VEVENT
BEGIN:VEVENT
DTSTART;TZID=America/Detroit:20220924T100000
DTEND;TZID=America/Detroit:20220924T150000
DTSTAMP:20260425T063811
CREATED:20220913T035951Z
LAST-MODIFIED:20220913T040008Z
UID:1194-1664013600-1664031600@thenudeli.com
SUMMARY:Eastern Market\, Shed 5 Plaza
DESCRIPTION:
URL:https://thenudeli.com/event/eastern-market-shed-5-plaza-10/
LOCATION:Eastern Market Plaza South\, 2599 Market Street\, Detroit\, MI\, 48207\, United States
CATEGORIES:Breakfast,Lunch,Market
END:VEVENT
BEGIN:VEVENT
DTSTART;TZID=America/Detroit:20220921T100000
DTEND;TZID=America/Detroit:20220921T150000
DTSTAMP:20260425T063811
CREATED:20220913T035825Z
LAST-MODIFIED:20220913T035825Z
UID:1192-1663754400-1663772400@thenudeli.com
SUMMARY:Wayne State Farmers Market
DESCRIPTION:
URL:https://thenudeli.com/event/wayne-state-farmers-market-5/
LOCATION:Warren @Woodward SE Corner
CATEGORIES:Lunch,Market
END:VEVENT
BEGIN:VEVENT
DTSTART;TZID=America/Detroit:20220919T110000
DTEND;TZID=America/Detroit:20220919T140000
DTSTAMP:20260425T063811
CREATED:20220913T035701Z
LAST-MODIFIED:20220913T035701Z
UID:1190-1663585200-1663596000@thenudeli.com
SUMMARY:Henry Ford Hospital\, New Center
DESCRIPTION:
URL:https://thenudeli.com/event/henry-ford-hospital-new-center-11/
LOCATION:Henry Ford Hospital\, West Grand Boulevard @ Lodge Fwy\, Detroit\, MI\, United States
CATEGORIES:Lunch
END:VEVENT
BEGIN:VEVENT
DTSTART;TZID=America/Detroit:20220915T180000
DTEND;TZID=America/Detroit:20220915T230000
DTSTAMP:20260425T063811
CREATED:20220913T035530Z
LAST-MODIFIED:20220913T035530Z
UID:1188-1663264800-1663282800@thenudeli.com
SUMMARY:Eastern Market After Dark
DESCRIPTION:
URL:https://thenudeli.com/event/eastern-market-after-dark-3/
LOCATION:Eastern Market\, Shed 5\, Russell Street\, Detroit\, MI\, United States
CATEGORIES:Dinner,Festival,Late Night,Market
END:VEVENT
BEGIN:VEVENT
DTSTART;TZID=America/Detroit:20220914T170000
DTEND;TZID=America/Detroit:20220914T200000
DTSTAMP:20260425T063811
CREATED:20220913T035407Z
LAST-MODIFIED:20220913T035407Z
UID:1186-1663174800-1663185600@thenudeli.com
SUMMARY:Urbanrest Brewing\, Ferndale
DESCRIPTION:
URL:https://thenudeli.com/event/urbanrest-brewing-ferndale-11/
LOCATION:Urbanrest Brewing Company\, 2615 Wolcott Street\, Ferndale\, MI\, 48220\, United States
CATEGORIES:Brewery,Dinner
END:VEVENT
BEGIN:VEVENT
DTSTART;TZID=America/Detroit:20220827T180000
DTEND;TZID=America/Detroit:20220827T210000
DTSTAMP:20260425T063811
CREATED:20220816T004903Z
LAST-MODIFIED:20220816T004903Z
UID:1184-1661623200-1661634000@thenudeli.com
SUMMARY:Northville Winery & Brewing
DESCRIPTION:
URL:https://thenudeli.com/event/northville-winery-brewing-2/
LOCATION:Northville Winery and Brewery\, 630 Baseline Rd\, Northville\, MI\, 48167\, United States
CATEGORIES:Brewery,Dinner,Music
END:VEVENT
BEGIN:VEVENT
DTSTART;TZID=America/Detroit:20220827T100000
DTEND;TZID=America/Detroit:20220827T150000
DTSTAMP:20260425T063811
CREATED:20220816T004809Z
LAST-MODIFIED:20220816T004809Z
UID:1182-1661594400-1661612400@thenudeli.com
SUMMARY:Eastern Market
DESCRIPTION:
URL:https://thenudeli.com/event/eastern-market-10/
LOCATION:Eastern Market Plaza South\, 2599 Market Street\, Detroit\, MI\, 48207\, United States
CATEGORIES:Breakfast,Lunch,Market
END:VEVENT
BEGIN:VEVENT
DTSTART;TZID=America/Detroit:20220826T110000
DTEND;TZID=America/Detroit:20220826T220000
DTSTAMP:20260425T063811
CREATED:20220816T004700Z
LAST-MODIFIED:20220816T004700Z
UID:1180-1661511600-1661551200@thenudeli.com
SUMMARY:Spirit Plaza
DESCRIPTION:
URL:https://thenudeli.com/event/spirit-plaza-9/
LOCATION:Spirit of Detroit Plaza\, 1 Woodward Avenue\, Detroit\, MI\, United States
CATEGORIES:Dinner,Lunch,Music
END:VEVENT
BEGIN:VEVENT
DTSTART;TZID=America/Detroit:20220825T090000
DTEND;TZID=America/Detroit:20220825T170000
DTSTAMP:20260425T063811
CREATED:20220816T004542Z
LAST-MODIFIED:20220816T004542Z
UID:1178-1661418000-1661446800@thenudeli.com
SUMMARY:WSU Freshman Orientation
DESCRIPTION:
URL:https://thenudeli.com/event/wsu-freshman-orientation/
LOCATION:Wayne State University Farmers Market\, Warren @ Woodward\, Detroit\, MI\, 48202\, United States
CATEGORIES:Breakfast,Lunch
END:VEVENT
BEGIN:VEVENT
DTSTART;TZID=America/Detroit:20220824T110000
DTEND;TZID=America/Detroit:20220824T150000
DTSTAMP:20260425T063811
CREATED:20220816T004315Z
LAST-MODIFIED:20220816T004315Z
UID:1176-1661338800-1661353200@thenudeli.com
SUMMARY:Downtown Street Eats @ Cadillac Square
DESCRIPTION:
URL:https://thenudeli.com/event/downtown-street-eats-cadillac-square-21/
LOCATION:Campus Martius Park\, 800 Woodward Ave\, Detroit\, MI\, 48226\, United States
CATEGORIES:Lunch
END:VEVENT
BEGIN:VEVENT
DTSTART;TZID=America/Detroit:20220822T110000
DTEND;TZID=America/Detroit:20220822T140000
DTSTAMP:20260425T063811
CREATED:20220816T004210Z
LAST-MODIFIED:20220816T004210Z
UID:1174-1661166000-1661176800@thenudeli.com
SUMMARY:Spirit Plaza
DESCRIPTION:
URL:https://thenudeli.com/event/spirit-plaza-8/
LOCATION:Spirit of Detroit Plaza\, 1 Woodward Avenue\, Detroit\, MI\, United States
CATEGORIES:Lunch
END:VEVENT
BEGIN:VEVENT
DTSTART;TZID=America/Detroit:20220821T110000
DTEND;TZID=America/Detroit:20220821T160000
DTSTAMP:20260425T063811
CREATED:20220816T004109Z
LAST-MODIFIED:20220816T004109Z
UID:1170-1661079600-1661097600@thenudeli.com
SUMMARY:Hazon Michigan Jewish Food Festival
DESCRIPTION:
URL:https://thenudeli.com/event/hazon-michigan-jewish-food-festival/
LOCATION:MI DNR Outdoor Adventure Center\, 1801 Atwater St\, Detroit\, MI\, 48207\, United States
CATEGORIES:Festival,Lunch
END:VEVENT
END:VCALENDAR