BEGIN:VCALENDAR
VERSION:2.0
PRODID:-//Nu Deli - ECPv6.15.1.1//NONSGML v1.0//EN
CALSCALE:GREGORIAN
METHOD:PUBLISH
X-ORIGINAL-URL:https://thenudeli.com
X-WR-CALDESC:Events for Nu Deli
REFRESH-INTERVAL;VALUE=DURATION:PT1H
X-Robots-Tag:noindex
X-PUBLISHED-TTL:PT1H
BEGIN:VTIMEZONE
TZID:America/Detroit
BEGIN:DAYLIGHT
TZOFFSETFROM:-0500
TZOFFSETTO:-0400
TZNAME:EDT
DTSTART:20250309T070000
END:DAYLIGHT
BEGIN:STANDARD
TZOFFSETFROM:-0400
TZOFFSETTO:-0500
TZNAME:EST
DTSTART:20251102T060000
END:STANDARD
END:VTIMEZONE
BEGIN:VEVENT
DTSTART;TZID=America/Detroit:20250927T170000
DTEND;TZID=America/Detroit:20250927T220000
DTSTAMP:20260423T165453
CREATED:20250919T071604Z
LAST-MODIFIED:20250919T071604Z
UID:1852-1758992400-1759010400@thenudeli.com
SUMMARY:Northville Brewery Cider Days
DESCRIPTION:
URL:https://thenudeli.com/event/northville-brewery-cider-days/
LOCATION:Northville Winery and Brewery\, 630 Baseline Rd\, Northville\, MI\, 48167\, United States
CATEGORIES:Brewery,Music
END:VEVENT
BEGIN:VEVENT
DTSTART;TZID=America/Detroit:20250927T120000
DTEND;TZID=America/Detroit:20250927T160000
DTSTAMP:20260423T165453
CREATED:20250919T062635Z
LAST-MODIFIED:20250919T062635Z
UID:1850-1758974400-1758988800@thenudeli.com
SUMMARY:Urbanrest Brewing Oktoberfest
DESCRIPTION:
URL:https://thenudeli.com/event/urbanrest-brewing-oktoberfest/
LOCATION:Urbanrest Brewing Company\, 2615 Wolcott Street\, Ferndale\, MI\, 48220\, United States
CATEGORIES:Brewery,Festival,Lunch
END:VEVENT
BEGIN:VEVENT
DTSTART;TZID=America/Detroit:20250925T110000
DTEND;TZID=America/Detroit:20250925T150000
DTSTAMP:20260423T165453
CREATED:20250919T062446Z
LAST-MODIFIED:20250919T062446Z
UID:1847-1758798000-1758812400@thenudeli.com
SUMMARY:Downtown Street Eats @ Cadillac Square
DESCRIPTION:
URL:https://thenudeli.com/event/downtown-street-eats-cadillac-square-70/
LOCATION:Campus Martius Park\, 800 Woodward Ave\, Detroit\, MI\, 48226\, United States
CATEGORIES:Lunch
END:VEVENT
BEGIN:VEVENT
DTSTART;TZID=America/Detroit:20250921T120000
DTEND;TZID=America/Detroit:20250921T160000
DTSTAMP:20260423T165453
CREATED:20250919T061738Z
LAST-MODIFIED:20250919T061738Z
UID:1843-1758456000-1758470400@thenudeli.com
SUMMARY:SuperDrew fundraiser\, Shelby Township
DESCRIPTION:Family fun fundraiser! Come on out for games\, rides and a party for SuperDrew!
URL:https://thenudeli.com/event/superdrew-fundraiser-shelby-township/
LOCATION:St. Lawrence K of C Park\, Shelby Township\, 11541 21 Mile Rd\, Shelby Township\, MI\, 48315\, United States
CATEGORIES:Festival,Fundraiser,Lunch
END:VEVENT
BEGIN:VEVENT
DTSTART;TZID=America/Detroit:20250919T170000
DTEND;TZID=America/Detroit:20250919T210000
DTSTAMP:20260423T165453
CREATED:20250919T060134Z
LAST-MODIFIED:20250919T060134Z
UID:1841-1758301200-1758315600@thenudeli.com
SUMMARY:Urbanrest Brewing\, Ferndale
DESCRIPTION:
URL:https://thenudeli.com/event/urbanrest-brewing-ferndale-35/
LOCATION:Urbanrest Brewing Company\, 2615 Wolcott Street\, Ferndale\, MI\, 48220\, United States
CATEGORIES:Brewery,Dinner
END:VEVENT
BEGIN:VEVENT
DTSTART;TZID=America/Detroit:20250918T180000
DTEND;TZID=America/Detroit:20250918T230000
DTSTAMP:20260423T165453
CREATED:20250919T060054Z
LAST-MODIFIED:20250919T060054Z
UID:1839-1758218400-1758236400@thenudeli.com
SUMMARY:Eastern Market After Dark
DESCRIPTION:
URL:https://thenudeli.com/event/eastern-market-after-dark-5/
LOCATION:Eastern Market\, Shed 5\, Russell Street\, Detroit\, MI\, United States
CATEGORIES:Dinner,Festival,Late Night,Market
END:VEVENT
BEGIN:VEVENT
DTSTART;TZID=America/Detroit:20250917T170000
DTEND;TZID=America/Detroit:20250917T200000
DTSTAMP:20260423T165453
CREATED:20250919T060003Z
LAST-MODIFIED:20250919T060003Z
UID:1837-1758128400-1758139200@thenudeli.com
SUMMARY:Ann Arbor Farmers Market
DESCRIPTION:
URL:https://thenudeli.com/event/ann-arbor-farmers-market-2/
LOCATION:Ann Arbor Farmers Market\, 315 Detroit Street\, Ann Arbor\, MI\, United States
CATEGORIES:Dinner,Market,Rally
END:VEVENT
BEGIN:VEVENT
DTSTART;TZID=America/Detroit:20250916T163000
DTEND;TZID=America/Detroit:20250916T193000
DTSTAMP:20260423T165453
CREATED:20250919T055854Z
LAST-MODIFIED:20250919T055854Z
UID:1835-1758040200-1758051000@thenudeli.com
SUMMARY:Northwood Social\, Royal Oak
DESCRIPTION:
URL:https://thenudeli.com/event/northwood-social-royal-oak-3/
LOCATION:Northwood Social\, Northwood Blvd & Lloyd Ave\, Royal Oak\, MI\, 48073\, United States
CATEGORIES:Dinner,Neighborhood
END:VEVENT
BEGIN:VEVENT
DTSTART;TZID=America/Detroit:20250916T110000
DTEND;TZID=America/Detroit:20250916T150000
DTSTAMP:20260423T165453
CREATED:20250919T055806Z
LAST-MODIFIED:20250919T055806Z
UID:1833-1758020400-1758034800@thenudeli.com
SUMMARY:Downtown Street Eats @ Cadillac Square
DESCRIPTION:
URL:https://thenudeli.com/event/downtown-street-eats-cadillac-square-69/
LOCATION:Campus Martius Park\, 800 Woodward Ave\, Detroit\, MI\, 48226\, United States
CATEGORIES:Lunch
END:VEVENT
BEGIN:VEVENT
DTSTART;TZID=America/Detroit:20250913T130000
DTEND;TZID=America/Detroit:20250913T200000
DTSTAMP:20260423T165453
CREATED:20250919T055712Z
LAST-MODIFIED:20250919T055712Z
UID:1831-1757768400-1757793600@thenudeli.com
SUMMARY:Urbanrest Brewing\, Ferndale
DESCRIPTION:
URL:https://thenudeli.com/event/urbanrest-brewing-ferndale-34/
LOCATION:Urbanrest Brewing Company\, 2615 Wolcott Street\, Ferndale\, MI\, 48220\, United States
CATEGORIES:Brewery,Dinner,Lunch
END:VEVENT
BEGIN:VEVENT
DTSTART;TZID=America/Detroit:20250912T170000
DTEND;TZID=America/Detroit:20250912T210000
DTSTAMP:20260423T165453
CREATED:20250909T083310Z
LAST-MODIFIED:20250909T083310Z
UID:1829-1757696400-1757710800@thenudeli.com
SUMMARY:Novi TasteFest
DESCRIPTION:
URL:https://thenudeli.com/event/novi-tastefest-2/
LOCATION:Novi High School\, 24062 Taft Rd\, Novi\, MI\, 48375\, United States
CATEGORIES:Dinner,Game Day,Rally
END:VEVENT
BEGIN:VEVENT
DTSTART;TZID=America/Detroit:20250911T110000
DTEND;TZID=America/Detroit:20250911T150000
DTSTAMP:20260423T165453
CREATED:20250909T080604Z
LAST-MODIFIED:20250909T083216Z
UID:1826-1757588400-1757602800@thenudeli.com
SUMMARY:Downtown Street Eats @ Cadillac Square
DESCRIPTION:
URL:https://thenudeli.com/event/downtown-street-eats-cadillac-square-68/
LOCATION:Campus Martius Park\, 800 Woodward Ave\, Detroit\, MI\, 48226\, United States
CATEGORIES:Lunch
END:VEVENT
BEGIN:VEVENT
DTSTART;TZID=America/Detroit:20250903T170000
DTEND;TZID=America/Detroit:20250903T210000
DTSTAMP:20260423T165453
CREATED:20250909T080218Z
LAST-MODIFIED:20250909T080218Z
UID:1824-1756918800-1756933200@thenudeli.com
SUMMARY:Urbanrest Brewing Bike Day
DESCRIPTION:
URL:https://thenudeli.com/event/urbanrest-brewing-bike-day/
LOCATION:Urbanrest Brewing Company\, 2615 Wolcott Street\, Ferndale\, MI\, 48220\, United States
CATEGORIES:Brewery,Dinner
END:VEVENT
BEGIN:VEVENT
DTSTART;TZID=America/Detroit:20250831T120000
DTEND;TZID=America/Detroit:20250831T170000
DTSTAMP:20260423T165453
CREATED:20250802T151917Z
LAST-MODIFIED:20250802T151917Z
UID:1822-1756641600-1756659600@thenudeli.com
SUMMARY:Detroit Sandwich Party!
DESCRIPTION:Come eat the best Detroit sandwiches with all of your best friends! \nDetroit Sandwich Party is a one-day festival for sandwich enthusiasts by sandwich enthusiasts in partnership with the North Corktown Neighborhood Association and Eastern Market Corporation. Growing from Carlos Parisi and friends’ Detroit Sandwich Week every December\, the summer Detroit Sandwich Party pays homage to the great sandwich makers of our beautiful city. \nAs the title suggests\, we gather as a community to celebrate the humble and delicious creation that is the sandwich. Sandwich party-ers will have the opportunity to purchase as many small-format sandwiches as they’d like from all around Detroit. Anyone who enjoys eating sandwiches is welcome to join us in our revelry that will include music\, drinks\, and of course\, many many sandwiches. The Party is free to attend!
URL:https://thenudeli.com/event/detroit-sandwich-party-2/
LOCATION:Shed 5\, Eastern Market
CATEGORIES:Festival
END:VEVENT
BEGIN:VEVENT
DTSTART;TZID=America/Detroit:20250830T170000
DTEND;TZID=America/Detroit:20250830T210000
DTSTAMP:20260423T165453
CREATED:20250802T151653Z
LAST-MODIFIED:20250802T151653Z
UID:1820-1756573200-1756587600@thenudeli.com
SUMMARY:Urbanrest Brewing\, Ferndale
DESCRIPTION:
URL:https://thenudeli.com/event/urbanrest-brewing-ferndale-33/
LOCATION:Urbanrest Brewing Company\, 2615 Wolcott Street\, Ferndale\, MI\, 48220\, United States
CATEGORIES:Brewery,Dinner
END:VEVENT
BEGIN:VEVENT
DTSTART;TZID=America/Detroit:20250823T120000
DTEND;TZID=America/Detroit:20250823T160000
DTSTAMP:20260423T165453
CREATED:20250802T151610Z
LAST-MODIFIED:20250802T151610Z
UID:1818-1755950400-1755964800@thenudeli.com
SUMMARY:Urbanrest Brewing\, Ferndale
DESCRIPTION:
URL:https://thenudeli.com/event/urbanrest-brewing-ferndale-32/
LOCATION:Urbanrest Brewing Company\, 2615 Wolcott Street\, Ferndale\, MI\, 48220\, United States
CATEGORIES:Brewery,Lunch
END:VEVENT
BEGIN:VEVENT
DTSTART;TZID=America/Detroit:20250821T170000
DTEND;TZID=America/Detroit:20250821T220000
DTSTAMP:20260423T165453
CREATED:20250802T151534Z
LAST-MODIFIED:20250802T151534Z
UID:1816-1755795600-1755813600@thenudeli.com
SUMMARY:Northville Winery & Brewing Co.
DESCRIPTION:
URL:https://thenudeli.com/event/northville-winery-brewing-co-9/
LOCATION:Northville Winery and Brewery\, 630 Baseline Rd\, Northville\, MI\, 48167\, United States
CATEGORIES:Brewery,Dinner
END:VEVENT
BEGIN:VEVENT
DTSTART;TZID=America/Detroit:20250821T110000
DTEND;TZID=America/Detroit:20250821T150000
DTSTAMP:20260423T165453
CREATED:20250802T151455Z
LAST-MODIFIED:20250802T151455Z
UID:1814-1755774000-1755788400@thenudeli.com
SUMMARY:Downtown Street Eats @ Cadillac Square
DESCRIPTION:
URL:https://thenudeli.com/event/downtown-street-eats-cadillac-square-67/
LOCATION:Campus Martius Park\, 800 Woodward Ave\, Detroit\, MI\, 48226\, United States
CATEGORIES:Lunch
END:VEVENT
BEGIN:VEVENT
DTSTART;TZID=America/Detroit:20250820T170000
DTEND;TZID=America/Detroit:20250820T200000
DTSTAMP:20260423T165453
CREATED:20250802T151404Z
LAST-MODIFIED:20250802T151404Z
UID:1812-1755709200-1755720000@thenudeli.com
SUMMARY:Ann Arbor ¡Plant Based! Food Truck Rally
DESCRIPTION:Same rally\, special menu! This installment of the Kerrytown favorite is going entirely vegan. We’ll be showing off our Nu Reuben\, Nu Dog\, Coneys and Black Chickpea Sliders while keeping it 100% plant-based. Check it out!
URL:https://thenudeli.com/event/ann-arbor-plant-based-food-truck-rally/
LOCATION:Ann Arbor Farmers Market\, 315 Detroit Street\, Ann Arbor\, MI\, United States
CATEGORIES:Dinner,Market,Rally
END:VEVENT
BEGIN:VEVENT
DTSTART;TZID=America/Detroit:20250817T100000
DTEND;TZID=America/Detroit:20250817T140000
DTSTAMP:20260423T165453
CREATED:20250802T151024Z
LAST-MODIFIED:20250802T151024Z
UID:1810-1755424800-1755439200@thenudeli.com
SUMMARY:Cooking Demo at Stand 44\, Greenfield Village
DESCRIPTION:We’re honored to have been selected as part of the Guest Chef program at The Henry Ford\, America’s premier historical attraction. At the heart of Greenfield Village is Stand 44\, a chef-driven\, sustainable restaurant with rotating attractions. They’re serving Nu Deli’s exclusive recipes all month:  \nCrispy Okra Taco\nGaram Masala–Smoked Pastrami Biryani Bowl \nMatt Daniels of Nu Deli will be conducting cooking demonstrations during Greenfield Village’s market day on Sunday\, August 17. Come down and find us making history!
URL:https://thenudeli.com/event/cooking-demo-at-stand-44-greenfield-village/
LOCATION:Greenfield VIllage\, Stand 44\, 1869 Main St\, Dearborn\, MI\, 48124\, United States
CATEGORIES:Lunch,Market,Popup,Tasting
END:VEVENT
BEGIN:VEVENT
DTSTART;TZID=America/Detroit:20250816T090000
DTEND;TZID=America/Detroit:20250816T150000
DTSTAMP:20260423T165453
CREATED:20250802T143900Z
LAST-MODIFIED:20250802T143900Z
UID:1808-1755334800-1755356400@thenudeli.com
SUMMARY:Eastern Market\, Shed 5 Plaza
DESCRIPTION:
URL:https://thenudeli.com/event/eastern-market-shed-5-plaza-28/
LOCATION:Shed 5\, Eastern Market
CATEGORIES:Breakfast,Lunch,Market
END:VEVENT
BEGIN:VEVENT
DTSTART;TZID=America/Detroit:20250814T170000
DTEND;TZID=America/Detroit:20250814T210000
DTSTAMP:20260423T165453
CREATED:20250802T143825Z
LAST-MODIFIED:20250802T143825Z
UID:1806-1755190800-1755205200@thenudeli.com
SUMMARY:Urbanrest Brewing\, Ferndale
DESCRIPTION:
URL:https://thenudeli.com/event/urbanrest-brewing-ferndale-31/
LOCATION:Urbanrest Brewing Company\, 2615 Wolcott Street\, Ferndale\, MI\, 48220\, United States
CATEGORIES:Brewery,Dinner
END:VEVENT
BEGIN:VEVENT
DTSTART;TZID=America/Detroit:20250814T080000
DTEND;TZID=America/Detroit:20250814T170000
DTSTAMP:20260423T165453
CREATED:20250802T143748Z
LAST-MODIFIED:20250802T143748Z
UID:1803-1755158400-1755190800@thenudeli.com
SUMMARY:Sumitomo HQ\, Farmington Hills
DESCRIPTION:
URL:https://thenudeli.com/event/sumitomo-hq-farmington-hills/
LOCATION:Sumitomo\, 27360 Drake Rd\, Farmington Hills\, MI\, 48331\, United States
CATEGORIES:Lunch
END:VEVENT
BEGIN:VEVENT
DTSTART;TZID=America/Detroit:20250812T110000
DTEND;TZID=America/Detroit:20250812T150000
DTSTAMP:20260423T165453
CREATED:20250802T143649Z
LAST-MODIFIED:20250802T143649Z
UID:1801-1754996400-1755010800@thenudeli.com
SUMMARY:Downtown Street Eats @ Cadillac Square
DESCRIPTION:
URL:https://thenudeli.com/event/downtown-street-eats-cadillac-square-66/
LOCATION:Campus Martius Park\, 800 Woodward Ave\, Detroit\, MI\, 48226\, United States
CATEGORIES:Lunch
END:VEVENT
BEGIN:VEVENT
DTSTART;TZID=America/Detroit:20250810T120000
DTEND;TZID=America/Detroit:20250810T200000
DTSTAMP:20260423T165453
CREATED:20250802T143607Z
LAST-MODIFIED:20250802T143607Z
UID:1799-1754827200-1754856000@thenudeli.com
SUMMARY:Six Spoke Brewing Opening
DESCRIPTION:
URL:https://thenudeli.com/event/six-spoke-brewing-opening/
LOCATION:Six Spoke Brewing\, 2445 Michigan Ave\, Detroit\, MI\, 48216\, United States
CATEGORIES:Brewery,Dinner,Lunch
END:VEVENT
BEGIN:VEVENT
DTSTART;TZID=America/Detroit:20250809T120000
DTEND;TZID=America/Detroit:20250809T160000
DTSTAMP:20260423T165453
CREATED:20250802T143416Z
LAST-MODIFIED:20250802T143416Z
UID:1797-1754740800-1754755200@thenudeli.com
SUMMARY:Indi-Soul Popup with Experience Relish
DESCRIPTION:We’re thrilled to share a hot line with our friends and inspirations\, Experience Relish. On the menu: \nVegan Nu Reuben\nRajma chili cheese fries\nBlack chickpea sliders\nSmoked buffalo wings\nStreet corn 3 ways\nTamarind lemonade
URL:https://thenudeli.com/event/indi-soul-popup-with-experience-relish/
LOCATION:Peace Tree Park\, 3409 E Vernor Hwy\, Detroit\, MI\, 48207\, United States
CATEGORIES:Lunch,Popup
END:VEVENT
BEGIN:VEVENT
DTSTART;TZID=America/Detroit:20250808T170000
DTEND;TZID=America/Detroit:20250808T210000
DTSTAMP:20260423T165453
CREATED:20250802T143131Z
LAST-MODIFIED:20250802T143131Z
UID:1795-1754672400-1754686800@thenudeli.com
SUMMARY:Urbanrest Brewing\, Ferndale
DESCRIPTION:
URL:https://thenudeli.com/event/urbanrest-brewing-ferndale-30/
LOCATION:Urbanrest Brewing Company\, 2615 Wolcott Street\, Ferndale\, MI\, 48220\, United States
CATEGORIES:Brewery,Dinner
END:VEVENT
BEGIN:VEVENT
DTSTART;TZID=America/Detroit:20250807T170000
DTEND;TZID=America/Detroit:20250807T220000
DTSTAMP:20260423T165453
CREATED:20250802T143041Z
LAST-MODIFIED:20250802T143041Z
UID:1792-1754586000-1754604000@thenudeli.com
SUMMARY:Six Spoke Brewing Pre-Opening
DESCRIPTION:
URL:https://thenudeli.com/event/six-spoke-brewing-pre-opening/
LOCATION:Six Spoke Brewing\, 2445 Michigan Ave\, Detroit\, MI\, 48216\, United States
CATEGORIES:Brewery,Dinner
END:VEVENT
BEGIN:VEVENT
DTSTART;TZID=America/Detroit:20250806T163000
DTEND;TZID=America/Detroit:20250806T193000
DTSTAMP:20260423T165453
CREATED:20250802T142703Z
LAST-MODIFIED:20250802T142703Z
UID:1789-1754497800-1754508600@thenudeli.com
SUMMARY:Palmer Park Farmers Market
DESCRIPTION:At the corner of 7 Mile & Woodward.
URL:https://thenudeli.com/event/palmer-park-farmers-market/
LOCATION:Palmer Park\, 910 Merrill Plaisance St\, Detroit\, MI\, 48203\, United States
CATEGORIES:Dinner,Market
END:VEVENT
BEGIN:VEVENT
DTSTART;TZID=America/Detroit:20250806T110000
DTEND;TZID=America/Detroit:20250806T150000
DTSTAMP:20260423T165453
CREATED:20250802T142412Z
LAST-MODIFIED:20250802T142412Z
UID:1787-1754478000-1754492400@thenudeli.com
SUMMARY:Downtown Street Eats @ Cadillac Square
DESCRIPTION:
URL:https://thenudeli.com/event/downtown-street-eats-cadillac-square-65/
LOCATION:Campus Martius Park\, 800 Woodward Ave\, Detroit\, MI\, 48226\, United States
CATEGORIES:Lunch
END:VEVENT
END:VCALENDAR