BEGIN:VCALENDAR
VERSION:2.0
PRODID:-//Nu Deli - ECPv6.15.1.1//NONSGML v1.0//EN
CALSCALE:GREGORIAN
METHOD:PUBLISH
X-ORIGINAL-URL:https://thenudeli.com
X-WR-CALDESC:Events for Nu Deli
REFRESH-INTERVAL;VALUE=DURATION:PT1H
X-Robots-Tag:noindex
X-PUBLISHED-TTL:PT1H
BEGIN:VTIMEZONE
TZID:America/Detroit
BEGIN:DAYLIGHT
TZOFFSETFROM:-0500
TZOFFSETTO:-0400
TZNAME:EDT
DTSTART:20210314T070000
END:DAYLIGHT
BEGIN:STANDARD
TZOFFSETFROM:-0400
TZOFFSETTO:-0500
TZNAME:EST
DTSTART:20211107T060000
END:STANDARD
BEGIN:DAYLIGHT
TZOFFSETFROM:-0500
TZOFFSETTO:-0400
TZNAME:EDT
DTSTART:20220313T070000
END:DAYLIGHT
BEGIN:STANDARD
TZOFFSETFROM:-0400
TZOFFSETTO:-0500
TZNAME:EST
DTSTART:20221106T060000
END:STANDARD
BEGIN:DAYLIGHT
TZOFFSETFROM:-0500
TZOFFSETTO:-0400
TZNAME:EDT
DTSTART:20230312T070000
END:DAYLIGHT
BEGIN:STANDARD
TZOFFSETFROM:-0400
TZOFFSETTO:-0500
TZNAME:EST
DTSTART:20231105T060000
END:STANDARD
BEGIN:DAYLIGHT
TZOFFSETFROM:-0500
TZOFFSETTO:-0400
TZNAME:EDT
DTSTART:20240310T070000
END:DAYLIGHT
BEGIN:STANDARD
TZOFFSETFROM:-0400
TZOFFSETTO:-0500
TZNAME:EST
DTSTART:20241103T060000
END:STANDARD
BEGIN:DAYLIGHT
TZOFFSETFROM:-0500
TZOFFSETTO:-0400
TZNAME:EDT
DTSTART:20250309T070000
END:DAYLIGHT
BEGIN:STANDARD
TZOFFSETFROM:-0400
TZOFFSETTO:-0500
TZNAME:EST
DTSTART:20251102T060000
END:STANDARD
END:VTIMEZONE
BEGIN:VEVENT
DTSTART;TZID=America/Detroit:20250817T100000
DTEND;TZID=America/Detroit:20250817T140000
DTSTAMP:20260424T023256
CREATED:20250802T151024Z
LAST-MODIFIED:20250802T151024Z
UID:1810-1755424800-1755439200@thenudeli.com
SUMMARY:Cooking Demo at Stand 44\, Greenfield Village
DESCRIPTION:We’re honored to have been selected as part of the Guest Chef program at The Henry Ford\, America’s premier historical attraction. At the heart of Greenfield Village is Stand 44\, a chef-driven\, sustainable restaurant with rotating attractions. They’re serving Nu Deli’s exclusive recipes all month:  \nCrispy Okra Taco\nGaram Masala–Smoked Pastrami Biryani Bowl \nMatt Daniels of Nu Deli will be conducting cooking demonstrations during Greenfield Village’s market day on Sunday\, August 17. Come down and find us making history!
URL:https://thenudeli.com/event/cooking-demo-at-stand-44-greenfield-village/
LOCATION:Greenfield VIllage\, Stand 44\, 1869 Main St\, Dearborn\, MI\, 48124\, United States
CATEGORIES:Lunch,Market,Popup,Tasting
END:VEVENT
BEGIN:VEVENT
DTSTART;TZID=America/Detroit:20250809T120000
DTEND;TZID=America/Detroit:20250809T160000
DTSTAMP:20260424T023256
CREATED:20250802T143416Z
LAST-MODIFIED:20250802T143416Z
UID:1797-1754740800-1754755200@thenudeli.com
SUMMARY:Indi-Soul Popup with Experience Relish
DESCRIPTION:We’re thrilled to share a hot line with our friends and inspirations\, Experience Relish. On the menu: \nVegan Nu Reuben\nRajma chili cheese fries\nBlack chickpea sliders\nSmoked buffalo wings\nStreet corn 3 ways\nTamarind lemonade
URL:https://thenudeli.com/event/indi-soul-popup-with-experience-relish/
LOCATION:Peace Tree Park\, 3409 E Vernor Hwy\, Detroit\, MI\, 48207\, United States
CATEGORIES:Lunch,Popup
END:VEVENT
BEGIN:VEVENT
DTSTART;VALUE=DATE:20250801
DTEND;VALUE=DATE:20250901
DTSTAMP:20260424T023256
CREATED:20250802T142314Z
LAST-MODIFIED:20250802T142314Z
UID:1783-1754006400-1756684799@thenudeli.com
SUMMARY:Guest Chef at Stand 44\, Greenfield Village
DESCRIPTION:We’re honored to have been selected as part of the Guest Chef program at The Henry Ford\, America’s premier historical attraction. At the heart of Greenfield Village is Stand 44\, a chef-driven\, sustainable restaurant with rotating attractions. They’re serving Nu Deli’s exclusive recipes all month: \nCrispy Okra Taco\nGaram Masala–Smoked Pastrami Biryani Bowl
URL:https://thenudeli.com/event/guest-chef-at-stand-44/
LOCATION:Greenfield VIllage\, Stand 44\, 1869 Main St\, Dearborn\, MI\, 48124\, United States
CATEGORIES:Popup
END:VEVENT
BEGIN:VEVENT
DTSTART;TZID=America/Detroit:20240607T173000
DTEND;TZID=America/Detroit:20240607T233000
DTSTAMP:20260424T023256
CREATED:20240529T220910Z
LAST-MODIFIED:20240529T220910Z
UID:1522-1717781400-1717803000@thenudeli.com
SUMMARY:Frame 5-course dinner\, Hazel Park
DESCRIPTION:5-course dinner\, seatings at 5:30 & 8:30 \nFRAME again \n1. WANDERING\nKohlrabi carpaccio\nGreen apple\, beetroot\, cucumber\nCurry leaf crispies\nRaw mango vinaigrette \n2. GOA\nSemolina-fried fish/gourds/plantain/aubergine\nChutneys\n‘Koshimbir’ slaw \n3. MALABAR\nCoin parathas\nCoconut curry\nIndian veggies: drumsticks\, bottle gourd\, cluster bean\nPickles \nX. MONSOON INTERLUDE\nKokum granita \n4. JUDAICA\nPastrami biryani\nSmoked brisket\nAromatic basmati rice\nSpicy peanut ‘salan’\nCrispy onions\nPapad\, raita \n5. HOME\nChai cheesecake\nParle-G crumble\nSoan papdi
URL:https://thenudeli.com/event/frame-5-course-dinner-hazel-park/
LOCATION:Frame Hazel Park\, 23839 John R\, Hazel Park\, 48030\, United States
CATEGORIES:Dinner,Popup
END:VEVENT
BEGIN:VEVENT
DTSTART;TZID=America/Detroit:20230917T160000
DTEND;TZID=America/Detroit:20230917T190000
DTSTAMP:20260424T023256
CREATED:20230902T013305Z
LAST-MODIFIED:20230902T013305Z
UID:1461-1694966400-1694977200@thenudeli.com
SUMMARY:IndiSoul pop-up with Experience Relish
DESCRIPTION:Back for more! Another year\, another delicious collaboration with Experience Relish. (This time\, we’re going non-vegan.) Watch us light up the Peace Tree Park dome with incredible flavors and new combinations you’ve never seen. Look out\, Southwest.
URL:https://thenudeli.com/event/indisoul-pop-up-with-experience-relish/
LOCATION:Peace Tree Park\, 3409 E Vernor Hwy\, Detroit\, MI\, 48207\, United States
CATEGORIES:Dinner,Fundraiser,Popup
END:VEVENT
BEGIN:VEVENT
DTSTART;TZID=America/Detroit:20210918T160000
DTEND;TZID=America/Detroit:20210918T190000
DTSTAMP:20260424T023256
CREATED:20210909T020629Z
LAST-MODIFIED:20210909T020629Z
UID:1000-1631980800-1631991600@thenudeli.com
SUMMARY:Indi-Soul street food @ FOLK
DESCRIPTION:Our long-awaited collaboration with Relish Catering is here. See more on Instagram @folkdetroit.
URL:https://thenudeli.com/event/indi-soul-street-food-folk/
LOCATION:FOLK Detroit\, 1701 Trumbull\, Detroit\, MI\, 48216\, United States
CATEGORIES:Popup
END:VEVENT
END:VCALENDAR