BEGIN:VCALENDAR
VERSION:2.0
PRODID:-//Nu Deli - ECPv6.15.1.1//NONSGML v1.0//EN
CALSCALE:GREGORIAN
METHOD:PUBLISH
X-ORIGINAL-URL:https://thenudeli.com
X-WR-CALDESC:Events for Nu Deli
REFRESH-INTERVAL;VALUE=DURATION:PT1H
X-Robots-Tag:noindex
X-PUBLISHED-TTL:PT1H
BEGIN:VTIMEZONE
TZID:America/Detroit
BEGIN:DAYLIGHT
TZOFFSETFROM:-0500
TZOFFSETTO:-0400
TZNAME:EDT
DTSTART:20190310T070000
END:DAYLIGHT
BEGIN:STANDARD
TZOFFSETFROM:-0400
TZOFFSETTO:-0500
TZNAME:EST
DTSTART:20191103T060000
END:STANDARD
BEGIN:DAYLIGHT
TZOFFSETFROM:-0500
TZOFFSETTO:-0400
TZNAME:EDT
DTSTART:20200308T070000
END:DAYLIGHT
BEGIN:STANDARD
TZOFFSETFROM:-0400
TZOFFSETTO:-0500
TZNAME:EST
DTSTART:20201101T060000
END:STANDARD
BEGIN:DAYLIGHT
TZOFFSETFROM:-0500
TZOFFSETTO:-0400
TZNAME:EDT
DTSTART:20210314T070000
END:DAYLIGHT
BEGIN:STANDARD
TZOFFSETFROM:-0400
TZOFFSETTO:-0500
TZNAME:EST
DTSTART:20211107T060000
END:STANDARD
BEGIN:DAYLIGHT
TZOFFSETFROM:-0500
TZOFFSETTO:-0400
TZNAME:EDT
DTSTART:20220313T070000
END:DAYLIGHT
BEGIN:STANDARD
TZOFFSETFROM:-0400
TZOFFSETTO:-0500
TZNAME:EST
DTSTART:20221106T060000
END:STANDARD
BEGIN:DAYLIGHT
TZOFFSETFROM:-0500
TZOFFSETTO:-0400
TZNAME:EDT
DTSTART:20230312T070000
END:DAYLIGHT
BEGIN:STANDARD
TZOFFSETFROM:-0400
TZOFFSETTO:-0500
TZNAME:EST
DTSTART:20231105T060000
END:STANDARD
END:VTIMEZONE
BEGIN:VEVENT
DTSTART;TZID=America/Detroit:20230831T180000
DTEND;TZID=America/Detroit:20230831T220000
DTSTAMP:20260424T010051
CREATED:20230730T165438Z
LAST-MODIFIED:20230730T165438Z
UID:1433-1693504800-1693519200@thenudeli.com
SUMMARY:House Night @ The Congregation
DESCRIPTION:
URL:https://thenudeli.com/event/house-night-the-congregation-3/
LOCATION:The Congregation\, 9321 Rosa Parks Blvd\, Detroit\, MI\, 48206\, United States
CATEGORIES:Dinner,Music
END:VEVENT
BEGIN:VEVENT
DTSTART;TZID=America/Detroit:20230817T160000
DTEND;TZID=America/Detroit:20230817T190000
DTSTAMP:20260424T010051
CREATED:20230808T181850Z
LAST-MODIFIED:20230808T181850Z
UID:1446-1692288000-1692298800@thenudeli.com
SUMMARY:Chutney Festival
DESCRIPTION:Exciting South Asian & Caribbean food\, music and dance festival. Learn more at chutneyfestival.com.
URL:https://thenudeli.com/event/chutney-festival/
LOCATION:Royal Oak Farmers Market\, 316 E 11 Mile Rd\, Royal Oak\, MI\, 48067\, United States
CATEGORIES:Dinner,Festival,Market,Music
ORGANIZER;CN="The Shanti Agency":MAILTO:info@theshantiagency.com
END:VEVENT
BEGIN:VEVENT
DTSTART;TZID=America/Detroit:20230805T180000
DTEND;TZID=America/Detroit:20230805T220000
DTSTAMP:20260424T010051
CREATED:20230730T163103Z
LAST-MODIFIED:20230730T163103Z
UID:1399-1691258400-1691272800@thenudeli.com
SUMMARY:Northville Brewery
DESCRIPTION:
URL:https://thenudeli.com/event/northville-brewery/
LOCATION:Northville Winery and Brewery\, 630 Baseline Rd\, Northville\, MI\, 48167\, United States
CATEGORIES:Brewery,Dinner,Music
END:VEVENT
BEGIN:VEVENT
DTSTART;TZID=America/Detroit:20230729T140000
DTEND;TZID=America/Detroit:20230729T210000
DTSTAMP:20260424T010051
CREATED:20230630T024827Z
LAST-MODIFIED:20230630T024827Z
UID:1389-1690639200-1690664400@thenudeli.com
SUMMARY:MAP Fest
DESCRIPTION:Avalon Village comes to life with Music | Art | Poetry and you!
URL:https://thenudeli.com/event/map-fest/
LOCATION:Avalon Village\, 32 Avalon St\, Highland Park\, MI\, 48203\, United States
CATEGORIES:Dinner,Festival,Lunch,Music
END:VEVENT
BEGIN:VEVENT
DTSTART;TZID=America/Detroit:20230723T120000
DTEND;TZID=America/Detroit:20230723T233000
DTSTAMP:20260424T010051
CREATED:20230630T024040Z
LAST-MODIFIED:20230630T024040Z
UID:1375-1690113600-1690155000@thenudeli.com
SUMMARY:Friends Who Rock
DESCRIPTION:All day DJs and mental health referrals!
URL:https://thenudeli.com/event/friends-who-rock/
LOCATION:Tangent Gallery & Hastings Street Ballroom\, 715 E Milwaukee\, Detroit\, MI\, 48202\, United States
CATEGORIES:Dinner,Festival,Late Night,Lunch,Music
END:VEVENT
BEGIN:VEVENT
DTSTART;TZID=America/Detroit:20230722T160000
DTEND;TZID=America/Detroit:20230722T220000
DTSTAMP:20260424T010051
CREATED:20230630T023728Z
LAST-MODIFIED:20230630T023728Z
UID:1372-1690041600-1690063200@thenudeli.com
SUMMARY:Concert of Colors
DESCRIPTION:
URL:https://thenudeli.com/event/concert-of-colors/
LOCATION:Detroit Institute of Arts\, 5200 Woodward Ave\, Detroit\, MI\, 48202\, United States
CATEGORIES:Dinner,Lunch,Music
END:VEVENT
BEGIN:VEVENT
DTSTART;TZID=America/Detroit:20230721T173000
DTEND;TZID=America/Detroit:20230721T203000
DTSTAMP:20260424T010051
CREATED:20230630T023359Z
LAST-MODIFIED:20230630T023359Z
UID:1366-1689960600-1689971400@thenudeli.com
SUMMARY:Keego Harbor Block Party
DESCRIPTION:
URL:https://thenudeli.com/event/keego-harbor-block-party/
LOCATION:Rose Sortor Park\, 2998 Knowlson St\, Keego Harbor\, MI\, 48320\, United States
CATEGORIES:Dinner,Music
ORGANIZER;CN="Keego Harbor Parks & Recreation":MAILTO:parksandrec@keegoharbor.org
END:VEVENT
BEGIN:VEVENT
DTSTART;TZID=America/Detroit:20230715T170000
DTEND;TZID=America/Detroit:20230715T210000
DTSTAMP:20260424T010051
CREATED:20230630T022451Z
LAST-MODIFIED:20230630T022451Z
UID:1360-1689440400-1689454800@thenudeli.com
SUMMARY:Northville Brewing
DESCRIPTION:
URL:https://thenudeli.com/event/northville-brewing/
LOCATION:Northville Winery and Brewery\, 630 Baseline Rd\, Northville\, MI\, 48167\, United States
CATEGORIES:Brewery,Dinner,Music
END:VEVENT
BEGIN:VEVENT
DTSTART;TZID=America/Detroit:20230712T160000
DTEND;TZID=America/Detroit:20230712T210000
DTSTAMP:20260424T010051
CREATED:20230630T014856Z
LAST-MODIFIED:20230630T022247Z
UID:1353-1689177600-1689195600@thenudeli.com
SUMMARY:Sights & Sounds @ Royal Oak Farmers Market
DESCRIPTION:Free concert!  \nCraft Vendors |  Food Truck Rally | Face Painting | Balloon Meister | Kids Crafts \n4:30 Ventriloquist Show (Children’s Performance)\n6:00 Fox & Fiddle\n7:30 Silver Hawk
URL:https://thenudeli.com/event/sights-sounds-royal-oak-farmers-market/
LOCATION:Royal Oak Farmers Market\, 316 E 11 Mile Rd\, Royal Oak\, MI\, 48067\, United States
CATEGORIES:Dinner,Market,Music,Rally
END:VEVENT
BEGIN:VEVENT
DTSTART;TZID=America/Detroit:20230615T170000
DTEND;TZID=America/Detroit:20230615T210000
DTSTAMP:20260424T010051
CREATED:20230531T171657Z
LAST-MODIFIED:20230531T171657Z
UID:1270-1686848400-1686862800@thenudeli.com
SUMMARY:Northville Winery & Brewing Co.
DESCRIPTION:
URL:https://thenudeli.com/event/northville-winery-brewing-co-2/
LOCATION:Northville Winery and Brewery\, 630 Baseline Rd\, Northville\, MI\, 48167\, United States
CATEGORIES:Brewery,Dinner,Music
END:VEVENT
BEGIN:VEVENT
DTSTART;TZID=America/Detroit:20230608T180000
DTEND;TZID=America/Detroit:20230608T220000
DTSTAMP:20260424T010051
CREATED:20230531T171141Z
LAST-MODIFIED:20230531T171141Z
UID:1260-1686247200-1686261600@thenudeli.com
SUMMARY:House Night @ The Congregation
DESCRIPTION:
URL:https://thenudeli.com/event/house-night-the-congregation-2/
LOCATION:The Congregation\, 9321 Rosa Parks Blvd\, Detroit\, MI\, 48206\, United States
CATEGORIES:Dinner,Music
END:VEVENT
BEGIN:VEVENT
DTSTART;TZID=America/Detroit:20220827T180000
DTEND;TZID=America/Detroit:20220827T210000
DTSTAMP:20260424T010051
CREATED:20220816T004903Z
LAST-MODIFIED:20220816T004903Z
UID:1184-1661623200-1661634000@thenudeli.com
SUMMARY:Northville Winery & Brewing
DESCRIPTION:
URL:https://thenudeli.com/event/northville-winery-brewing-2/
LOCATION:Northville Winery and Brewery\, 630 Baseline Rd\, Northville\, MI\, 48167\, United States
CATEGORIES:Brewery,Dinner,Music
END:VEVENT
BEGIN:VEVENT
DTSTART;TZID=America/Detroit:20220826T110000
DTEND;TZID=America/Detroit:20220826T220000
DTSTAMP:20260424T010051
CREATED:20220816T004700Z
LAST-MODIFIED:20220816T004700Z
UID:1180-1661511600-1661551200@thenudeli.com
SUMMARY:Spirit Plaza
DESCRIPTION:
URL:https://thenudeli.com/event/spirit-plaza-9/
LOCATION:Spirit of Detroit Plaza\, 1 Woodward Avenue\, Detroit\, MI\, United States
CATEGORIES:Dinner,Lunch,Music
END:VEVENT
BEGIN:VEVENT
DTSTART;TZID=America/Detroit:20220819T170000
DTEND;TZID=America/Detroit:20220819T200000
DTSTAMP:20260424T010051
CREATED:20220816T003405Z
LAST-MODIFIED:20220816T003405Z
UID:1163-1660928400-1660939200@thenudeli.com
SUMMARY:Opera in the Park @ Palmer Park
DESCRIPTION:
URL:https://thenudeli.com/event/opera-in-the-park-palmer-park/
LOCATION:Palmer Park\, 910 Merrill Plaisance St\, Detroit\, MI\, 48203\, United States
CATEGORIES:Dinner,Music
END:VEVENT
BEGIN:VEVENT
DTSTART;TZID=America/Detroit:20220805T180000
DTEND;TZID=America/Detroit:20220805T200000
DTSTAMP:20260424T010051
CREATED:20220804T033045Z
LAST-MODIFIED:20220804T033045Z
UID:1129-1659722400-1659729600@thenudeli.com
SUMMARY:Opera in the Park @ North Rosedale
DESCRIPTION:
URL:https://thenudeli.com/event/opera-in-the-park-north-rosedale/
LOCATION:North Rosedale Park Civic Association\, 18445 Scarsdale St\, Detroit\, MI\, 48223\, United States
CATEGORIES:Dinner,Music
END:VEVENT
BEGIN:VEVENT
DTSTART;VALUE=DATE:20220730
DTEND;VALUE=DATE:20220801
DTSTAMP:20260424T010051
CREATED:20220701T024903Z
LAST-MODIFIED:20220701T024903Z
UID:1114-1659139200-1659311999@thenudeli.com
SUMMARY:Mo Pop 2022
DESCRIPTION:
URL:https://thenudeli.com/event/mo-pop-2022/
LOCATION:Hart Plaza\, Jefferson @ Woodward\, Detroit\, MI\, United States
CATEGORIES:Dinner,Festival,Lunch,Music
END:VEVENT
BEGIN:VEVENT
DTSTART;TZID=America/Detroit:20220726T110000
DTEND;TZID=America/Detroit:20220726T190000
DTSTAMP:20260424T010051
CREATED:20220701T024440Z
LAST-MODIFIED:20220701T024440Z
UID:1108-1658833200-1658862000@thenudeli.com
SUMMARY:Spirit Plaza
DESCRIPTION:
URL:https://thenudeli.com/event/spirit-plaza-6/
LOCATION:Spirit of Detroit Plaza\, 1 Woodward Avenue\, Detroit\, MI\, United States
CATEGORIES:Dinner,Lunch,Music
END:VEVENT
BEGIN:VEVENT
DTSTART;TZID=America/Detroit:20220722T173000
DTEND;TZID=America/Detroit:20220722T203000
DTSTAMP:20260424T010051
CREATED:20220701T024146Z
LAST-MODIFIED:20220701T024146Z
UID:1100-1658511000-1658521800@thenudeli.com
SUMMARY:Opera in the Park
DESCRIPTION:
URL:https://thenudeli.com/event/opera-in-the-park-3/
LOCATION:Erma Henderson Park\, 8800 E Jefferson\, Detroit\, MI\, 48214\, United States
CATEGORIES:Dinner,Music
END:VEVENT
BEGIN:VEVENT
DTSTART;TZID=America/Detroit:20220721T170000
DTEND;TZID=America/Detroit:20220721T210000
DTSTAMP:20260424T010051
CREATED:20220720T222310Z
LAST-MODIFIED:20220720T222310Z
UID:1118-1658422800-1658437200@thenudeli.com
SUMMARY:House Night @ The Congregation
DESCRIPTION:
URL:https://thenudeli.com/event/house-night-the-congregation/
LOCATION:The Congregation\, 9321 Rosa Parks Blvd\, Detroit\, MI\, 48206\, United States
CATEGORIES:Dinner,Music
END:VEVENT
BEGIN:VEVENT
DTSTART;TZID=America/Detroit:20220720T130000
DTEND;TZID=America/Detroit:20220720T220000
DTSTAMP:20260424T010051
CREATED:20220701T023822Z
LAST-MODIFIED:20220701T023822Z
UID:1096-1658322000-1658354400@thenudeli.com
SUMMARY:Sad Summer Festival
DESCRIPTION:
URL:https://thenudeli.com/event/sad-summer-festival/
LOCATION:Crofoot Festival Grounds\, 1 S Saginaw St\, Pontiac\, MI\, 48342\, United States
CATEGORIES:Dinner,Festival,Lunch,Music,Rally
END:VEVENT
BEGIN:VEVENT
DTSTART;TZID=America/Detroit:20220719T110000
DTEND;TZID=America/Detroit:20220719T190000
DTSTAMP:20260424T010051
CREATED:20220701T023057Z
LAST-MODIFIED:20220701T023057Z
UID:1094-1658228400-1658257200@thenudeli.com
SUMMARY:Spirit Plaza
DESCRIPTION:
URL:https://thenudeli.com/event/spirit-plaza-5/
LOCATION:Spirit of Detroit Plaza\, 1 Woodward Avenue\, Detroit\, MI\, United States
CATEGORIES:Dinner,Lunch,Music
END:VEVENT
BEGIN:VEVENT
DTSTART;TZID=America/Detroit:20220716T180000
DTEND;TZID=America/Detroit:20220716T220000
DTSTAMP:20260424T010051
CREATED:20220701T022841Z
LAST-MODIFIED:20220701T023845Z
UID:1090-1657994400-1658008800@thenudeli.com
SUMMARY:Northville Winery & Brewing Co
DESCRIPTION:
URL:https://thenudeli.com/event/northville-winery-brewing-co/
LOCATION:Northville Winery and Brewery\, 630 Baseline Rd\, Northville\, MI\, 48167\, United States
CATEGORIES:Brewery,Dinner,Music
END:VEVENT
BEGIN:VEVENT
DTSTART;TZID=America/Detroit:20220712T110000
DTEND;TZID=America/Detroit:20220712T190000
DTSTAMP:20260424T010051
CREATED:20220701T022435Z
LAST-MODIFIED:20220701T022435Z
UID:1082-1657623600-1657652400@thenudeli.com
SUMMARY:Spirit Plaza
DESCRIPTION:
URL:https://thenudeli.com/event/spirit-plaza-4/
LOCATION:Spirit of Detroit Plaza\, 1 Woodward Avenue\, Detroit\, MI\, United States
CATEGORIES:Dinner,Lunch,Music
END:VEVENT
BEGIN:VEVENT
DTSTART;TZID=America/Detroit:20220705T110000
DTEND;TZID=America/Detroit:20220705T190000
DTSTAMP:20260424T010051
CREATED:20220701T021618Z
LAST-MODIFIED:20220701T021618Z
UID:1073-1657018800-1657047600@thenudeli.com
SUMMARY:Spirit Plaza
DESCRIPTION:
URL:https://thenudeli.com/event/spirit-plaza-3/
LOCATION:Spirit of Detroit Plaza\, 1 Woodward Avenue\, Detroit\, MI\, United States
CATEGORIES:Dinner,Lunch,Music
END:VEVENT
BEGIN:VEVENT
DTSTART;TZID=America/Detroit:20220630T080000
DTEND;TZID=America/Detroit:20220630T170000
DTSTAMP:20260424T010051
CREATED:20220701T022140Z
LAST-MODIFIED:20220701T022229Z
UID:1077-1656576000-1656608400@thenudeli.com
SUMMARY:Opera in the Park
DESCRIPTION:
URL:https://thenudeli.com/event/opera-in-the-park-2/
LOCATION:Balduck Park\, 5271 Canyon St\, Detroit\, MI\, 48236\, United States
CATEGORIES:Dinner,Music
END:VEVENT
BEGIN:VEVENT
DTSTART;TZID=America/Detroit:20220624T170000
DTEND;TZID=America/Detroit:20220624T200000
DTSTAMP:20260424T010051
CREATED:20220624T163009Z
LAST-MODIFIED:20220624T163009Z
UID:1064-1656090000-1656100800@thenudeli.com
SUMMARY:Opera in the Park
DESCRIPTION:Music\, food and family fun in the neighborhoods! Follow us around the city as Opera in the Park tours Detroit’s most beautiful parks with live music\, art and games.
URL:https://thenudeli.com/event/opera-in-the-park/
LOCATION:Lasalle Park\, 2351 N Lasalle Gardens\, Detroit\, MI\, 48206\, United States
CATEGORIES:Dinner,Music
END:VEVENT
BEGIN:VEVENT
DTSTART;TZID=America/Detroit:20210917T170000
DTEND;TZID=America/Detroit:20210917T200000
DTSTAMP:20260424T010051
CREATED:20210909T015903Z
LAST-MODIFIED:20210909T015903Z
UID:996-1631898000-1631908800@thenudeli.com
SUMMARY:Northville Winery & Brewery (& Cider!)
DESCRIPTION:Perhaps the pleasantest spot in Southeast Michigan to chill under the stars with live music — now with apples! Kick off cider season with us at Northville Brewery and let’s hope it’s not too chilly for a frosty ciderita.
URL:https://thenudeli.com/event/northville-winery-brewery-cider/
LOCATION:Northville Winery and Brewery\, 630 Baseline Rd\, Northville\, MI\, 48167\, United States
CATEGORIES:Brewery,Dinner,Music
END:VEVENT
BEGIN:VEVENT
DTSTART;TZID=America/Detroit:20210819T170000
DTEND;TZID=America/Detroit:20210819T210000
DTSTAMP:20260424T010051
CREATED:20210818T133522Z
LAST-MODIFIED:20210818T133522Z
UID:967-1629392400-1629406800@thenudeli.com
SUMMARY:House Night at The Congregation
DESCRIPTION:Old church\, new music. Fun neighborhood vibe where Virginia Park meets Boston-Edison. When you’re not hitting the dance floor\, hang out on the patio or the park next door.
URL:https://thenudeli.com/event/house-night-at-the-congregation/
LOCATION:The Congregation\, 9321 Rosa Parks Blvd\, Detroit\, MI\, 48206\, United States
CATEGORIES:Dinner,Music
END:VEVENT
BEGIN:VEVENT
DTSTART;TZID=America/Detroit:20190919T170000
DTEND;TZID=America/Detroit:20190919T213000
DTSTAMP:20260424T010051
CREATED:20190911T222346Z
LAST-MODIFIED:20190911T222346Z
UID:888-1568912400-1568928600@thenudeli.com
SUMMARY:Eastern Market After Dark
DESCRIPTION:
URL:https://thenudeli.com/event/eastern-market-after-dark-2/
LOCATION:Eastern Market\, Shed 5\, Russell Street\, Detroit\, MI\, United States
CATEGORIES:Festival,Market,Music,Rally
END:VEVENT
BEGIN:VEVENT
DTSTART;TZID=America/Detroit:20190912T180000
DTEND;TZID=America/Detroit:20190912T210000
DTSTAMP:20260424T010051
CREATED:20190911T220302Z
LAST-MODIFIED:20190911T220302Z
UID:878-1568311200-1568322000@thenudeli.com
SUMMARY:Grateful Dead @ Northville Brewery
DESCRIPTION:
URL:https://thenudeli.com/event/grateful-dead-northville-brewery/
LOCATION:Northville Winery and Brewery\, 630 Baseline Rd\, Northville\, MI\, 48167\, United States
CATEGORIES:Dinner,Music
END:VEVENT
END:VCALENDAR