BEGIN:VCALENDAR
VERSION:2.0
PRODID:-//Nu Deli - ECPv6.15.1.1//NONSGML v1.0//EN
CALSCALE:GREGORIAN
METHOD:PUBLISH
X-WR-CALNAME:Nu Deli
X-ORIGINAL-URL:https://thenudeli.com
X-WR-CALDESC:Events for Nu Deli
REFRESH-INTERVAL;VALUE=DURATION:PT1H
X-Robots-Tag:noindex
X-PUBLISHED-TTL:PT1H
BEGIN:VTIMEZONE
TZID:America/Detroit
BEGIN:DAYLIGHT
TZOFFSETFROM:-0500
TZOFFSETTO:-0400
TZNAME:EDT
DTSTART:20190310T070000
END:DAYLIGHT
BEGIN:STANDARD
TZOFFSETFROM:-0400
TZOFFSETTO:-0500
TZNAME:EST
DTSTART:20191103T060000
END:STANDARD
BEGIN:DAYLIGHT
TZOFFSETFROM:-0500
TZOFFSETTO:-0400
TZNAME:EDT
DTSTART:20200308T070000
END:DAYLIGHT
BEGIN:STANDARD
TZOFFSETFROM:-0400
TZOFFSETTO:-0500
TZNAME:EST
DTSTART:20201101T060000
END:STANDARD
BEGIN:DAYLIGHT
TZOFFSETFROM:-0500
TZOFFSETTO:-0400
TZNAME:EDT
DTSTART:20210314T070000
END:DAYLIGHT
BEGIN:STANDARD
TZOFFSETFROM:-0400
TZOFFSETTO:-0500
TZNAME:EST
DTSTART:20211107T060000
END:STANDARD
BEGIN:DAYLIGHT
TZOFFSETFROM:-0500
TZOFFSETTO:-0400
TZNAME:EDT
DTSTART:20220313T070000
END:DAYLIGHT
BEGIN:STANDARD
TZOFFSETFROM:-0400
TZOFFSETTO:-0500
TZNAME:EST
DTSTART:20221106T060000
END:STANDARD
BEGIN:DAYLIGHT
TZOFFSETFROM:-0500
TZOFFSETTO:-0400
TZNAME:EDT
DTSTART:20230312T070000
END:DAYLIGHT
BEGIN:STANDARD
TZOFFSETFROM:-0400
TZOFFSETTO:-0500
TZNAME:EST
DTSTART:20231105T060000
END:STANDARD
END:VTIMEZONE
BEGIN:VEVENT
DTSTART;TZID=America/Detroit:20230617T090000
DTEND;TZID=America/Detroit:20230617T150000
DTSTAMP:20260424T051755
CREATED:20230531T171755Z
LAST-MODIFIED:20230531T171755Z
UID:1272-1686992400-1687014000@thenudeli.com
SUMMARY:Eastern Market Shed 5 Plaza
DESCRIPTION:
URL:https://thenudeli.com/event/eastern-market-shed-5-plaza-12/
LOCATION:Eastern Market Plaza South\, 2599 Market Street\, Detroit\, MI\, 48207\, United States
CATEGORIES:Breakfast,Lunch,Market
END:VEVENT
BEGIN:VEVENT
DTSTART;TZID=America/Detroit:20230527T090000
DTEND;TZID=America/Detroit:20230527T150000
DTSTAMP:20260424T051755
CREATED:20230512T173259Z
LAST-MODIFIED:20230512T173259Z
UID:1223-1685178000-1685199600@thenudeli.com
SUMMARY:Eastern Market\, Shed 5 Plaza
DESCRIPTION:
URL:https://thenudeli.com/event/eastern-market-shed-5-plaza-11/
LOCATION:Shed 5\, Eastern Market
CATEGORIES:Breakfast,Lunch,Market
END:VEVENT
BEGIN:VEVENT
DTSTART;TZID=America/Detroit:20230521T070000
DTEND;TZID=America/Detroit:20230521T170000
DTSTAMP:20260424T051755
CREATED:20230512T173155Z
LAST-MODIFIED:20230512T173155Z
UID:1221-1684652400-1684688400@thenudeli.com
SUMMARY:Flower Day @ Eastern Market
DESCRIPTION:
URL:https://thenudeli.com/event/flower-day-eastern-market-3/
LOCATION:Eastern Market\, Shed 5\, Russell Street\, Detroit\, MI\, United States
CATEGORIES:Breakfast,Lunch,Market
END:VEVENT
BEGIN:VEVENT
DTSTART;TZID=America/Detroit:20230519T120000
DTEND;TZID=America/Detroit:20230519T190000
DTSTAMP:20260424T051755
CREATED:20230512T165806Z
LAST-MODIFIED:20230512T165806Z
UID:1218-1684497600-1684522800@thenudeli.com
SUMMARY:East Warren Farmers' Market Food Truck Fridays
DESCRIPTION:
URL:https://thenudeli.com/event/east-warren-farmers-market-food-truck-fridays/
LOCATION:East Warren Farmers’ Market\, 16835 E Warren Ave\, Detroit\, Michigan\, 48224\, United States
CATEGORIES:Dinner,Lunch,Market
END:VEVENT
BEGIN:VEVENT
DTSTART;TZID=America/Detroit:20220924T100000
DTEND;TZID=America/Detroit:20220924T150000
DTSTAMP:20260424T051755
CREATED:20220913T035951Z
LAST-MODIFIED:20220913T040008Z
UID:1194-1664013600-1664031600@thenudeli.com
SUMMARY:Eastern Market\, Shed 5 Plaza
DESCRIPTION:
URL:https://thenudeli.com/event/eastern-market-shed-5-plaza-10/
LOCATION:Eastern Market Plaza South\, 2599 Market Street\, Detroit\, MI\, 48207\, United States
CATEGORIES:Breakfast,Lunch,Market
END:VEVENT
BEGIN:VEVENT
DTSTART;TZID=America/Detroit:20220921T100000
DTEND;TZID=America/Detroit:20220921T150000
DTSTAMP:20260424T051755
CREATED:20220913T035825Z
LAST-MODIFIED:20220913T035825Z
UID:1192-1663754400-1663772400@thenudeli.com
SUMMARY:Wayne State Farmers Market
DESCRIPTION:
URL:https://thenudeli.com/event/wayne-state-farmers-market-5/
LOCATION:Warren @Woodward SE Corner
CATEGORIES:Lunch,Market
END:VEVENT
BEGIN:VEVENT
DTSTART;TZID=America/Detroit:20220915T180000
DTEND;TZID=America/Detroit:20220915T230000
DTSTAMP:20260424T051755
CREATED:20220913T035530Z
LAST-MODIFIED:20220913T035530Z
UID:1188-1663264800-1663282800@thenudeli.com
SUMMARY:Eastern Market After Dark
DESCRIPTION:
URL:https://thenudeli.com/event/eastern-market-after-dark-3/
LOCATION:Eastern Market\, Shed 5\, Russell Street\, Detroit\, MI\, United States
CATEGORIES:Dinner,Festival,Late Night,Market
END:VEVENT
BEGIN:VEVENT
DTSTART;TZID=America/Detroit:20220827T100000
DTEND;TZID=America/Detroit:20220827T150000
DTSTAMP:20260424T051755
CREATED:20220816T004809Z
LAST-MODIFIED:20220816T004809Z
UID:1182-1661594400-1661612400@thenudeli.com
SUMMARY:Eastern Market
DESCRIPTION:
URL:https://thenudeli.com/event/eastern-market-10/
LOCATION:Eastern Market Plaza South\, 2599 Market Street\, Detroit\, MI\, 48207\, United States
CATEGORIES:Breakfast,Lunch,Market
END:VEVENT
BEGIN:VEVENT
DTSTART;TZID=America/Detroit:20220820T090000
DTEND;TZID=America/Detroit:20220820T150000
DTSTAMP:20260424T051755
CREATED:20220816T003613Z
LAST-MODIFIED:20220816T003613Z
UID:1166-1660986000-1661007600@thenudeli.com
SUMMARY:Eastern Market\, Shed 5 Plaza
DESCRIPTION:
URL:https://thenudeli.com/event/eastern-market-shed-5-plaza-9/
LOCATION:Eastern Market Plaza South\, 2599 Market Street\, Detroit\, MI\, 48207\, United States
CATEGORIES:Breakfast,Lunch,Market
END:VEVENT
BEGIN:VEVENT
DTSTART;TZID=America/Detroit:20220727T100000
DTEND;TZID=America/Detroit:20220727T150000
DTSTAMP:20260424T051755
CREATED:20220701T024540Z
LAST-MODIFIED:20220701T024540Z
UID:1110-1658916000-1658934000@thenudeli.com
SUMMARY:Wayne State Farmers Market
DESCRIPTION:
URL:https://thenudeli.com/event/wayne-state-farmers-market-4/
LOCATION:Warren @Woodward SE Corner
CATEGORIES:Lunch,Market
END:VEVENT
BEGIN:VEVENT
DTSTART;TZID=America/Detroit:20220723T100000
DTEND;TZID=America/Detroit:20220723T150000
DTSTAMP:20260424T051755
CREATED:20220701T024238Z
LAST-MODIFIED:20220701T024250Z
UID:1103-1658570400-1658588400@thenudeli.com
SUMMARY:Eastern Market
DESCRIPTION:
URL:https://thenudeli.com/event/eastern-marker/
LOCATION:Eastern Market Plaza South\, 2599 Market Street\, Detroit\, MI\, 48207\, United States
CATEGORIES:Breakfast,Lunch,Market
END:VEVENT
BEGIN:VEVENT
DTSTART;TZID=America/Detroit:20220716T100000
DTEND;TZID=America/Detroit:20220716T150000
DTSTAMP:20260424T051755
CREATED:20220701T022739Z
LAST-MODIFIED:20220701T022739Z
UID:1088-1657965600-1657983600@thenudeli.com
SUMMARY:Eastern Market
DESCRIPTION:
URL:https://thenudeli.com/event/eastern-market-9/
LOCATION:Eastern Market Plaza South\, 2599 Market Street\, Detroit\, MI\, 48207\, United States
CATEGORIES:Breakfast,Lunch,Market
END:VEVENT
BEGIN:VEVENT
DTSTART;TZID=America/Detroit:20220713T100000
DTEND;TZID=America/Detroit:20220713T150000
DTSTAMP:20260424T051755
CREATED:20220701T022531Z
LAST-MODIFIED:20220701T022531Z
UID:1084-1657706400-1657724400@thenudeli.com
SUMMARY:Wayne State Farmers Market
DESCRIPTION:
URL:https://thenudeli.com/event/wayne-state-farmers-market-3/
LOCATION:Warren @Woodward SE Corner
CATEGORIES:Lunch,Market
END:VEVENT
BEGIN:VEVENT
DTSTART;TZID=America/Detroit:20220702T100000
DTEND;TZID=America/Detroit:20220702T150000
DTSTAMP:20260424T051755
CREATED:20220701T021424Z
LAST-MODIFIED:20220701T021424Z
UID:1068-1656756000-1656774000@thenudeli.com
SUMMARY:Eastern Market\, Shed 5 Plaza
DESCRIPTION:
URL:https://thenudeli.com/event/eastern-market-shed-5-plaza-8/
LOCATION:Eastern Market Plaza South\, 2599 Market Street\, Detroit\, MI\, 48207\, United States
CATEGORIES:Breakfast,Lunch,Market
END:VEVENT
BEGIN:VEVENT
DTSTART;TZID=America/Detroit:20220625T100000
DTEND;TZID=America/Detroit:20220625T150000
DTSTAMP:20260424T051755
CREATED:20220604T184406Z
LAST-MODIFIED:20220604T184406Z
UID:1053-1656151200-1656169200@thenudeli.com
SUMMARY:Eastern Market
DESCRIPTION:
URL:https://thenudeli.com/event/eastern-market-8/
LOCATION:Eastern Market Plaza South\, 2599 Market Street\, Detroit\, MI\, 48207\, United States
CATEGORIES:Breakfast,Lunch,Market
END:VEVENT
BEGIN:VEVENT
DTSTART;TZID=America/Detroit:20220615T110000
DTEND;TZID=America/Detroit:20220615T140000
DTSTAMP:20260424T051755
CREATED:20220604T182506Z
LAST-MODIFIED:20220604T182506Z
UID:1040-1655290800-1655301600@thenudeli.com
SUMMARY:WSU Farmers Market
DESCRIPTION:
URL:https://thenudeli.com/event/wsu-farmers-market-3/
LOCATION:MI
CATEGORIES:Lunch,Market
END:VEVENT
BEGIN:VEVENT
DTSTART;TZID=America/Detroit:20220611T100000
DTEND;TZID=America/Detroit:20220611T100000
DTSTAMP:20260424T051755
CREATED:20220604T182056Z
LAST-MODIFIED:20220604T182056Z
UID:1036-1654941600-1654941600@thenudeli.com
SUMMARY:Eastern Market
DESCRIPTION:
URL:https://thenudeli.com/event/eastern-market-7/
LOCATION:Eastern Market Plaza South\, 2599 Market Street\, Detroit\, MI\, 48207\, United States
CATEGORIES:Breakfast,Lunch,Market
END:VEVENT
BEGIN:VEVENT
DTSTART;TZID=America/Detroit:20220608T160000
DTEND;TZID=America/Detroit:20220608T210000
DTSTAMP:20260424T051755
CREATED:20220604T181708Z
LAST-MODIFIED:20220604T181708Z
UID:1032-1654704000-1654722000@thenudeli.com
SUMMARY:Royal Oak Farmers Market
DESCRIPTION:
URL:https://thenudeli.com/event/royal-oak-farmers-market-5/
LOCATION:Royal Oak Farmers Market\, 316 E 11 Mile Rd\, Royal Oak\, MI\, 48067\, United States
CATEGORIES:Dinner,Market,Rally
END:VEVENT
BEGIN:VEVENT
DTSTART;TZID=America/Detroit:20220601T110000
DTEND;TZID=America/Detroit:20220601T150000
DTSTAMP:20260424T051755
CREATED:20220528T211840Z
LAST-MODIFIED:20220528T212048Z
UID:1009-1654081200-1654095600@thenudeli.com
SUMMARY:Wayne State University Farmers Market
DESCRIPTION:
URL:https://thenudeli.com/event/wayne-state-university-farmers-market-2/
LOCATION:Wayne State University Farmers Market\, Warren @ Woodward\, Detroit\, MI\, 48202\, United States
CATEGORIES:Lunch,Market
END:VEVENT
BEGIN:VEVENT
DTSTART;TZID=America/Detroit:20210925T100000
DTEND;TZID=America/Detroit:20210925T150000
DTSTAMP:20260424T051755
CREATED:20210924T034821Z
LAST-MODIFIED:20210924T034821Z
UID:1003-1632564000-1632582000@thenudeli.com
SUMMARY:LAST DAY! Eastern Market\, Shed 5 Plaza
DESCRIPTION:We’re closing out the season with a bang. Come for your last shot at our sandwiches\, stay for surprise samosas and smoothies. We’ll miss the market and we’ll miss you!
URL:https://thenudeli.com/event/last-day-eastern-market-shed-5-plaza/
LOCATION:Shed 5\, Eastern Market
CATEGORIES:Breakfast,Lunch,Market
END:VEVENT
BEGIN:VEVENT
DTSTART;TZID=America/Detroit:20210918T100000
DTEND;TZID=America/Detroit:20210918T150000
DTSTAMP:20260424T051755
CREATED:20210909T020000Z
LAST-MODIFIED:20210909T020000Z
UID:998-1631959200-1631977200@thenudeli.com
SUMMARY:Eastern Market\, Shed 5
DESCRIPTION:
URL:https://thenudeli.com/event/eastern-market-shed-5/
LOCATION:Shed 5\, Eastern Market
CATEGORIES:Breakfast,Lunch,Market
END:VEVENT
BEGIN:VEVENT
DTSTART;TZID=America/Detroit:20210911T100000
DTEND;TZID=America/Detroit:20210911T150000
DTSTAMP:20260424T051755
CREATED:20210909T011351Z
LAST-MODIFIED:20210909T011351Z
UID:983-1631354400-1631372400@thenudeli.com
SUMMARY:Eastern Market\, Shed 5 Plaza
DESCRIPTION:Late summer. Get that produce while it lasts. Grab a sandwich before it’s gone\, too.
URL:https://thenudeli.com/event/eastern-market-shed-5-plaza-7/
LOCATION:Shed 5\, Eastern Market
CATEGORIES:Breakfast,Lunch,Market
END:VEVENT
BEGIN:VEVENT
DTSTART;TZID=America/Detroit:20210828T100000
DTEND;TZID=America/Detroit:20210828T150000
DTSTAMP:20260424T051755
CREATED:20210825T231753Z
LAST-MODIFIED:20210825T231753Z
UID:974-1630144800-1630162800@thenudeli.com
SUMMARY:Eastern Market\, Shed 5 Plaza
DESCRIPTION:
URL:https://thenudeli.com/event/eastern-market-shed-5-plaza-6/
LOCATION:Shed 5\, Eastern Market
CATEGORIES:Breakfast,Lunch,Market
END:VEVENT
BEGIN:VEVENT
DTSTART;TZID=America/Detroit:20210821T100000
DTEND;TZID=America/Detroit:20210821T150000
DTSTAMP:20260424T051755
CREATED:20210821T115050Z
LAST-MODIFIED:20210821T115050Z
UID:972-1629540000-1629558000@thenudeli.com
SUMMARY:Eastern Market\, Shed 5 Plaza
DESCRIPTION:
URL:https://thenudeli.com/event/eastern-market-shed-5-plaza-5/
LOCATION:Shed 5\, Eastern Market
CATEGORIES:Breakfast,Lunch,Market
END:VEVENT
BEGIN:VEVENT
DTSTART;TZID=America/Detroit:20210807T100000
DTEND;TZID=America/Detroit:20210807T150000
DTSTAMP:20260424T051755
CREATED:20210807T030245Z
LAST-MODIFIED:20210807T030245Z
UID:959-1628330400-1628348400@thenudeli.com
SUMMARY:Eastern Market
DESCRIPTION:Taking a break from the Plaza but we’ll be around — come find us!
URL:https://thenudeli.com/event/eastern-market-6/
LOCATION:Eastern Market\, Shed 5\, Russell Street\, Detroit\, MI\, United States
CATEGORIES:Breakfast,Lunch,Market
END:VEVENT
BEGIN:VEVENT
DTSTART;TZID=America/Detroit:20210807T100000
DTEND;TZID=America/Detroit:20210807T150000
DTSTAMP:20260424T051755
CREATED:20210802T014720Z
LAST-MODIFIED:20210802T014720Z
UID:957-1628330400-1628348400@thenudeli.com
SUMMARY:Eastern Market Shed 5 Plaza
DESCRIPTION:We’re on a run of record-breaking Saturdays and we love working alongside a slew of other great trucks and our beautiful community of growers and makers.
URL:https://thenudeli.com/event/eastern-market-shed-5-plaza-4/
LOCATION:Shed 5\, Eastern Market
CATEGORIES:Breakfast,Lunch,Market
END:VEVENT
BEGIN:VEVENT
DTSTART;TZID=America/Detroit:20210724T100000
DTEND;TZID=America/Detroit:20210724T150000
DTSTAMP:20260424T051755
CREATED:20210718T222840Z
LAST-MODIFIED:20210718T222840Z
UID:949-1627120800-1627138800@thenudeli.com
SUMMARY:Eastern Market\, Shed 5 Plaza
DESCRIPTION:
URL:https://thenudeli.com/event/eastern-market-shed-5-plaza-3/
LOCATION:Shed 5\, Eastern Market
CATEGORIES:Breakfast,Lunch,Market
END:VEVENT
BEGIN:VEVENT
DTSTART;TZID=America/Detroit:20210703T100000
DTEND;TZID=America/Detroit:20210703T150000
DTSTAMP:20260424T051755
CREATED:20210702T140518Z
LAST-MODIFIED:20210702T140518Z
UID:936-1625306400-1625324400@thenudeli.com
SUMMARY:Eastern Market @ Shed 5 Plaza
DESCRIPTION:Our favorite spot in town. Start the holiday weekend off right with Nu Lox on a bagel with a schmear and an iced chai along with Michigan summer produce — here come the pickle cukes!
URL:https://thenudeli.com/event/eastern-market-shed-5-plaza-2/
LOCATION:Shed 5\, Eastern Market
CATEGORIES:Breakfast,Lunch,Market
END:VEVENT
BEGIN:VEVENT
DTSTART;TZID=America/Detroit:20210619T100000
DTEND;TZID=America/Detroit:20210619T143000
DTSTAMP:20260424T051755
CREATED:20210617T025032Z
LAST-MODIFIED:20210617T025032Z
UID:920-1624096800-1624113000@thenudeli.com
SUMMARY:Eastern Market Saturday season opener!
DESCRIPTION:We are thrilled to be home. And there’s no place we’d rather come back to. As luck would have it we’re making our season debut at our favorite place in town — just as Michigan summer produce makes its first appearance. It’s been a minute\, Detroit. Come over and say hello.
URL:https://thenudeli.com/event/eastern-market-saturday-season-opener/
LOCATION:Shed 5\, Eastern Market
CATEGORIES:Breakfast,Lunch,Market
END:VEVENT
BEGIN:VEVENT
DTSTART;TZID=America/Detroit:20190928T100000
DTEND;TZID=America/Detroit:20190928T150000
DTSTAMP:20260424T051755
CREATED:20190922T180018Z
LAST-MODIFIED:20190922T180018Z
UID:896-1569664800-1569682800@thenudeli.com
SUMMARY:Saturday Market farewell blowout!
DESCRIPTION:
URL:https://thenudeli.com/event/saturday-market-farewell-blowout/
LOCATION:Shed 2\, Eastern Market
CATEGORIES:Lunch,Market
END:VEVENT
END:VCALENDAR