BEGIN:VCALENDAR
VERSION:2.0
PRODID:-//Nu Deli - ECPv6.15.1.1//NONSGML v1.0//EN
CALSCALE:GREGORIAN
METHOD:PUBLISH
X-WR-CALNAME:Nu Deli
X-ORIGINAL-URL:https://thenudeli.com
X-WR-CALDESC:Events for Nu Deli
REFRESH-INTERVAL;VALUE=DURATION:PT1H
X-Robots-Tag:noindex
X-PUBLISHED-TTL:PT1H
BEGIN:VTIMEZONE
TZID:America/Detroit
BEGIN:DAYLIGHT
TZOFFSETFROM:-0500
TZOFFSETTO:-0400
TZNAME:EDT
DTSTART:20230312T070000
END:DAYLIGHT
BEGIN:STANDARD
TZOFFSETFROM:-0400
TZOFFSETTO:-0500
TZNAME:EST
DTSTART:20231105T060000
END:STANDARD
BEGIN:DAYLIGHT
TZOFFSETFROM:-0500
TZOFFSETTO:-0400
TZNAME:EDT
DTSTART:20240310T070000
END:DAYLIGHT
BEGIN:STANDARD
TZOFFSETFROM:-0400
TZOFFSETTO:-0500
TZNAME:EST
DTSTART:20241103T060000
END:STANDARD
END:VTIMEZONE
BEGIN:VEVENT
DTSTART;TZID=America/Detroit:20240722T110000
DTEND;TZID=America/Detroit:20240722T150000
DTSTAMP:20260424T051602
CREATED:20240628T142848Z
LAST-MODIFIED:20240628T142848Z
UID:1576-1721646000-1721660400@thenudeli.com
SUMMARY:Downtown Street Eats @ Cadillac Square
DESCRIPTION:
URL:https://thenudeli.com/event/downtown-street-eats-cadillac-square-51/
LOCATION:Campus Martius Park\, 800 Woodward Ave\, Detroit\, MI\, 48226\, United States
CATEGORIES:Lunch
END:VEVENT
BEGIN:VEVENT
DTSTART;VALUE=DATE:20240719
DTEND;VALUE=DATE:20240722
DTSTAMP:20260424T051602
CREATED:20240628T142454Z
LAST-MODIFIED:20240628T142454Z
UID:1574-1721347200-1721606399@thenudeli.com
SUMMARY:Concert of Colors
DESCRIPTION:
URL:https://thenudeli.com/event/concert-of-colors-2/
LOCATION:Detroit Institute of Arts\, 5200 Woodward Ave\, Detroit\, MI\, 48202\, United States
CATEGORIES:Dinner,Festival,Lunch,Music
END:VEVENT
BEGIN:VEVENT
DTSTART;TZID=America/Detroit:20240711T110000
DTEND;TZID=America/Detroit:20240711T150000
DTSTAMP:20260424T051602
CREATED:20240628T142228Z
LAST-MODIFIED:20240628T142228Z
UID:1570-1720695600-1720710000@thenudeli.com
SUMMARY:Downtown Street Eats @ Cadillac Square
DESCRIPTION:
URL:https://thenudeli.com/event/downtown-street-eats-cadillac-square-50/
LOCATION:Campus Martius Park\, 800 Woodward Ave\, Detroit\, MI\, 48226\, United States
CATEGORIES:Lunch
END:VEVENT
BEGIN:VEVENT
DTSTART;TZID=America/Detroit:20240708T110000
DTEND;TZID=America/Detroit:20240708T150000
DTSTAMP:20260424T051602
CREATED:20240628T142131Z
LAST-MODIFIED:20240628T142131Z
UID:1568-1720436400-1720450800@thenudeli.com
SUMMARY:Spirit Plaza\, Woodward @ Jefferson
DESCRIPTION:
URL:https://thenudeli.com/event/spirit-plaza-woodward-jefferson-13/
LOCATION:Spirit of Detroit Plaza\, 1 Woodward Avenue\, Detroit\, MI\, United States
CATEGORIES:Lunch
END:VEVENT
BEGIN:VEVENT
DTSTART;TZID=America/Detroit:20240703T110000
DTEND;TZID=America/Detroit:20240703T140000
DTSTAMP:20260424T051602
CREATED:20240628T141854Z
LAST-MODIFIED:20240628T141854Z
UID:1566-1720004400-1720015200@thenudeli.com
SUMMARY:3000 Town Center\, Southfield
DESCRIPTION:
URL:https://thenudeli.com/event/3000-town-center-southfield-8/
LOCATION:Southfield Town Center\, 3000 Town Center\, Southfield\, MI\, 48075\, United States
CATEGORIES:Lunch
END:VEVENT
BEGIN:VEVENT
DTSTART;TZID=America/Detroit:20240629T120000
DTEND;TZID=America/Detroit:20240629T160000
DTSTAMP:20260424T051602
CREATED:20240530T000721Z
LAST-MODIFIED:20240530T000721Z
UID:1564-1719662400-1719676800@thenudeli.com
SUMMARY:Urbanrest Brewing\, Ferndale
DESCRIPTION:
URL:https://thenudeli.com/event/urbanrest-brewing-ferndale-23/
LOCATION:Urbanrest Brewing Company\, 2615 Wolcott Street\, Ferndale\, MI\, 48220\, United States
CATEGORIES:Brewery,Lunch
END:VEVENT
BEGIN:VEVENT
DTSTART;TZID=America/Detroit:20240625T110000
DTEND;TZID=America/Detroit:20240625T150000
DTSTAMP:20260424T051602
CREATED:20240529T235349Z
LAST-MODIFIED:20240529T235349Z
UID:1557-1719313200-1719327600@thenudeli.com
SUMMARY:Downtown Street Eats @ Cadillac Square
DESCRIPTION:
URL:https://thenudeli.com/event/downtown-street-eats-cadillac-square-49/
LOCATION:Campus Martius Park\, 800 Woodward Ave\, Detroit\, MI\, 48226\, United States
CATEGORIES:Lunch
END:VEVENT
BEGIN:VEVENT
DTSTART;TZID=America/Detroit:20240624T110000
DTEND;TZID=America/Detroit:20240624T150000
DTSTAMP:20260424T051602
CREATED:20240529T235246Z
LAST-MODIFIED:20240529T235246Z
UID:1555-1719226800-1719241200@thenudeli.com
SUMMARY:Spirit Plaza
DESCRIPTION:
URL:https://thenudeli.com/event/spirit-plaza-13/
LOCATION:Spirit of Detroit Plaza\, 1 Woodward Avenue\, Detroit\, MI\, United States
CATEGORIES:Lunch
END:VEVENT
BEGIN:VEVENT
DTSTART;TZID=America/Detroit:20240623T130000
DTEND;TZID=America/Detroit:20240623T170000
DTSTAMP:20260424T051602
CREATED:20240529T235033Z
LAST-MODIFIED:20240529T235033Z
UID:1552-1719147600-1719162000@thenudeli.com
SUMMARY:Berkley Pride
DESCRIPTION:
URL:https://thenudeli.com/event/berkley-pride/
LOCATION:Berkeley Art Bash\, 2886 Twelve Mile Rd\, Berkley\, MI\, 48072\, United States
CATEGORIES:Festival,Lunch,Market
END:VEVENT
BEGIN:VEVENT
DTSTART;TZID=America/Detroit:20240622T090000
DTEND;TZID=America/Detroit:20240622T150000
DTSTAMP:20260424T051602
CREATED:20240529T234431Z
LAST-MODIFIED:20240529T234431Z
UID:1550-1719046800-1719068400@thenudeli.com
SUMMARY:Eastern Market\, Shed 5 Plaza
DESCRIPTION:
URL:https://thenudeli.com/event/eastern-market-shed-5-plaza-20/
LOCATION:Eastern Market Plaza South\, 2599 Market Street\, Detroit\, MI\, 48207\, United States
CATEGORIES:Breakfast,Lunch,Market,Music
END:VEVENT
BEGIN:VEVENT
DTSTART;TZID=America/Detroit:20240620T110000
DTEND;TZID=America/Detroit:20240620T143000
DTSTAMP:20260424T051602
CREATED:20240529T233436Z
LAST-MODIFIED:20240529T233436Z
UID:1544-1718881200-1718893800@thenudeli.com
SUMMARY:Downtown Street Eats @ Cadillac Square
DESCRIPTION:
URL:https://thenudeli.com/event/downtown-street-eats-cadillac-square-48/
LOCATION:Campus Martius Park\, 800 Woodward Ave\, Detroit\, MI\, 48226\, United States
CATEGORIES:Lunch
END:VEVENT
BEGIN:VEVENT
DTSTART;TZID=America/Detroit:20240619T170000
DTEND;TZID=America/Detroit:20240619T200000
DTSTAMP:20260424T051602
CREATED:20240529T233136Z
LAST-MODIFIED:20240529T233136Z
UID:1542-1718816400-1718827200@thenudeli.com
SUMMARY:Bingham Woods
DESCRIPTION:
URL:https://thenudeli.com/event/bingham-woods/
LOCATION:Bingham Woods Clubhouse\, 30760 River Crossing St\, Bingham Farms\, 48025\, United States
CATEGORIES:Lunch,Neighborhood
END:VEVENT
BEGIN:VEVENT
DTSTART;TZID=America/Detroit:20240617T110000
DTEND;TZID=America/Detroit:20240617T150000
DTSTAMP:20260424T051602
CREATED:20240529T232843Z
LAST-MODIFIED:20240529T232843Z
UID:1538-1718622000-1718636400@thenudeli.com
SUMMARY:Spirit Plaza
DESCRIPTION:
URL:https://thenudeli.com/event/spirit-plaza-12/
LOCATION:Spirit of Detroit Plaza\, 1 Woodward Avenue\, Detroit\, MI\, United States
CATEGORIES:Lunch
END:VEVENT
BEGIN:VEVENT
DTSTART;TZID=America/Detroit:20240615T090000
DTEND;TZID=America/Detroit:20240615T153000
DTSTAMP:20260424T051602
CREATED:20240529T231414Z
LAST-MODIFIED:20240529T231414Z
UID:1534-1718442000-1718465400@thenudeli.com
SUMMARY:Eastern Market\, Shed 5 Plaza
DESCRIPTION:
URL:https://thenudeli.com/event/eastern-market-shed-5-plaza-19/
LOCATION:Eastern Market Plaza South\, 2599 Market Street\, Detroit\, MI\, 48207\, United States
CATEGORIES:Breakfast,Lunch,Market,Music
END:VEVENT
BEGIN:VEVENT
DTSTART;TZID=America/Detroit:20240614T110000
DTEND;TZID=America/Detroit:20240614T220000
DTSTAMP:20260424T051602
CREATED:20240529T223847Z
LAST-MODIFIED:20240529T223847Z
UID:1532-1718362800-1718402400@thenudeli.com
SUMMARY:Spirit Plaza
DESCRIPTION:
URL:https://thenudeli.com/event/spirit-plaza-11/
LOCATION:Spirit of Detroit Plaza\, 1 Woodward Avenue\, Detroit\, MI\, United States
CATEGORIES:Dinner,Lunch,Music
END:VEVENT
BEGIN:VEVENT
DTSTART;TZID=America/Detroit:20240610T110000
DTEND;TZID=America/Detroit:20240610T150000
DTSTAMP:20260424T051602
CREATED:20240529T221323Z
LAST-MODIFIED:20240529T221323Z
UID:1526-1718017200-1718031600@thenudeli.com
SUMMARY:Downtown Street Eats\, Cadillac Square
DESCRIPTION:
URL:https://thenudeli.com/event/downtown-street-eats-cadillac-square-47/
LOCATION:Campus Martius Park\, 800 Woodward Ave\, Detroit\, MI\, 48226\, United States
CATEGORIES:Lunch
END:VEVENT
BEGIN:VEVENT
DTSTART;TZID=America/Detroit:20240602T130000
DTEND;TZID=America/Detroit:20240602T170000
DTSTAMP:20260424T051602
CREATED:20240529T215648Z
LAST-MODIFIED:20240529T215648Z
UID:1518-1717333200-1717347600@thenudeli.com
SUMMARY:API Heritage Festival\, Novi
DESCRIPTION:
URL:https://thenudeli.com/event/api-heritage-festival-novi/
LOCATION:Furest Park\, Novi\, 45255 W 10 Mile\, Novi\, MI\, 48375\, United States
CATEGORIES:Festival,Lunch
END:VEVENT
BEGIN:VEVENT
DTSTART;TZID=America/Detroit:20240601T120000
DTEND;TZID=America/Detroit:20240601T160000
DTSTAMP:20260424T051602
CREATED:20240529T215123Z
LAST-MODIFIED:20240529T215123Z
UID:1516-1717243200-1717257600@thenudeli.com
SUMMARY:Urbanrest Brewing\, Ferndale
DESCRIPTION:
URL:https://thenudeli.com/event/urbanrest-brewing-ferndale-21/
LOCATION:Urbanrest Brewing Company\, 2615 Wolcott Street\, Ferndale\, MI\, 48220\, United States
CATEGORIES:Brewery,Lunch
END:VEVENT
BEGIN:VEVENT
DTSTART;TZID=America/Detroit:20240528T110000
DTEND;TZID=America/Detroit:20240528T150000
DTSTAMP:20260424T051602
CREATED:20240510T201515Z
LAST-MODIFIED:20240510T201515Z
UID:1512-1716894000-1716908400@thenudeli.com
SUMMARY:Downtown Street Eats @ Cadillac Square
DESCRIPTION:
URL:https://thenudeli.com/event/downtown-street-eats-cadillac-square-46/
LOCATION:Campus Martius Park\, 800 Woodward Ave\, Detroit\, MI\, 48226\, United States
CATEGORIES:Lunch
END:VEVENT
BEGIN:VEVENT
DTSTART;TZID=America/Detroit:20240522T110000
DTEND;TZID=America/Detroit:20240522T150000
DTSTAMP:20260424T051602
CREATED:20240510T201255Z
LAST-MODIFIED:20240510T201255Z
UID:1508-1716375600-1716390000@thenudeli.com
SUMMARY:Downtown Street Eats @ Cadillac Square
DESCRIPTION:
URL:https://thenudeli.com/event/downtown-street-eats-cadillac-square-45/
LOCATION:Campus Martius Park\, 800 Woodward Ave\, Detroit\, MI\, 48226\, United States
CATEGORIES:Lunch
END:VEVENT
BEGIN:VEVENT
DTSTART;TZID=America/Detroit:20240521T110000
DTEND;TZID=America/Detroit:20240521T150000
DTSTAMP:20260424T051602
CREATED:20240510T201142Z
LAST-MODIFIED:20240510T201142Z
UID:1506-1716289200-1716303600@thenudeli.com
SUMMARY:Spirit Plaza\, Woodward @ Jefferson
DESCRIPTION:
URL:https://thenudeli.com/event/spirit-plaza-woodward-jefferson-12/
LOCATION:Spirit of Detroit Plaza\, 1 Woodward Avenue\, Detroit\, MI\, United States
CATEGORIES:Lunch
END:VEVENT
BEGIN:VEVENT
DTSTART;TZID=America/Detroit:20240519T070000
DTEND;TZID=America/Detroit:20240519T170000
DTSTAMP:20260424T051602
CREATED:20240510T201042Z
LAST-MODIFIED:20240510T201042Z
UID:1504-1716102000-1716138000@thenudeli.com
SUMMARY:Flower Day @ Eastern Market
DESCRIPTION:
URL:https://thenudeli.com/event/flower-day-eastern-market-4/
LOCATION:Eastern Market\, Shed 5\, Russell Street\, Detroit\, MI\, United States
CATEGORIES:Breakfast,Dinner,Festival,Lunch,Market,Music
END:VEVENT
BEGIN:VEVENT
DTSTART;TZID=America/Detroit:20240517T110000
DTEND;TZID=America/Detroit:20240517T150000
DTSTAMP:20260424T051602
CREATED:20240510T200810Z
LAST-MODIFIED:20240510T200810Z
UID:1500-1715943600-1715958000@thenudeli.com
SUMMARY:Downtown Street Eats @ Cadillac Square
DESCRIPTION:
URL:https://thenudeli.com/event/downtown-street-eats-cadillac-square-44/
LOCATION:Campus Martius Park\, 800 Woodward Ave\, Detroit\, MI\, 48226\, United States
CATEGORIES:Lunch
END:VEVENT
BEGIN:VEVENT
DTSTART;TZID=America/Detroit:20240513T110000
DTEND;TZID=America/Detroit:20240513T150000
DTSTAMP:20260424T051602
CREATED:20240510T200337Z
LAST-MODIFIED:20240510T200337Z
UID:1495-1715598000-1715612400@thenudeli.com
SUMMARY:Spirit Plaza\, Woodward @ Jefferson
DESCRIPTION:
URL:https://thenudeli.com/event/spirit-plaza-woodward-jefferson-11/
LOCATION:Spirit of Detroit Plaza\, 1 Woodward Avenue\, Detroit\, MI\, United States
CATEGORIES:Lunch
END:VEVENT
BEGIN:VEVENT
DTSTART;TZID=America/Detroit:20240511T090000
DTEND;TZID=America/Detroit:20240511T160000
DTSTAMP:20260424T051602
CREATED:20240503T114549Z
LAST-MODIFIED:20240503T114549Z
UID:1490-1715418000-1715443200@thenudeli.com
SUMMARY:Eastern Market! We're back\, baby!
DESCRIPTION:
URL:https://thenudeli.com/event/eastern-market-were-back-baby/
LOCATION:Shed 5\, Eastern Market
CATEGORIES:Breakfast,Lunch,Market
END:VEVENT
BEGIN:VEVENT
DTSTART;TZID=America/Detroit:20230930T090000
DTEND;TZID=America/Detroit:20230930T150000
DTSTAMP:20260424T051602
CREATED:20230902T020534Z
LAST-MODIFIED:20230902T020534Z
UID:1484-1696064400-1696086000@thenudeli.com
SUMMARY:Eastern Market\, Shed 5 Plaza
DESCRIPTION:
URL:https://thenudeli.com/event/eastern-market-shed-5-plaza-18/
LOCATION:Shed 5\, Eastern Market
CATEGORIES:Breakfast,Lunch,Market
END:VEVENT
BEGIN:VEVENT
DTSTART;TZID=America/Detroit:20230928T113000
DTEND;TZID=America/Detroit:20230928T143000
DTSTAMP:20260424T051602
CREATED:20230902T020427Z
LAST-MODIFIED:20230902T020427Z
UID:1482-1695900600-1695911400@thenudeli.com
SUMMARY:United Wholesale Mortgage\, Pontiac
DESCRIPTION:
URL:https://thenudeli.com/event/united-wholesale-mortgage-pontiac-4/
LOCATION:United Wholesale Mortgage\, 585 South Blvd E\, Pontiac\, MI\, 48341\, United States
CATEGORIES:Lunch
END:VEVENT
BEGIN:VEVENT
DTSTART;TZID=America/Detroit:20230927T110000
DTEND;TZID=America/Detroit:20230927T150000
DTSTAMP:20260424T051602
CREATED:20230902T020347Z
LAST-MODIFIED:20230902T020347Z
UID:1480-1695812400-1695826800@thenudeli.com
SUMMARY:Downtown Street Eats @ Cadillac Square
DESCRIPTION:
URL:https://thenudeli.com/event/downtown-street-eats-cadillac-square-43/
LOCATION:Campus Martius Park\, 800 Woodward Ave\, Detroit\, MI\, 48226\, United States
CATEGORIES:Lunch
END:VEVENT
BEGIN:VEVENT
DTSTART;TZID=America/Detroit:20230926T110000
DTEND;TZID=America/Detroit:20230926T150000
DTSTAMP:20260424T051602
CREATED:20230902T020208Z
LAST-MODIFIED:20230902T020208Z
UID:1478-1695726000-1695740400@thenudeli.com
SUMMARY:Downtown Street Eats @ Cadillac Square
DESCRIPTION:
URL:https://thenudeli.com/event/downtown-street-eats-cadillac-square-42/
LOCATION:Campus Martius Park\, 800 Woodward Ave\, Detroit\, MI\, 48226\, United States
CATEGORIES:Lunch
END:VEVENT
BEGIN:VEVENT
DTSTART;TZID=America/Detroit:20230923T120000
DTEND;TZID=America/Detroit:20230923T160000
DTSTAMP:20260424T051602
CREATED:20230902T015825Z
LAST-MODIFIED:20230902T015825Z
UID:1476-1695470400-1695484800@thenudeli.com
SUMMARY:Urbanrest Brewing\, Ferndale
DESCRIPTION:
URL:https://thenudeli.com/event/urbanrest-brewing-ferndale-20/
LOCATION:Urbanrest Brewing Company\, 2615 Wolcott Street\, Ferndale\, MI\, 48220\, United States
CATEGORIES:Brewery,Lunch
END:VEVENT
END:VCALENDAR