BEGIN:VCALENDAR
VERSION:2.0
PRODID:-//Nu Deli - ECPv6.15.1.1//NONSGML v1.0//EN
CALSCALE:GREGORIAN
METHOD:PUBLISH
X-ORIGINAL-URL:https://thenudeli.com
X-WR-CALDESC:Events for Nu Deli
REFRESH-INTERVAL;VALUE=DURATION:PT1H
X-Robots-Tag:noindex
X-PUBLISHED-TTL:PT1H
BEGIN:VTIMEZONE
TZID:America/Detroit
BEGIN:DAYLIGHT
TZOFFSETFROM:-0500
TZOFFSETTO:-0400
TZNAME:EDT
DTSTART:20170312T070000
END:DAYLIGHT
BEGIN:STANDARD
TZOFFSETFROM:-0400
TZOFFSETTO:-0500
TZNAME:EST
DTSTART:20171105T060000
END:STANDARD
BEGIN:DAYLIGHT
TZOFFSETFROM:-0500
TZOFFSETTO:-0400
TZNAME:EDT
DTSTART:20180311T070000
END:DAYLIGHT
BEGIN:STANDARD
TZOFFSETFROM:-0400
TZOFFSETTO:-0500
TZNAME:EST
DTSTART:20181104T060000
END:STANDARD
END:VTIMEZONE
BEGIN:VEVENT
DTSTART;TZID=America/Detroit:20180611T110000
DTEND;TZID=America/Detroit:20180615T140000
DTSTAMP:20260425T180507
CREATED:20180611T215028Z
LAST-MODIFIED:20180611T215028Z
UID:468-1528714800-1529071200@thenudeli.com
SUMMARY:Downtown Street Eats
DESCRIPTION:
URL:https://thenudeli.com/event/downtown-street-eats/
LOCATION:Campus Martius Park\, 800 Woodward Ave\, Detroit\, MI\, 48226\, United States
CATEGORIES:Lunch
END:VEVENT
BEGIN:VEVENT
DTSTART;TZID=America/Detroit:20180608T110000
DTEND;TZID=America/Detroit:20180608T140000
DTSTAMP:20260425T180507
CREATED:20180602T185916Z
LAST-MODIFIED:20180602T185916Z
UID:466-1528455600-1528466400@thenudeli.com
SUMMARY:Ford Land Food Truck Rally\, Allen Park
DESCRIPTION:The big one! Tucked behind the Lions’ practice facility at Rotunda Drive\, with plenty of parking. A dozen trucks to choose from and some live music. Come on down.
URL:https://thenudeli.com/event/ford-land-food-truck-rally-allen-park/
LOCATION:Ford Land Truck Rally\, 1000 Republic Dr\, Allen Park\, MI\, United States
CATEGORIES:Lunch,Rally
END:VEVENT
BEGIN:VEVENT
DTSTART;TZID=America/Detroit:20180606T110000
DTEND;TZID=America/Detroit:20180606T133000
DTSTAMP:20260425T180507
CREATED:20180602T185456Z
LAST-MODIFIED:20180602T185456Z
UID:464-1528282800-1528291800@thenudeli.com
SUMMARY:CCS Taubman\, New Center
DESCRIPTION:Just a block south of the Fisher Building.
URL:https://thenudeli.com/event/ccs-taubman-new-center-2/
LOCATION:CCS Taubman Center\, 460 W Baltimore Street\, Detroit\, MI\, United States
CATEGORIES:Lunch
END:VEVENT
BEGIN:VEVENT
DTSTART;TZID=America/Detroit:20180605T110000
DTEND;TZID=America/Detroit:20180605T133000
DTSTAMP:20260425T180507
CREATED:20180602T185319Z
LAST-MODIFIED:20180602T185319Z
UID:462-1528196400-1528205400@thenudeli.com
SUMMARY:Nissan Tech Center\, Farmington Hills
DESCRIPTION:
URL:https://thenudeli.com/event/nissan-tech-center-farmington-hills-2/
LOCATION:Nissan Technical Center\, 39001 Sunrise Drive\, Farmington Hills\, MI\, 48331\, United States
CATEGORIES:Lunch
END:VEVENT
BEGIN:VEVENT
DTSTART;TZID=America/Detroit:20180529T110000
DTEND;TZID=America/Detroit:20180601T140000
DTSTAMP:20260425T180507
CREATED:20180524T120222Z
LAST-MODIFIED:20180524T120222Z
UID:451-1527591600-1527861600@thenudeli.com
SUMMARY:Campus Martius Lunches 11-2pm
DESCRIPTION:
URL:https://thenudeli.com/event/campus-martius-lunches-11-2pm/
LOCATION:Campus Martius Park\, 800 Woodward Ave\, Detroit\, MI\, 48226\, United States
CATEGORIES:Lunch,Rally
END:VEVENT
BEGIN:VEVENT
DTSTART;TZID=America/Detroit:20180525T110000
DTEND;TZID=America/Detroit:20180525T140000
DTSTAMP:20260425T180507
CREATED:20180524T034553Z
LAST-MODIFIED:20180524T034553Z
UID:446-1527246000-1527256800@thenudeli.com
SUMMARY:Credit Acceptance\, Southfield
DESCRIPTION:
URL:https://thenudeli.com/event/credit-acceptance-southfield-2/
LOCATION:Credit Acceptance\, 25505 Twelve Mile Rd\, Southfield\, MI\, 48034\, United States
CATEGORIES:Lunch
END:VEVENT
BEGIN:VEVENT
DTSTART;TZID=America/Detroit:20180524T110000
DTEND;TZID=America/Detroit:20180524T140000
DTSTAMP:20260425T180507
CREATED:20180524T033434Z
LAST-MODIFIED:20180524T033434Z
UID:441-1527159600-1527170400@thenudeli.com
SUMMARY:CCS Taubman\, New Center
DESCRIPTION:Back at our favorite haunt of student hipsters and Shinola swaggerers\, we’re also happy to serve folks working in the State of Michigan office around the corner\, the Fisher Building just one block north – looking at you\, WJR – or anybody else who rocks up to the truck.
URL:https://thenudeli.com/event/ccs-taubman-new-center/
LOCATION:CCS Taubman Center\, 460 W Baltimore Street\, Detroit\, MI\, United States
CATEGORIES:Lunch
END:VEVENT
BEGIN:VEVENT
DTSTART;TZID=America/Detroit:20180521T110000
DTEND;TZID=America/Detroit:20180521T140000
DTSTAMP:20260425T180507
CREATED:20180514T172938Z
LAST-MODIFIED:20180514T172938Z
UID:436-1526900400-1526911200@thenudeli.com
SUMMARY:Lunch @Henry Ford Hospital
DESCRIPTION:
URL:https://thenudeli.com/event/lunch-henry-ford-hospital/
LOCATION:2799 W Grand Boulevard\, Detroit
CATEGORIES:Lunch
END:VEVENT
BEGIN:VEVENT
DTSTART;TZID=America/Detroit:20180518T110000
DTEND;TZID=America/Detroit:20180518T140000
DTSTAMP:20260425T180507
CREATED:20180514T162430Z
LAST-MODIFIED:20180514T162430Z
UID:421-1526641200-1526652000@thenudeli.com
SUMMARY:Lunch @Troy Food Truck Fridays
DESCRIPTION:
URL:https://thenudeli.com/event/lunch-troy-food-truck-fridays/
LOCATION:1650 Research Dr\, Maple Road between Stephenson Hwy and Chrysler Fwy\, Troy 
CATEGORIES:Lunch,Rally
END:VEVENT
BEGIN:VEVENT
DTSTART;TZID=America/Detroit:20180514T113000
DTEND;TZID=America/Detroit:20180514T133000
DTSTAMP:20260425T180507
CREATED:20180512T130431Z
LAST-MODIFIED:20180512T130431Z
UID:410-1526297400-1526304600@thenudeli.com
SUMMARY:Altarum Ann Arbor
DESCRIPTION:Plenty of parking at this office complex near the corner of Plymouth Rd and Green Rd. Pull up for lunch and hang out at our fancy new tables.
URL:https://thenudeli.com/event/altarum-ann-arbor/
LOCATION:Altarum Ann Arbor\, 3520 Green Ct\, Ann Arbor\, MI\, 48105\, United States
CATEGORIES:Lunch
END:VEVENT
BEGIN:VEVENT
DTSTART;TZID=America/Detroit:20171005T113000
DTEND;TZID=America/Detroit:20171005T133000
DTSTAMP:20260425T180507
CREATED:20171002T170920Z
LAST-MODIFIED:20171002T170938Z
UID:397-1507203000-1507210200@thenudeli.com
SUMMARY:Last Lunch in Downtown Birmingham
DESCRIPTION:Our season closer (open to the public) is at McCann in downtown Birmingham. We’re t(r)ucked inside their parking garage\, just around the corner from Maple Rd and a few steps from the Google offices. \nThanks\, McCann\, for the memories – and see you next year.
URL:https://thenudeli.com/event/last-lunch-in-downtown-birmingham/
LOCATION:McCann Garage\, 360 W Maple\, Birmingham\, MI\, United States
CATEGORIES:Lunch
END:VEVENT
BEGIN:VEVENT
DTSTART;TZID=America/Detroit:20170928T113000
DTEND;TZID=America/Detroit:20170928T133000
DTSTAMP:20260425T180507
CREATED:20170926T041238Z
LAST-MODIFIED:20170926T041238Z
UID:391-1506598200-1506605400@thenudeli.com
SUMMARY:Lunch @McCann
DESCRIPTION:
URL:https://thenudeli.com/event/lunch-mccann/
LOCATION:McCann Garage\, 360 W Maple\, Birmingham\, MI\, United States
CATEGORIES:Lunch
END:VEVENT
BEGIN:VEVENT
DTSTART;TZID=America/Detroit:20170926T100000
DTEND;TZID=America/Detroit:20170926T150000
DTSTAMP:20260425T180507
CREATED:20170926T041050Z
LAST-MODIFIED:20170926T041050Z
UID:389-1506420000-1506438000@thenudeli.com
SUMMARY:Farmer's Market
DESCRIPTION:
URL:https://thenudeli.com/event/farmers-market/
LOCATION:Shed 2\, Eastern Market
CATEGORIES:Lunch
END:VEVENT
BEGIN:VEVENT
DTSTART;TZID=America/Detroit:20170924T140000
DTEND;TZID=America/Detroit:20170924T170000
DTSTAMP:20260425T180507
CREATED:20170923T174015Z
LAST-MODIFIED:20170924T143611Z
UID:383-1506261600-1506272400@thenudeli.com
SUMMARY:Rosh Hashanah on the Riverfront – Belle Isle
DESCRIPTION:We’ll be out in front of the Detroit Boat Club – which\, it turns out\, is not the same as the Detroit Yacht Club. As you enter Belle Isle from MacArthur Bridge\, you’ll see us parked just to your left. Come join the fun!
URL:https://thenudeli.com/event/rosh-hashanah-on-the-riverfront/
LOCATION:Detroit Boat Club\, Belle Isle\, Detroit\, MI\, United States
CATEGORIES:Lunch
END:VEVENT
BEGIN:VEVENT
DTSTART;TZID=America/Detroit:20170919T100000
DTEND;TZID=America/Detroit:20170919T150000
DTSTAMP:20260425T180507
CREATED:20170914T185438Z
LAST-MODIFIED:20170914T185438Z
UID:370-1505815200-1505833200@thenudeli.com
SUMMARY:Tuesday Farmer's Market
DESCRIPTION:
URL:https://thenudeli.com/event/tuesday-farmers-market/
LOCATION:Shed 2\, Eastern Market
CATEGORIES:Lunch
END:VEVENT
BEGIN:VEVENT
DTSTART;TZID=America/Detroit:20170916T110000
DTEND;TZID=America/Detroit:20170916T150000
DTSTAMP:20260425T180507
CREATED:20170914T185259Z
LAST-MODIFIED:20170914T185259Z
UID:367-1505559600-1505574000@thenudeli.com
SUMMARY:Fall Fun at The Park
DESCRIPTION:
URL:https://thenudeli.com/event/fall-fun-at-the-park/
LOCATION:The Park at Trowbridge
CATEGORIES:Lunch
END:VEVENT
BEGIN:VEVENT
DTSTART;TZID=America/Detroit:20170915T113000
DTEND;TZID=America/Detroit:20170915T133000
DTSTAMP:20260425T180507
CREATED:20170913T130436Z
LAST-MODIFIED:20170913T130436Z
UID:363-1505475000-1505482200@thenudeli.com
SUMMARY:Lunch in Birmingham
DESCRIPTION:
URL:https://thenudeli.com/event/lunch-in-birmingham/
LOCATION:McCann Garage\, 360 W Maple\, Birmingham\, MI\, United States
CATEGORIES:Lunch
END:VEVENT
BEGIN:VEVENT
DTSTART;TZID=America/Detroit:20170914T110000
DTEND;TZID=America/Detroit:20170914T133000
DTSTAMP:20260425T180507
CREATED:20170913T000216Z
LAST-MODIFIED:20170913T001537Z
UID:349-1505386800-1505395800@thenudeli.com
SUMMARY:IHS Markit
DESCRIPTION:
URL:https://thenudeli.com/event/ihs-markit/
LOCATION:IHS Markit\, 26533 Central Park Blvd\, Southfield\, MI\, 48076\, United States
CATEGORIES:Lunch
END:VEVENT
BEGIN:VEVENT
DTSTART;TZID=America/Detroit:20170913T110000
DTEND;TZID=America/Detroit:20170913T140000
DTSTAMP:20260425T180507
CREATED:20170913T000837Z
LAST-MODIFIED:20170913T125654Z
UID:356-1505300400-1505311200@thenudeli.com
SUMMARY:Spirit of Detroit
DESCRIPTION:
URL:https://thenudeli.com/event/spirit-of-detroit/
LOCATION:Spirit of Detroit Plaza\, 1 Woodward Avenue\, Detroit\, MI\, United States
CATEGORIES:Lunch
END:VEVENT
BEGIN:VEVENT
DTSTART;TZID=America/Detroit:20170827T110000
DTEND;TZID=America/Detroit:20170827T160000
DTSTAMP:20260425T180507
CREATED:20170823T195458Z
LAST-MODIFIED:20170823T195458Z
UID:340-1503831600-1503849600@thenudeli.com
SUMMARY:Michigan Jewish Food Festival
DESCRIPTION:
URL:https://thenudeli.com/event/michigan-jewish-food-festival/
LOCATION:Eastern Market\, Shed 5\, Russell Street\, Detroit\, MI\, United States
CATEGORIES:Lunch
END:VEVENT
BEGIN:VEVENT
DTSTART;TZID=America/Detroit:20170824T110000
DTEND;TZID=America/Detroit:20170824T140000
DTSTAMP:20260425T180507
CREATED:20170823T195901Z
LAST-MODIFIED:20170823T195901Z
UID:335-1503572400-1503583200@thenudeli.com
SUMMARY:Downtown Street Eats @ Beacon Park
DESCRIPTION:
URL:https://thenudeli.com/event/downtown-street-eats-beacon-park-5/
LOCATION:MI
CATEGORIES:Lunch
END:VEVENT
BEGIN:VEVENT
DTSTART;TZID=America/Detroit:20170822T100000
DTEND;TZID=America/Detroit:20170822T150000
DTSTAMP:20260425T180507
CREATED:20170817T195502Z
LAST-MODIFIED:20170817T204202Z
UID:330-1503396000-1503414000@thenudeli.com
SUMMARY:Tuesdays @ Eastern Market
DESCRIPTION:Hop on your Quicken Loans shuttle\, your retirement community van or your bookmobile and head on over to Tuesday’s most exciting lunch spot.
URL:https://thenudeli.com/event/tuesdays-eastern-market-6/
LOCATION:Eastern Market\, Shed 5\, Russell Street\, Detroit\, MI\, United States
CATEGORIES:Lunch
END:VEVENT
BEGIN:VEVENT
DTSTART;TZID=America/Detroit:20170821T110000
DTEND;TZID=America/Detroit:20170821T140000
DTSTAMP:20260425T180507
CREATED:20170817T194949Z
LAST-MODIFIED:20170817T194949Z
UID:328-1503313200-1503324000@thenudeli.com
SUMMARY:Downtown Street Eats @ Beacon Park
DESCRIPTION:This week could be your last chance all year to eat our signature Reuben while riding an illuminated see-saw.
URL:https://thenudeli.com/event/downtown-street-eats-beacon-park-4/
LOCATION:Beacon Park\, 1903 Grand River Ave\, Detroit\, MI\, United States
CATEGORIES:Lunch
END:VEVENT
BEGIN:VEVENT
DTSTART;TZID=America/Detroit:20170818T110000
DTEND;TZID=America/Detroit:20170818T140000
DTSTAMP:20260425T180507
CREATED:20170811T184917Z
LAST-MODIFIED:20170811T184917Z
UID:322-1503054000-1503064800@thenudeli.com
SUMMARY:Downtown Street Eats @ Campus Martius
DESCRIPTION:Slinging it all week at the epicenter of Detroit food truck culture.
URL:https://thenudeli.com/event/downtown-street-eats-campus-martius-6/
LOCATION:Campus Martius Park\, 800 Woodward Ave\, Detroit\, MI\, 48226\, United States
CATEGORIES:Lunch
END:VEVENT
BEGIN:VEVENT
DTSTART;TZID=America/Detroit:20170817T110000
DTEND;TZID=America/Detroit:20170817T140000
DTSTAMP:20260425T180507
CREATED:20170811T133153Z
LAST-MODIFIED:20170811T133153Z
UID:320-1502967600-1502978400@thenudeli.com
SUMMARY:Downtown Street Eats @ Campus Martius
DESCRIPTION:Slinging it all week at the epicenter of Detroit food truck culture.
URL:https://thenudeli.com/event/downtown-street-eats-campus-martius-5/
LOCATION:Campus Martius Park\, 800 Woodward Ave\, Detroit\, MI\, 48226\, United States
CATEGORIES:Lunch
END:VEVENT
BEGIN:VEVENT
DTSTART;TZID=America/Detroit:20170816T110000
DTEND;TZID=America/Detroit:20170816T140000
DTSTAMP:20260425T180507
CREATED:20170811T133051Z
LAST-MODIFIED:20170811T133051Z
UID:318-1502881200-1502892000@thenudeli.com
SUMMARY:Downtown Street Eats @ Campus Martius
DESCRIPTION:Slinging it all week at the epicenter of Detroit food truck culture.
URL:https://thenudeli.com/event/downtown-street-eats-campus-martius-4/
LOCATION:Campus Martius Park\, 800 Woodward Ave\, Detroit\, MI\, 48226\, United States
CATEGORIES:Lunch
END:VEVENT
BEGIN:VEVENT
DTSTART;TZID=America/Detroit:20170815T110000
DTEND;TZID=America/Detroit:20170815T140000
DTSTAMP:20260425T180507
CREATED:20170811T132953Z
LAST-MODIFIED:20170811T132953Z
UID:316-1502794800-1502805600@thenudeli.com
SUMMARY:Downtown Street Eats @ Campus Martius
DESCRIPTION:Slinging it all week at the epicenter of Detroit food truck culture.
URL:https://thenudeli.com/event/downtown-street-eats-campus-martius-3/
LOCATION:Campus Martius Park\, 800 Woodward Ave\, Detroit\, MI\, 48226\, United States
CATEGORIES:Lunch
END:VEVENT
BEGIN:VEVENT
DTSTART;TZID=America/Detroit:20170814T110000
DTEND;TZID=America/Detroit:20170814T140000
DTSTAMP:20260425T180507
CREATED:20170811T125928Z
LAST-MODIFIED:20170811T125928Z
UID:314-1502708400-1502719200@thenudeli.com
SUMMARY:Downtown Street Eats @ Campus Martius
DESCRIPTION:Slinging it all week at the epicenter of Detroit food truck culture.
URL:https://thenudeli.com/event/downtown-street-eats-campus-martius-2/
LOCATION:Campus Martius Park\, 800 Woodward Ave\, Detroit\, MI\, 48226\, United States
CATEGORIES:Lunch
END:VEVENT
BEGIN:VEVENT
DTSTART;TZID=America/Detroit:20170811T110000
DTEND;TZID=America/Detroit:20170811T133000
DTSTAMP:20260425T180507
CREATED:20170802T135751Z
LAST-MODIFIED:20170802T135751Z
UID:309-1502449200-1502458200@thenudeli.com
SUMMARY:Ford Land Truck Rally
DESCRIPTION:Think Ford first! Right around the corner from the Lions’ training facility\, it’s our inaugural occasion joining this awesome lineup of trucks.
URL:https://thenudeli.com/event/ford-land-truck-rally/
LOCATION:Ford Land Truck Rally\, 1000 Republic Dr\, Allen Park\, MI\, United States
CATEGORIES:Lunch
ATTACH;FMTTYPE=image/jpeg:https://thenudeli.com/wp-content/uploads/2017/08/FL-TRUCK-RALLY_Flyer_V6_FIN_olt_300DPI_RGB.jpg
END:VEVENT
BEGIN:VEVENT
DTSTART;TZID=America/Detroit:20170810T113000
DTEND;TZID=America/Detroit:20170810T133000
DTSTAMP:20260425T180507
CREATED:20170802T134514Z
LAST-MODIFIED:20170802T134514Z
UID:307-1502364600-1502371800@thenudeli.com
SUMMARY:Downtown Birmingham @ McCann
DESCRIPTION:Sometimes\, after a long hectic week – and before another one – you just want to hide inside a garage with old friends. Thanks\, McCann. Of course\, just because we’re tucked away off the street doesn’t mean we’re not just steps away from Birmingham’s offices and parks. Play hide & seek with us.
URL:https://thenudeli.com/event/downtown-birmingham-mccann-2/
LOCATION:McCann Garage\, 360 W Maple\, Birmingham\, MI\, United States
CATEGORIES:Lunch
END:VEVENT
END:VCALENDAR