BEGIN:VCALENDAR
VERSION:2.0
PRODID:-//Nu Deli - ECPv6.15.1.1//NONSGML v1.0//EN
CALSCALE:GREGORIAN
METHOD:PUBLISH
X-WR-CALNAME:Nu Deli
X-ORIGINAL-URL:https://thenudeli.com
X-WR-CALDESC:Events for Nu Deli
REFRESH-INTERVAL;VALUE=DURATION:PT1H
X-Robots-Tag:noindex
X-PUBLISHED-TTL:PT1H
BEGIN:VTIMEZONE
TZID:America/Detroit
BEGIN:DAYLIGHT
TZOFFSETFROM:-0500
TZOFFSETTO:-0400
TZNAME:EDT
DTSTART:20190310T070000
END:DAYLIGHT
BEGIN:STANDARD
TZOFFSETFROM:-0400
TZOFFSETTO:-0500
TZNAME:EST
DTSTART:20191103T060000
END:STANDARD
END:VTIMEZONE
BEGIN:VEVENT
DTSTART;TZID=America/Detroit:20190719T113000
DTEND;TZID=America/Detroit:20190719T133000
DTSTAMP:20260425T085533
CREATED:20190708T035152Z
LAST-MODIFIED:20190708T035152Z
UID:821-1563535800-1563543000@thenudeli.com
SUMMARY:360 W Maple\, Downtown Birmingham
DESCRIPTION:
URL:https://thenudeli.com/event/360-w-maple-downtown-birmingham/
LOCATION:McCann Garage\, 360 W Maple\, Birmingham\, MI\, United States
CATEGORIES:Lunch
END:VEVENT
BEGIN:VEVENT
DTSTART;TZID=America/Detroit:20190715T110000
DTEND;TZID=America/Detroit:20190715T140000
DTSTAMP:20260425T085533
CREATED:20190708T034732Z
LAST-MODIFIED:20190708T034732Z
UID:819-1563188400-1563199200@thenudeli.com
SUMMARY:Henry Ford Hospital\, New Center
DESCRIPTION:
URL:https://thenudeli.com/event/henry-ford-hospital-new-center-2/
LOCATION:Henry Ford Hospital\, West Grand Boulevard @ Lodge Fwy\, Detroit\, MI\, United States
CATEGORIES:Lunch,Rally
END:VEVENT
BEGIN:VEVENT
DTSTART;TZID=America/Detroit:20190712T110000
DTEND;TZID=America/Detroit:20190712T140000
DTSTAMP:20260425T085533
CREATED:20190708T034402Z
LAST-MODIFIED:20190708T034402Z
UID:813-1562929200-1562940000@thenudeli.com
SUMMARY:Downtown Street Eats @ Cadillac Square
DESCRIPTION:
URL:https://thenudeli.com/event/downtown-street-eats-cadillac-square-5/
LOCATION:Campus Martius Park\, 800 Woodward Ave\, Detroit\, MI\, 48226\, United States
CATEGORIES:Lunch
END:VEVENT
BEGIN:VEVENT
DTSTART;TZID=America/Detroit:20190711T110000
DTEND;TZID=America/Detroit:20190711T140000
DTSTAMP:20260425T085533
CREATED:20190708T034257Z
LAST-MODIFIED:20190708T034257Z
UID:811-1562842800-1562853600@thenudeli.com
SUMMARY:Downtown Street Eats @ Spirit Plaza
DESCRIPTION:
URL:https://thenudeli.com/event/downtown-street-eats-spirit-plaza-3/
LOCATION:Spirit of Detroit Plaza\, 1 Woodward Avenue\, Detroit\, MI\, United States
CATEGORIES:Lunch
END:VEVENT
BEGIN:VEVENT
DTSTART;TZID=America/Detroit:20190710T110000
DTEND;TZID=America/Detroit:20190710T140000
DTSTAMP:20260425T085533
CREATED:20190708T033814Z
LAST-MODIFIED:20190708T033814Z
UID:807-1562756400-1562767200@thenudeli.com
SUMMARY:Downtown Street Eats @ Q Line Esplanade
DESCRIPTION:
URL:https://thenudeli.com/event/downtown-street-eats-q-line-esplanade/
LOCATION:Campus Martius Park\, 800 Woodward Ave\, Detroit\, MI\, 48226\, United States
CATEGORIES:Lunch
END:VEVENT
BEGIN:VEVENT
DTSTART;TZID=America/Detroit:20190709T110000
DTEND;TZID=America/Detroit:20190709T140000
DTSTAMP:20260425T085533
CREATED:20190708T033708Z
LAST-MODIFIED:20190708T033708Z
UID:805-1562670000-1562680800@thenudeli.com
SUMMARY:Downtown Street Eats @ Beacon Park
DESCRIPTION:
URL:https://thenudeli.com/event/downtown-street-eats-beacon-park-8/
LOCATION:Beacon Park\, 1903 Grand River Ave\, Detroit\, MI\, United States
CATEGORIES:Lunch
END:VEVENT
BEGIN:VEVENT
DTSTART;TZID=America/Detroit:20190708T110000
DTEND;TZID=America/Detroit:20190708T140000
DTSTAMP:20260425T085533
CREATED:20190708T033618Z
LAST-MODIFIED:20190708T033618Z
UID:803-1562583600-1562594400@thenudeli.com
SUMMARY:Downtown Street Eats @ Cadillac Square
DESCRIPTION:
URL:https://thenudeli.com/event/downtown-street-eats-cadillac-square-4/
LOCATION:Campus Martius Park\, 800 Woodward Ave\, Detroit\, MI\, 48226\, United States
CATEGORIES:Lunch
END:VEVENT
BEGIN:VEVENT
DTSTART;TZID=America/Detroit:20190703T100000
DTEND;TZID=America/Detroit:20190703T150000
DTSTAMP:20260425T085533
CREATED:20190628T143552Z
LAST-MODIFIED:20190628T143552Z
UID:798-1562148000-1562166000@thenudeli.com
SUMMARY:Wayne State Farmers Market
DESCRIPTION:Back and better than ever! At the heart of Midtown\, we’re rocking it with some really special local vendors and fun food stalls. See you there.
URL:https://thenudeli.com/event/wayne-state-farmers-market/
LOCATION:Wayne State University Farmers Market\, Warren @ Woodward\, Detroit\, MI\, 48202\, United States
CATEGORIES:Lunch,Market
END:VEVENT
BEGIN:VEVENT
DTSTART;TZID=America/Detroit:20190629T093000
DTEND;TZID=America/Detroit:20190629T150000
DTSTAMP:20260425T085533
CREATED:20190628T144516Z
LAST-MODIFIED:20190628T144516Z
UID:801-1561800600-1561820400@thenudeli.com
SUMMARY:Eastern Market Saturday on Adelaide
DESCRIPTION:Find us at our spot in front of the old Farmers Restaurant — Adelaide at Market Streets — between Sheds 2 & 3.
URL:https://thenudeli.com/event/eastern-market-saturday-on-adelaide/
LOCATION:Shed 2\, Eastern Market
CATEGORIES:Breakfast,Lunch,Market
END:VEVENT
BEGIN:VEVENT
DTSTART;TZID=America/Detroit:20190614T110000
DTEND;TZID=America/Detroit:20190614T140000
DTSTAMP:20260425T085533
CREATED:20190610T001131Z
LAST-MODIFIED:20190610T001131Z
UID:776-1560510000-1560520800@thenudeli.com
SUMMARY:McCann Worldwide\, Birmingham
DESCRIPTION:
URL:https://thenudeli.com/event/mccann-worldwide-birmingham/
LOCATION:McCann Garage\, 360 W Maple\, Birmingham\, MI\, United States
CATEGORIES:Lunch
END:VEVENT
BEGIN:VEVENT
DTSTART;TZID=America/Detroit:20190613T110000
DTEND;TZID=America/Detroit:20190613T140000
DTSTAMP:20260425T085533
CREATED:20190610T001025Z
LAST-MODIFIED:20190610T001025Z
UID:774-1560423600-1560434400@thenudeli.com
SUMMARY:CCS Taubman\, New Center
DESCRIPTION:
URL:https://thenudeli.com/event/ccs-taubman-new-center-4/
LOCATION:CCS Taubman Center\, 460 W Baltimore Street\, Detroit\, MI\, United States
CATEGORIES:Lunch
END:VEVENT
BEGIN:VEVENT
DTSTART;TZID=America/Detroit:20190610T110000
DTEND;TZID=America/Detroit:20190610T130000
DTSTAMP:20260425T085533
CREATED:20190610T000801Z
LAST-MODIFIED:20190610T000801Z
UID:770-1560164400-1560171600@thenudeli.com
SUMMARY:3000 Town Center\, Southfield
DESCRIPTION:
URL:https://thenudeli.com/event/3000-town-center-southfield/
LOCATION:Southfield Town Center\, 3000 Town Center\, Southfield\, MI\, 48075\, United States
CATEGORIES:Lunch
END:VEVENT
BEGIN:VEVENT
DTSTART;TZID=America/Detroit:20190609T093000
DTEND;TZID=America/Detroit:20190609T153000
DTSTAMP:20260425T085533
CREATED:20190610T001512Z
LAST-MODIFIED:20190610T001512Z
UID:780-1560072600-1560094200@thenudeli.com
SUMMARY:Eastern Market Saturdays between Sheds 2 & 3
DESCRIPTION:
URL:https://thenudeli.com/event/eastern-market-saturdays-between-sheds-2-3/
LOCATION:Eastern Market\, Shed 5\, Russell Street\, Detroit\, MI\, United States
CATEGORIES:Lunch,Market
END:VEVENT
BEGIN:VEVENT
DTSTART;TZID=America/Detroit:20190608T100000
DTEND;TZID=America/Detroit:20190608T170000
DTSTAMP:20260425T085533
CREATED:20190605T020907Z
LAST-MODIFIED:20190605T020907Z
UID:767-1559988000-1560013200@thenudeli.com
SUMMARY:Berkley Art Bash
DESCRIPTION:12 Mile comes alive! Find us at the corner of Wakefield making the post office look good.
URL:https://thenudeli.com/event/berkley-art-bash-2/
LOCATION:Berkeley Art Bash\, 2886 Twelve Mile Rd\, Berkley\, MI\, 48072\, United States
CATEGORIES:Festival,Lunch
END:VEVENT
BEGIN:VEVENT
DTSTART;TZID=America/Detroit:20190607T110000
DTEND;TZID=America/Detroit:20190607T140000
DTSTAMP:20260425T085533
CREATED:20190605T020456Z
LAST-MODIFIED:20190605T020456Z
UID:765-1559905200-1559916000@thenudeli.com
SUMMARY:Downtown Street Eats @ Beacon Park
DESCRIPTION:
URL:https://thenudeli.com/event/downtown-street-eats-beacon-park-7/
LOCATION:Beacon Park\, 1903 Grand River Ave\, Detroit\, MI\, United States
CATEGORIES:Lunch
END:VEVENT
BEGIN:VEVENT
DTSTART;TZID=America/Detroit:20190606T110000
DTEND;TZID=America/Detroit:20190606T140000
DTSTAMP:20260425T085533
CREATED:20190605T020404Z
LAST-MODIFIED:20190605T020404Z
UID:763-1559818800-1559829600@thenudeli.com
SUMMARY:Downtown Street Eats @ Spirit Plaza
DESCRIPTION:
URL:https://thenudeli.com/event/downtown-street-eats-spirit-plaza-2/
LOCATION:Spirit of Detroit Plaza\, 1 Woodward Avenue\, Detroit\, MI\, United States
CATEGORIES:Lunch
END:VEVENT
BEGIN:VEVENT
DTSTART;TZID=America/Detroit:20190605T110000
DTEND;TZID=America/Detroit:20190605T140000
DTSTAMP:20260425T085533
CREATED:20190605T020204Z
LAST-MODIFIED:20190605T020204Z
UID:761-1559732400-1559743200@thenudeli.com
SUMMARY:Downtown Street Eats @ Cadillac Square
DESCRIPTION:
URL:https://thenudeli.com/event/downtown-street-eats-cadillac-square-3/
LOCATION:Campus Martius Park\, 800 Woodward Ave\, Detroit\, MI\, 48226\, United States
CATEGORIES:Lunch
END:VEVENT
BEGIN:VEVENT
DTSTART;TZID=America/Detroit:20190603T110000
DTEND;TZID=America/Detroit:20190603T140000
DTSTAMP:20260425T085533
CREATED:20190605T015806Z
LAST-MODIFIED:20190605T015806Z
UID:757-1559559600-1559570400@thenudeli.com
SUMMARY:Spirit Plaza
DESCRIPTION:
URL:https://thenudeli.com/event/spirit-plaza/
LOCATION:Spirit of Detroit Plaza\, 1 Woodward Avenue\, Detroit\, MI\, United States
CATEGORIES:Lunch
END:VEVENT
BEGIN:VEVENT
DTSTART;TZID=America/Detroit:20190530T110000
DTEND;TZID=America/Detroit:20190530T140000
DTSTAMP:20260425T085533
CREATED:20190430T023251Z
LAST-MODIFIED:20190430T023251Z
UID:706-1559214000-1559224800@thenudeli.com
SUMMARY:Plex Systems\, Troy
DESCRIPTION:Troy\, come on out to this monster event. We’ll be ready for you.
URL:https://thenudeli.com/event/plex-systems-troy/
LOCATION:Plex Systems\, 900 Tower Drive\, Troy\, MI\, 48098\, United States
CATEGORIES:Lunch
END:VEVENT
BEGIN:VEVENT
DTSTART;TZID=America/Detroit:20190526T100000
DTEND;TZID=America/Detroit:20190526T160000
DTSTAMP:20260425T085533
CREATED:20190430T022632Z
LAST-MODIFIED:20190430T022632Z
UID:704-1558864800-1558886400@thenudeli.com
SUMMARY:Ann Arbor Flower Day
DESCRIPTION:Yup\, we’re not going to soft-petal it: we’re gluttons for prune-ishment. For our second consecutive Flower Day Sunday we’re planting ourselves right in the middle of the Ann Arbor Farmers Market.
URL:https://thenudeli.com/event/ann-arbor-flower-day/
LOCATION:Ann Arbor Farmers Market\, 315 Detroit Street\, Ann Arbor\, MI\, United States
CATEGORIES:Lunch,Market
END:VEVENT
BEGIN:VEVENT
DTSTART;TZID=America/Detroit:20190525T090000
DTEND;TZID=America/Detroit:20190525T150000
DTSTAMP:20260425T085533
CREATED:20190525T025009Z
LAST-MODIFIED:20190525T025009Z
UID:755-1558774800-1558796400@thenudeli.com
SUMMARY:Eastern Market Hot Spot on Adelaide
DESCRIPTION:The hottest spot in town is at Adelaide & Market Streets by the old Farmer’s Restaurant. Today only: free samples of our tomato chutney\, soon to hit shelves at a store near you!
URL:https://thenudeli.com/event/eastern-market-hot-spot-on-adelaide/
LOCATION:Eastern Market\, Shed 5\, Russell Street\, Detroit\, MI\, United States
CATEGORIES:Lunch,Market
END:VEVENT
BEGIN:VEVENT
DTSTART;TZID=America/Detroit:20190523T110000
DTEND;TZID=America/Detroit:20190523T140000
DTSTAMP:20260425T085533
CREATED:20190430T021132Z
LAST-MODIFIED:20190430T021132Z
UID:701-1558609200-1558620000@thenudeli.com
SUMMARY:Southfield Town Center
DESCRIPTION:Thanks to Transwestern at 3000 Town Center for hosting food trucks. Southfield\, come on down!
URL:https://thenudeli.com/event/southfield-town-center/
LOCATION:Southfield Town Center\, 3000 Town Center\, Southfield\, MI\, 48075\, United States
CATEGORIES:Lunch
END:VEVENT
BEGIN:VEVENT
DTSTART;TZID=America/Detroit:20190520T110000
DTEND;TZID=America/Detroit:20190520T140000
DTSTAMP:20260425T085533
CREATED:20190430T020751Z
LAST-MODIFIED:20190430T020751Z
UID:699-1558350000-1558360800@thenudeli.com
SUMMARY:Henry Ford Hospital Lunch Rally
DESCRIPTION:On the tennis courts with our favorite trucks. If you’re lucky\, you might catch a helicopter landing! But you will certainly catch an incredible lunch.
URL:https://thenudeli.com/event/henry-ford-hospital-lunch-rally/
LOCATION:Henry Ford Hospital\, West Grand Boulevard @ Lodge Fwy\, Detroit\, MI\, United States
CATEGORIES:Lunch,Rally
END:VEVENT
BEGIN:VEVENT
DTSTART;TZID=America/Detroit:20190519T060000
DTEND;TZID=America/Detroit:20190519T170000
DTSTAMP:20260425T085533
CREATED:20190516T123046Z
LAST-MODIFIED:20190516T123046Z
UID:753-1558245600-1558285200@thenudeli.com
SUMMARY:Flower Day 2019!
DESCRIPTION:The biggest event of the year. Find us for hot chai and bagel specials in the morning\, for iced chai and grilled sandwiches at midday\, and if necessary for a little island of Russell Street rain cover in the late afternoon.
URL:https://thenudeli.com/event/flower-day-2019/
LOCATION:Eastern Market\, Shed 5\, Russell Street\, Detroit\, MI\, United States
CATEGORIES:Breakfast,Lunch,Market
END:VEVENT
BEGIN:VEVENT
DTSTART;TZID=America/Detroit:20190517T110000
DTEND;TZID=America/Detroit:20190517T140000
DTSTAMP:20260425T085533
CREATED:20190429T225700Z
LAST-MODIFIED:20190429T225700Z
UID:693-1558090800-1558101600@thenudeli.com
SUMMARY:Downtown Street Eats @ Beacon Park
DESCRIPTION:Back on the big stage! Downtown all week and in Cadillac Square for three huge days of mid-May. Looking forward to seeing familiar faces.
URL:https://thenudeli.com/event/downtown-street-eats-beacon-park-6/
LOCATION:Beacon Park\, 1903 Grand River Ave\, Detroit\, MI\, United States
CATEGORIES:Lunch
END:VEVENT
BEGIN:VEVENT
DTSTART;TZID=America/Detroit:20190516T110000
DTEND;TZID=America/Detroit:20190516T140000
DTSTAMP:20260425T085533
CREATED:20190429T225615Z
LAST-MODIFIED:20190429T225615Z
UID:691-1558004400-1558015200@thenudeli.com
SUMMARY:Downtown Street Eats @ Campus Martius
DESCRIPTION:Back on the big stage! Downtown all week and in Cadillac Square for three huge days of mid-May. Looking forward to seeing familiar faces.
URL:https://thenudeli.com/event/downtown-street-eats-campus-martius-9/
LOCATION:Campus Martius Park\, 800 Woodward Ave\, Detroit\, MI\, 48226\, United States
CATEGORIES:Lunch
END:VEVENT
BEGIN:VEVENT
DTSTART;TZID=America/Detroit:20190515T110000
DTEND;TZID=America/Detroit:20190515T140000
DTSTAMP:20260425T085533
CREATED:20190429T225533Z
LAST-MODIFIED:20190429T225533Z
UID:689-1557918000-1557928800@thenudeli.com
SUMMARY:Downtown Street Eats @ Spirit Plaza
DESCRIPTION:Back on the big stage! Downtown all week and in Cadillac Square for three huge days of mid-May. Looking forward to seeing familiar faces.
URL:https://thenudeli.com/event/downtown-street-eats-spirit-plaza/
LOCATION:Spirit of Detroit Plaza\, 1 Woodward Avenue\, Detroit\, MI\, United States
CATEGORIES:Lunch
END:VEVENT
BEGIN:VEVENT
DTSTART;TZID=America/Detroit:20190513T110000
DTEND;TZID=America/Detroit:20190513T140000
DTSTAMP:20260425T085533
CREATED:20190429T225354Z
LAST-MODIFIED:20190429T225354Z
UID:685-1557745200-1557756000@thenudeli.com
SUMMARY:Downtown Street Eats @ Campus Martius
DESCRIPTION:Back on the big stage! Downtown all week and in Cadillac Square for three huge days of mid-May. Looking forward to seeing familiar faces.
URL:https://thenudeli.com/event/downtown-street-eats-campus-martius-7/
LOCATION:Campus Martius Park\, 800 Woodward Ave\, Detroit\, MI\, 48226\, United States
CATEGORIES:Lunch
END:VEVENT
BEGIN:VEVENT
DTSTART;TZID=America/Detroit:20190510T110000
DTEND;TZID=America/Detroit:20190510T140000
DTSTAMP:20260425T085533
CREATED:20190501T184606Z
LAST-MODIFIED:20190501T184606Z
UID:709-1557486000-1557496800@thenudeli.com
SUMMARY:Ford Land Season Opening Rally
DESCRIPTION:A dozen trucks and a live band sounds like spring! Find us just 100 yards behind the Lions’ practice facility.
URL:https://thenudeli.com/event/ford-land-season-opening-rally/
LOCATION:Ford Land Truck Rally\, 1000 Republic Dr\, Allen Park\, MI\, United States
CATEGORIES:Lunch,Music,Rally
END:VEVENT
BEGIN:VEVENT
DTSTART;TZID=America/Detroit:20190509T103000
DTEND;TZID=America/Detroit:20190509T140000
DTSTAMP:20260425T085533
CREATED:20190501T191910Z
LAST-MODIFIED:20190501T191910Z
UID:714-1557397800-1557410400@thenudeli.com
SUMMARY:St. Mary Mercy\, Livonia
DESCRIPTION:400 nurses can’t all be wrong! We’re thrilled to be serving the folks who serve us so diligently. Scrubs or no scrubs\, join us in the parking lot south of 5 Mile.
URL:https://thenudeli.com/event/st-mary-mercy-livonia-2/
LOCATION:St. Mary Mercy Hospital\, 36475 Five Mile Rd\, Livonia\, MI\, 48154\, United States
CATEGORIES:Lunch
END:VEVENT
END:VCALENDAR