BEGIN:VCALENDAR
VERSION:2.0
PRODID:-//Nu Deli - ECPv6.15.1.1//NONSGML v1.0//EN
CALSCALE:GREGORIAN
METHOD:PUBLISH
X-WR-CALNAME:Nu Deli
X-ORIGINAL-URL:https://thenudeli.com
X-WR-CALDESC:Events for Nu Deli
REFRESH-INTERVAL;VALUE=DURATION:PT1H
X-Robots-Tag:noindex
X-PUBLISHED-TTL:PT1H
BEGIN:VTIMEZONE
TZID:America/Detroit
BEGIN:DAYLIGHT
TZOFFSETFROM:-0500
TZOFFSETTO:-0400
TZNAME:EDT
DTSTART:20230312T070000
END:DAYLIGHT
BEGIN:STANDARD
TZOFFSETFROM:-0400
TZOFFSETTO:-0500
TZNAME:EST
DTSTART:20231105T060000
END:STANDARD
END:VTIMEZONE
BEGIN:VEVENT
DTSTART;TZID=America/Detroit:20230818T110000
DTEND;TZID=America/Detroit:20230818T140000
DTSTAMP:20260424T120119
CREATED:20230808T180837Z
LAST-MODIFIED:20230808T180837Z
UID:1441-1692356400-1692367200@thenudeli.com
SUMMARY:Henry Ford Medical Center\, Plymouth
DESCRIPTION:
URL:https://thenudeli.com/event/henry-ford-medical-center-plymouth/
LOCATION:Henry Ford Medical Center\, Plymouth\, 40777 Ann Arbor Road\, Plymouth\, MI\, 48170\, United States
CATEGORIES:Lunch
END:VEVENT
BEGIN:VEVENT
DTSTART;TZID=America/Detroit:20230817T110000
DTEND;TZID=America/Detroit:20230817T150000
DTSTAMP:20260424T120119
CREATED:20230730T164243Z
LAST-MODIFIED:20230730T164243Z
UID:1413-1692270000-1692284400@thenudeli.com
SUMMARY:Downtown Street Eats @ Cadillac Square
DESCRIPTION:
URL:https://thenudeli.com/event/downtown-street-eats-cadillac-square-38/
LOCATION:Campus Martius Park\, 800 Woodward Ave\, Detroit\, MI\, 48226\, United States
CATEGORIES:Lunch
END:VEVENT
BEGIN:VEVENT
DTSTART;TZID=America/Detroit:20230815T113000
DTEND;TZID=America/Detroit:20230815T143000
DTSTAMP:20260424T120119
CREATED:20230730T164106Z
LAST-MODIFIED:20230730T164106Z
UID:1411-1692099000-1692109800@thenudeli.com
SUMMARY:United Wholesale Mortgage\, Pontiac
DESCRIPTION:
URL:https://thenudeli.com/event/united-wholesale-mortgage-pontiac-2/
LOCATION:United Wholesale Mortgage\, 585 South Blvd E\, Pontiac\, MI\, 48341\, United States
CATEGORIES:Lunch
END:VEVENT
BEGIN:VEVENT
DTSTART;TZID=America/Detroit:20230814T110000
DTEND;TZID=America/Detroit:20230814T150000
DTSTAMP:20260424T120119
CREATED:20230730T163956Z
LAST-MODIFIED:20230730T163956Z
UID:1409-1692010800-1692025200@thenudeli.com
SUMMARY:Downtown Street Eats @ Cadillac Square
DESCRIPTION:
URL:https://thenudeli.com/event/downtown-street-eats-cadillac-square-37/
LOCATION:Campus Martius Park\, 800 Woodward Ave\, Detroit\, MI\, 48226\, United States
CATEGORIES:Lunch
END:VEVENT
BEGIN:VEVENT
DTSTART;TZID=America/Detroit:20230812T120000
DTEND;TZID=America/Detroit:20230812T160000
DTSTAMP:20260424T120119
CREATED:20230730T163752Z
LAST-MODIFIED:20230730T163752Z
UID:1407-1691841600-1691856000@thenudeli.com
SUMMARY:Urbanrest Brewing\, Ferndale
DESCRIPTION:
URL:https://thenudeli.com/event/urbanrest-brewing-ferndale-16/
LOCATION:Urbanrest Brewing Company\, 2615 Wolcott Street\, Ferndale\, MI\, 48220\, United States
CATEGORIES:Brewery,Lunch
END:VEVENT
BEGIN:VEVENT
DTSTART;TZID=America/Detroit:20230811T120000
DTEND;TZID=America/Detroit:20230811T200000
DTSTAMP:20260424T120119
CREATED:20230808T181119Z
LAST-MODIFIED:20230808T181119Z
UID:1444-1691755200-1691784000@thenudeli.com
SUMMARY:E. Warren Farmers Market
DESCRIPTION:
URL:https://thenudeli.com/event/e-warren-farmers-market/
LOCATION:East Warren Farmers’ Market\, 16835 E Warren Ave\, Detroit\, Michigan\, 48224\, United States
CATEGORIES:Dinner,Lunch,Market
END:VEVENT
BEGIN:VEVENT
DTSTART;TZID=America/Detroit:20230810T110000
DTEND;TZID=America/Detroit:20230810T150000
DTSTAMP:20260424T120119
CREATED:20230730T163653Z
LAST-MODIFIED:20230730T163653Z
UID:1405-1691665200-1691679600@thenudeli.com
SUMMARY:Downtown Street Eats @ Cadillac Square
DESCRIPTION:
URL:https://thenudeli.com/event/downtown-street-eats-cadillac-square-36/
LOCATION:Campus Martius Park\, 800 Woodward Ave\, Detroit\, MI\, 48226\, United States
CATEGORIES:Lunch
END:VEVENT
BEGIN:VEVENT
DTSTART;TZID=America/Detroit:20230809T113000
DTEND;TZID=America/Detroit:20230809T133000
DTSTAMP:20260424T120119
CREATED:20230730T163329Z
LAST-MODIFIED:20230808T180531Z
UID:1401-1691580600-1691587800@thenudeli.com
SUMMARY:3000 Town Center\, Southfield
DESCRIPTION:
URL:https://thenudeli.com/event/downtown-street-eats-cadillac-square-35/
LOCATION:Southfield Town Center\, 3000 Town Center\, Southfield\, MI\, 48075\, United States
CATEGORIES:Lunch
END:VEVENT
BEGIN:VEVENT
DTSTART;TZID=America/Detroit:20230804T110000
DTEND;TZID=America/Detroit:20230804T150000
DTSTAMP:20260424T120119
CREATED:20230730T162835Z
LAST-MODIFIED:20230730T162835Z
UID:1397-1691146800-1691161200@thenudeli.com
SUMMARY:Spirit Plaza\, Woodward @ Jefferson
DESCRIPTION:
URL:https://thenudeli.com/event/spirit-plaza-woodward-jefferson-9/
LOCATION:Spirit of Detroit Plaza\, 1 Woodward Avenue\, Detroit\, MI\, United States
CATEGORIES:Lunch
END:VEVENT
BEGIN:VEVENT
DTSTART;TZID=America/Detroit:20230803T113000
DTEND;TZID=America/Detroit:20230803T143000
DTSTAMP:20260424T120119
CREATED:20230730T162640Z
LAST-MODIFIED:20230730T162640Z
UID:1395-1691062200-1691073000@thenudeli.com
SUMMARY:United Wholesale Mortgage\, Pontiac
DESCRIPTION:
URL:https://thenudeli.com/event/united-wholesale-mortgage-pontiac/
LOCATION:United Wholesale Mortgage\, 585 South Blvd E\, Pontiac\, MI\, 48341\, United States
CATEGORIES:Lunch
END:VEVENT
BEGIN:VEVENT
DTSTART;TZID=America/Detroit:20230802T110000
DTEND;TZID=America/Detroit:20230802T150000
DTSTAMP:20260424T120119
CREATED:20230730T162458Z
LAST-MODIFIED:20230730T162458Z
UID:1393-1690974000-1690988400@thenudeli.com
SUMMARY:Downtown Street Eats @ Cadillac Square
DESCRIPTION:
URL:https://thenudeli.com/event/downtown-street-eats-cadillac-square-34/
LOCATION:Campus Martius Park\, 800 Woodward Ave\, Detroit\, MI\, 48226\, United States
CATEGORIES:Lunch
END:VEVENT
BEGIN:VEVENT
DTSTART;TZID=America/Detroit:20230729T140000
DTEND;TZID=America/Detroit:20230729T210000
DTSTAMP:20260424T120119
CREATED:20230630T024827Z
LAST-MODIFIED:20230630T024827Z
UID:1389-1690639200-1690664400@thenudeli.com
SUMMARY:MAP Fest
DESCRIPTION:Avalon Village comes to life with Music | Art | Poetry and you!
URL:https://thenudeli.com/event/map-fest/
LOCATION:Avalon Village\, 32 Avalon St\, Highland Park\, MI\, 48203\, United States
CATEGORIES:Dinner,Festival,Lunch,Music
END:VEVENT
BEGIN:VEVENT
DTSTART;TZID=America/Detroit:20230728T110000
DTEND;TZID=America/Detroit:20230728T150000
DTSTAMP:20260424T120119
CREATED:20230630T024552Z
LAST-MODIFIED:20230630T024552Z
UID:1387-1690542000-1690556400@thenudeli.com
SUMMARY:Downtown Street Eats @ Cadillac Square
DESCRIPTION:
URL:https://thenudeli.com/event/downtown-street-eats-cadillac-square-33/
LOCATION:Campus Martius Park\, 800 Woodward Ave\, Detroit\, MI\, 48226\, United States
CATEGORIES:Lunch
END:VEVENT
BEGIN:VEVENT
DTSTART;TZID=America/Detroit:20230727T110000
DTEND;TZID=America/Detroit:20230727T150000
DTSTAMP:20260424T120119
CREATED:20230630T024451Z
LAST-MODIFIED:20230630T024451Z
UID:1385-1690455600-1690470000@thenudeli.com
SUMMARY:Spirit Plaza\, Woodward @ Jefferson
DESCRIPTION:
URL:https://thenudeli.com/event/spirit-plaza-woodward-jefferson-8/
LOCATION:Spirit of Detroit Plaza\, 1 Woodward Avenue\, Detroit\, MI\, United States
CATEGORIES:Lunch
END:VEVENT
BEGIN:VEVENT
DTSTART;TZID=America/Detroit:20230726T120000
DTEND;TZID=America/Detroit:20230726T150000
DTSTAMP:20260424T120119
CREATED:20230630T024346Z
LAST-MODIFIED:20230630T024346Z
UID:1382-1690372800-1690383600@thenudeli.com
SUMMARY:United Wholesale Mortgage
DESCRIPTION:
URL:https://thenudeli.com/event/united-wholesale-mortgage/
LOCATION:United Wholesale Mortgage\, 585 South Blvd E\, Pontiac\, MI\, 48341\, United States
CATEGORIES:Lunch
END:VEVENT
BEGIN:VEVENT
DTSTART;TZID=America/Detroit:20230725T110000
DTEND;TZID=America/Detroit:20230725T150000
DTSTAMP:20260424T120119
CREATED:20230630T024223Z
LAST-MODIFIED:20230630T024223Z
UID:1380-1690282800-1690297200@thenudeli.com
SUMMARY:Downtown Street Eats @ Cadillac Square
DESCRIPTION:
URL:https://thenudeli.com/event/downtown-street-eats-cadillac-square-32/
LOCATION:Campus Martius Park\, 800 Woodward Ave\, Detroit\, MI\, 48226\, United States
CATEGORIES:Lunch
END:VEVENT
BEGIN:VEVENT
DTSTART;TZID=America/Detroit:20230724T110000
DTEND;TZID=America/Detroit:20230724T150000
DTSTAMP:20260424T120119
CREATED:20230630T024149Z
LAST-MODIFIED:20230630T024149Z
UID:1378-1690196400-1690210800@thenudeli.com
SUMMARY:Downtown Street Eats @ Cadillac Square
DESCRIPTION:
URL:https://thenudeli.com/event/downtown-street-eats-cadillac-square-31/
LOCATION:Campus Martius Park\, 800 Woodward Ave\, Detroit\, MI\, 48226\, United States
CATEGORIES:Lunch
END:VEVENT
BEGIN:VEVENT
DTSTART;TZID=America/Detroit:20230723T120000
DTEND;TZID=America/Detroit:20230723T233000
DTSTAMP:20260424T120119
CREATED:20230630T024040Z
LAST-MODIFIED:20230630T024040Z
UID:1375-1690113600-1690155000@thenudeli.com
SUMMARY:Friends Who Rock
DESCRIPTION:All day DJs and mental health referrals!
URL:https://thenudeli.com/event/friends-who-rock/
LOCATION:Tangent Gallery & Hastings Street Ballroom\, 715 E Milwaukee\, Detroit\, MI\, 48202\, United States
CATEGORIES:Dinner,Festival,Late Night,Lunch,Music
END:VEVENT
BEGIN:VEVENT
DTSTART;TZID=America/Detroit:20230722T160000
DTEND;TZID=America/Detroit:20230722T220000
DTSTAMP:20260424T120119
CREATED:20230630T023728Z
LAST-MODIFIED:20230630T023728Z
UID:1372-1690041600-1690063200@thenudeli.com
SUMMARY:Concert of Colors
DESCRIPTION:
URL:https://thenudeli.com/event/concert-of-colors/
LOCATION:Detroit Institute of Arts\, 5200 Woodward Ave\, Detroit\, MI\, 48202\, United States
CATEGORIES:Dinner,Lunch,Music
END:VEVENT
BEGIN:VEVENT
DTSTART;TZID=America/Detroit:20230722T090000
DTEND;TZID=America/Detroit:20230722T150000
DTSTAMP:20260424T120119
CREATED:20230630T023502Z
LAST-MODIFIED:20230630T023502Z
UID:1370-1690016400-1690038000@thenudeli.com
SUMMARY:Eastern Market\, Shed 5 Plaza
DESCRIPTION:
URL:https://thenudeli.com/event/eastern-market-shed-5-plaza-15/
LOCATION:Shed 5\, Eastern Market
CATEGORIES:Breakfast,Lunch,Market
END:VEVENT
BEGIN:VEVENT
DTSTART;TZID=America/Detroit:20230720T110000
DTEND;TZID=America/Detroit:20230720T150000
DTSTAMP:20260424T120119
CREATED:20230630T022830Z
LAST-MODIFIED:20230630T022830Z
UID:1364-1689850800-1689865200@thenudeli.com
SUMMARY:Spirit Plaza\, Woodward @ Jefferson
DESCRIPTION:
URL:https://thenudeli.com/event/spirit-plaza-woodward-jefferson-7/
LOCATION:Spirit of Detroit Plaza\, 1 Woodward Avenue\, Detroit\, MI\, United States
CATEGORIES:Lunch
END:VEVENT
BEGIN:VEVENT
DTSTART;TZID=America/Detroit:20230715T090000
DTEND;TZID=America/Detroit:20230715T150000
DTSTAMP:20260424T120119
CREATED:20230630T020412Z
LAST-MODIFIED:20230630T020412Z
UID:1358-1689411600-1689433200@thenudeli.com
SUMMARY:Eastern Market\, Shed 5 Plaza
DESCRIPTION:
URL:https://thenudeli.com/event/eastern-market-shed-5-plaza-14/
LOCATION:Shed 5\, Eastern Market
CATEGORIES:Breakfast,Lunch,Market
END:VEVENT
BEGIN:VEVENT
DTSTART;TZID=America/Detroit:20230713T110000
DTEND;TZID=America/Detroit:20230713T150000
DTSTAMP:20260424T120119
CREATED:20230630T015449Z
LAST-MODIFIED:20230630T015449Z
UID:1356-1689246000-1689260400@thenudeli.com
SUMMARY:Spirit Plaza\, Woodward @ Jefferson
DESCRIPTION:
URL:https://thenudeli.com/event/spirit-plaza-woodward-jefferson-6/
LOCATION:Spirit of Detroit Plaza\, 1 Woodward Avenue\, Detroit\, MI\, United States
CATEGORIES:Lunch
END:VEVENT
BEGIN:VEVENT
DTSTART;TZID=America/Detroit:20230712T110000
DTEND;TZID=America/Detroit:20230712T150000
DTSTAMP:20260424T120119
CREATED:20230630T013626Z
LAST-MODIFIED:20230630T013626Z
UID:1351-1689159600-1689174000@thenudeli.com
SUMMARY:Downtown Street Eats @ Cadillac Square
DESCRIPTION:
URL:https://thenudeli.com/event/downtown-street-eats-cadillac-square-30/
LOCATION:Campus Martius Park\, 800 Woodward Ave\, Detroit\, MI\, 48226\, United States
CATEGORIES:Lunch
END:VEVENT
BEGIN:VEVENT
DTSTART;TZID=America/Detroit:20230711T110000
DTEND;TZID=America/Detroit:20230711T150000
DTSTAMP:20260424T120119
CREATED:20230630T013544Z
LAST-MODIFIED:20230630T013544Z
UID:1349-1689073200-1689087600@thenudeli.com
SUMMARY:Spirit Plaza\, Woodward @ Jefferson
DESCRIPTION:
URL:https://thenudeli.com/event/spirit-plaza-woodward-jefferson-5/
LOCATION:Spirit of Detroit Plaza\, 1 Woodward Avenue\, Detroit\, MI\, United States
CATEGORIES:Lunch
END:VEVENT
BEGIN:VEVENT
DTSTART;TZID=America/Detroit:20230706T110000
DTEND;TZID=America/Detroit:20230706T150000
DTSTAMP:20260424T120119
CREATED:20230630T012408Z
LAST-MODIFIED:20230630T012408Z
UID:1341-1688641200-1688655600@thenudeli.com
SUMMARY:Downtown Street Eats @ Cadillac Square
DESCRIPTION:
URL:https://thenudeli.com/event/downtown-street-eats-cadillac-square-29/
LOCATION:Campus Martius Park\, 800 Woodward Ave\, Detroit\, MI\, 48226\, United States
CATEGORIES:Lunch
END:VEVENT
BEGIN:VEVENT
DTSTART;TZID=America/Detroit:20230705T110000
DTEND;TZID=America/Detroit:20230705T150000
DTSTAMP:20260424T120119
CREATED:20230630T012314Z
LAST-MODIFIED:20230630T012314Z
UID:1339-1688554800-1688569200@thenudeli.com
SUMMARY:Spirit Plaza\, Woodward @ Jefferson
DESCRIPTION:
URL:https://thenudeli.com/event/spirit-plaza-woodward-jefferson-4/
LOCATION:Spirit of Detroit Plaza\, 1 Woodward Avenue\, Detroit\, MI\, United States
CATEGORIES:Lunch
END:VEVENT
BEGIN:VEVENT
DTSTART;TZID=America/Detroit:20230630T110000
DTEND;TZID=America/Detroit:20230630T150000
DTSTAMP:20260424T120119
CREATED:20230531T173939Z
LAST-MODIFIED:20230531T173939Z
UID:1293-1688122800-1688137200@thenudeli.com
SUMMARY:Downtown Street Eats @ Cadillac Square
DESCRIPTION:
URL:https://thenudeli.com/event/downtown-street-eats-cadillac-square-28/
LOCATION:Campus Martius Park\, 800 Woodward Ave\, Detroit\, MI\, 48226\, United States
CATEGORIES:Lunch
END:VEVENT
BEGIN:VEVENT
DTSTART;TZID=America/Detroit:20230629T080000
DTEND;TZID=America/Detroit:20230629T170000
DTSTAMP:20260424T120119
CREATED:20230630T013429Z
LAST-MODIFIED:20230630T013429Z
UID:1345-1688025600-1688058000@thenudeli.com
SUMMARY:The Bigger Picture
DESCRIPTION:Everybody Support Everybody! All-day community festival with workshops\, performances\, safety training\, comedy and more. Event space opposite Marygrove College\, $3 entry.
URL:https://thenudeli.com/event/the-bigger-picture/
LOCATION:The Q Venue\, 16861 Wyoming St\, Detroit\, MI\, 48221\, United States
CATEGORIES:Dinner,Festival,Lunch
END:VEVENT
BEGIN:VEVENT
DTSTART;TZID=America/Detroit:20230625T120000
DTEND;TZID=America/Detroit:20230625T160000
DTSTAMP:20260424T120119
CREATED:20230531T173847Z
LAST-MODIFIED:20230531T173847Z
UID:1291-1687694400-1687708800@thenudeli.com
SUMMARY:Berkley Pride Block Party
DESCRIPTION:
URL:https://thenudeli.com/event/berkley-pride-block-party/
LOCATION:Berkeley Art Bash\, 2886 Twelve Mile Rd\, Berkley\, MI\, 48072\, United States
CATEGORIES:Festival,Lunch
END:VEVENT
END:VCALENDAR