BEGIN:VCALENDAR
VERSION:2.0
PRODID:-//Nu Deli - ECPv6.15.1.1//NONSGML v1.0//EN
CALSCALE:GREGORIAN
METHOD:PUBLISH
X-WR-CALNAME:Nu Deli
X-ORIGINAL-URL:https://thenudeli.com
X-WR-CALDESC:Events for Nu Deli
REFRESH-INTERVAL;VALUE=DURATION:PT1H
X-Robots-Tag:noindex
X-PUBLISHED-TTL:PT1H
BEGIN:VTIMEZONE
TZID:America/Detroit
BEGIN:DAYLIGHT
TZOFFSETFROM:-0500
TZOFFSETTO:-0400
TZNAME:EDT
DTSTART:20210314T070000
END:DAYLIGHT
BEGIN:STANDARD
TZOFFSETFROM:-0400
TZOFFSETTO:-0500
TZNAME:EST
DTSTART:20211107T060000
END:STANDARD
BEGIN:DAYLIGHT
TZOFFSETFROM:-0500
TZOFFSETTO:-0400
TZNAME:EDT
DTSTART:20220313T070000
END:DAYLIGHT
BEGIN:STANDARD
TZOFFSETFROM:-0400
TZOFFSETTO:-0500
TZNAME:EST
DTSTART:20221106T060000
END:STANDARD
BEGIN:DAYLIGHT
TZOFFSETFROM:-0500
TZOFFSETTO:-0400
TZNAME:EDT
DTSTART:20230312T070000
END:DAYLIGHT
BEGIN:STANDARD
TZOFFSETFROM:-0400
TZOFFSETTO:-0500
TZNAME:EST
DTSTART:20231105T060000
END:STANDARD
BEGIN:DAYLIGHT
TZOFFSETFROM:-0500
TZOFFSETTO:-0400
TZNAME:EDT
DTSTART:20240310T070000
END:DAYLIGHT
BEGIN:STANDARD
TZOFFSETFROM:-0400
TZOFFSETTO:-0500
TZNAME:EST
DTSTART:20241103T060000
END:STANDARD
BEGIN:DAYLIGHT
TZOFFSETFROM:-0500
TZOFFSETTO:-0400
TZNAME:EDT
DTSTART:20250309T070000
END:DAYLIGHT
BEGIN:STANDARD
TZOFFSETFROM:-0400
TZOFFSETTO:-0500
TZNAME:EST
DTSTART:20251102T060000
END:STANDARD
END:VTIMEZONE
BEGIN:VEVENT
DTSTART;TZID=America/Detroit:20250918T180000
DTEND;TZID=America/Detroit:20250918T230000
DTSTAMP:20260423T230334
CREATED:20250919T060054Z
LAST-MODIFIED:20250919T060054Z
UID:1839-1758218400-1758236400@thenudeli.com
SUMMARY:Eastern Market After Dark
DESCRIPTION:
URL:https://thenudeli.com/event/eastern-market-after-dark-5/
LOCATION:Eastern Market\, Shed 5\, Russell Street\, Detroit\, MI\, United States
CATEGORIES:Dinner,Festival,Late Night,Market
END:VEVENT
BEGIN:VEVENT
DTSTART;TZID=America/Detroit:20240907T110000
DTEND;TZID=America/Detroit:20240907T230000
DTSTAMP:20260423T230334
CREATED:20240903T002129Z
LAST-MODIFIED:20240903T002129Z
UID:1646-1725706800-1725750000@thenudeli.com
SUMMARY:Dally in the Alley 2024
DESCRIPTION:
URL:https://thenudeli.com/event/dally-in-the-alley-2024/
LOCATION:Cass Corridor\, Cass Ave\, Detroit\, MI\, 48201\, United States
CATEGORIES:Dinner,Festival,Late Night,Lunch,Music,Neighborhood
ORGANIZER;CN="North Cass Community Union":MAILTO:pr@dallyinthealley.com
END:VEVENT
BEGIN:VEVENT
DTSTART;TZID=America/Detroit:20240621T190000
DTEND;TZID=America/Detroit:20240621T230000
DTSTAMP:20260423T230334
CREATED:20240529T234241Z
LAST-MODIFIED:20240529T234241Z
UID:1548-1718996400-1719010800@thenudeli.com
SUMMARY:Sunset at the Zoo
DESCRIPTION:
URL:https://thenudeli.com/event/sunset-at-the-zoo-2/
LOCATION:Detroit Zoo\, 8450 W 10 Mile Rd\, Royal Oak\, MI\, 48067\, United States
CATEGORIES:Dinner,Fundraiser,Late Night,Tasting
END:VEVENT
BEGIN:VEVENT
DTSTART;TZID=America/Detroit:20230921T170000
DTEND;TZID=America/Detroit:20230921T220000
DTSTAMP:20260423T230334
CREATED:20230902T015618Z
LAST-MODIFIED:20230902T015618Z
UID:1474-1695315600-1695333600@thenudeli.com
SUMMARY:Eastern Market After Dark
DESCRIPTION:
URL:https://thenudeli.com/event/eastern-market-after-dark-4/
LOCATION:Eastern Market\, Shed 5\, Russell Street\, Detroit\, MI\, United States
CATEGORIES:Dinner,Festival,Late Night,Market
END:VEVENT
BEGIN:VEVENT
DTSTART;TZID=America/Detroit:20230723T120000
DTEND;TZID=America/Detroit:20230723T233000
DTSTAMP:20260423T230334
CREATED:20230630T024040Z
LAST-MODIFIED:20230630T024040Z
UID:1375-1690113600-1690155000@thenudeli.com
SUMMARY:Friends Who Rock
DESCRIPTION:All day DJs and mental health referrals!
URL:https://thenudeli.com/event/friends-who-rock/
LOCATION:Tangent Gallery & Hastings Street Ballroom\, 715 E Milwaukee\, Detroit\, MI\, 48202\, United States
CATEGORIES:Dinner,Festival,Late Night,Lunch,Music
END:VEVENT
BEGIN:VEVENT
DTSTART;TZID=America/Detroit:20220915T180000
DTEND;TZID=America/Detroit:20220915T230000
DTSTAMP:20260423T230334
CREATED:20220913T035530Z
LAST-MODIFIED:20220913T035530Z
UID:1188-1663264800-1663282800@thenudeli.com
SUMMARY:Eastern Market After Dark
DESCRIPTION:
URL:https://thenudeli.com/event/eastern-market-after-dark-3/
LOCATION:Eastern Market\, Shed 5\, Russell Street\, Detroit\, MI\, United States
CATEGORIES:Dinner,Festival,Late Night,Market
END:VEVENT
BEGIN:VEVENT
DTSTART;TZID=America/Detroit:20210818T220000
DTEND;TZID=America/Detroit:20210819T000000
DTSTAMP:20260423T230334
CREATED:20210818T133028Z
LAST-MODIFIED:20210818T133028Z
UID:965-1629324000-1629331200@thenudeli.com
SUMMARY:Henry Ford Hospital\, New Center
DESCRIPTION:Midnight snacking at Main. Pull into the Emergency entrance from Pallister.
URL:https://thenudeli.com/event/henry-ford-hospital-new-center-6/
LOCATION:Henry Ford Hospital\, West Grand Boulevard @ Lodge Fwy\, Detroit\, MI\, United States
CATEGORIES:Late Night
END:VEVENT
BEGIN:VEVENT
DTSTART;TZID=America/Detroit:20210721T220000
DTEND;TZID=America/Detroit:20210722T000000
DTSTAMP:20260423T230334
CREATED:20210718T222549Z
LAST-MODIFIED:20210718T222549Z
UID:945-1626904800-1626912000@thenudeli.com
SUMMARY:Henry Ford Hospital\, New Center
DESCRIPTION:
URL:https://thenudeli.com/event/henry-ford-hospital-new-center-5/
LOCATION:Henry Ford Hospital\, West Grand Boulevard @ Lodge Fwy\, Detroit\, MI\, United States
CATEGORIES:Late Night
END:VEVENT
BEGIN:VEVENT
DTSTART;TZID=America/Detroit:20210623T220000
DTEND;TZID=America/Detroit:20210624T000000
DTSTAMP:20260423T230334
CREATED:20210617T041727Z
LAST-MODIFIED:20210617T041727Z
UID:928-1624485600-1624492800@thenudeli.com
SUMMARY:Henry Ford Hospital – late edition
DESCRIPTION:Midnight munchies for medical manpower. Missed the masala madness? It’s mutual.
URL:https://thenudeli.com/event/henry-ford-hospital-late-edition/
LOCATION:Henry Ford Hospital\, West Grand Boulevard @ Lodge Fwy\, Detroit\, MI\, United States
CATEGORIES:Late Night
END:VEVENT
END:VCALENDAR