BEGIN:VCALENDAR
VERSION:2.0
PRODID:-//Nu Deli - ECPv6.15.1.1//NONSGML v1.0//EN
CALSCALE:GREGORIAN
METHOD:PUBLISH
X-WR-CALNAME:Nu Deli
X-ORIGINAL-URL:https://thenudeli.com
X-WR-CALDESC:Events for Nu Deli
REFRESH-INTERVAL;VALUE=DURATION:PT1H
X-Robots-Tag:noindex
X-PUBLISHED-TTL:PT1H
BEGIN:VTIMEZONE
TZID:America/Detroit
BEGIN:DAYLIGHT
TZOFFSETFROM:-0500
TZOFFSETTO:-0400
TZNAME:EDT
DTSTART:20170312T070000
END:DAYLIGHT
BEGIN:STANDARD
TZOFFSETFROM:-0400
TZOFFSETTO:-0500
TZNAME:EST
DTSTART:20171105T060000
END:STANDARD
END:VTIMEZONE
BEGIN:VEVENT
DTSTART;TZID=America/Detroit:20170729T130000
DTEND;TZID=America/Detroit:20170730T220000
DTSTAMP:20260424T035136
CREATED:20170801T045122Z
LAST-MODIFIED:20170801T045122Z
UID:282-1501333200-1501452000@thenudeli.com
SUMMARY:Mo-Pop 2017
DESCRIPTION:
URL:https://thenudeli.com/event/mo-pop-2017/
LOCATION:West Riverfront Park\, 1801 W Jefferson\, Detroit\, MI\, United States
CATEGORIES:Festival
END:VEVENT
END:VCALENDAR