BEGIN:VCALENDAR
VERSION:2.0
PRODID:-//Nu Deli - ECPv6.15.1.1//NONSGML v1.0//EN
CALSCALE:GREGORIAN
METHOD:PUBLISH
X-WR-CALNAME:Nu Deli
X-ORIGINAL-URL:https://thenudeli.com
X-WR-CALDESC:Events for Nu Deli
REFRESH-INTERVAL;VALUE=DURATION:PT1H
X-Robots-Tag:noindex
X-PUBLISHED-TTL:PT1H
BEGIN:VTIMEZONE
TZID:America/Detroit
BEGIN:DAYLIGHT
TZOFFSETFROM:-0500
TZOFFSETTO:-0400
TZNAME:EDT
DTSTART:20170312T070000
END:DAYLIGHT
BEGIN:STANDARD
TZOFFSETFROM:-0400
TZOFFSETTO:-0500
TZNAME:EST
DTSTART:20171105T060000
END:STANDARD
END:VTIMEZONE
BEGIN:VEVENT
DTSTART;TZID=America/Detroit:20170629T180000
DTEND;TZID=America/Detroit:20170629T220000
DTSTAMP:20260425T065052
CREATED:20170620T220322Z
LAST-MODIFIED:20170620T220322Z
UID:209-1498759200-1498773600@thenudeli.com
SUMMARY:Greater Detroit VegBash
DESCRIPTION:Vegetarians unite for a Summer Solstice Celebration at the Royal Oak Farmers Market. Watch us ditch the corned beef for some exciting new vegetarian sandwiches done in the signature Nu Deli style.
URL:https://thenudeli.com/event/greater-detroit-vegbash/
LOCATION:MI\, United States
CATEGORIES:Dinner
END:VEVENT
BEGIN:VEVENT
DTSTART;TZID=America/Detroit:20170625T170000
DTEND;TZID=America/Detroit:20170625T220000
DTSTAMP:20260425T065052
CREATED:20170620T214728Z
LAST-MODIFIED:20170620T214728Z
UID:204-1498410000-1498428000@thenudeli.com
SUMMARY:Liberty Street Brewing Company
DESCRIPTION:Kick back with a craft beer and a superior sandwich in the heart of charming downtown Plymouth. Everyone’s saying it’s great and we can’t wait to get there!
URL:https://thenudeli.com/event/liberty-street-brewing-company/
LOCATION:Liberty Street Brewing Company\, 149 W Liberty St\, Plymouth\, MI\, 48170\, United States
CATEGORIES:Dinner
END:VEVENT
END:VCALENDAR