BEGIN:VCALENDAR
VERSION:2.0
PRODID:-//Nu Deli - ECPv6.15.1.1//NONSGML v1.0//EN
CALSCALE:GREGORIAN
METHOD:PUBLISH
X-ORIGINAL-URL:https://thenudeli.com
X-WR-CALDESC:Events for Nu Deli
REFRESH-INTERVAL;VALUE=DURATION:PT1H
X-Robots-Tag:noindex
X-PUBLISHED-TTL:PT1H
BEGIN:VTIMEZONE
TZID:America/Detroit
BEGIN:DAYLIGHT
TZOFFSETFROM:-0500
TZOFFSETTO:-0400
TZNAME:EDT
DTSTART:20180311T070000
END:DAYLIGHT
BEGIN:STANDARD
TZOFFSETFROM:-0400
TZOFFSETTO:-0500
TZNAME:EST
DTSTART:20181104T060000
END:STANDARD
BEGIN:DAYLIGHT
TZOFFSETFROM:-0500
TZOFFSETTO:-0400
TZNAME:EDT
DTSTART:20190310T070000
END:DAYLIGHT
BEGIN:STANDARD
TZOFFSETFROM:-0400
TZOFFSETTO:-0500
TZNAME:EST
DTSTART:20191103T060000
END:STANDARD
END:VTIMEZONE
BEGIN:VEVENT
DTSTART;TZID=America/Detroit:20190911T170000
DTEND;TZID=America/Detroit:20190911T210000
DTSTAMP:20260424T223532
CREATED:20190911T215711Z
LAST-MODIFIED:20190911T215711Z
UID:873-1568221200-1568235600@thenudeli.com
SUMMARY:Royal Oak Farmers Market
DESCRIPTION:
URL:https://thenudeli.com/event/royal-oak-farmers-market-4/
LOCATION:Royal Oak Farmers Market\, 316 E 11 Mile Rd\, Royal Oak\, MI\, 48067\, United States
CATEGORIES:Dinner,Rally
END:VEVENT
BEGIN:VEVENT
DTSTART;TZID=America/Detroit:20190829T180000
DTEND;TZID=America/Detroit:20190829T210000
DTSTAMP:20260424T223532
CREATED:20190821T175911Z
LAST-MODIFIED:20190821T175911Z
UID:860-1567101600-1567112400@thenudeli.com
SUMMARY:Motor City Gas\, Royal Oak
DESCRIPTION:
URL:https://thenudeli.com/event/motor-city-gas-royal-oak/
LOCATION:Motor City Gas\, 325 E 4th St\, Royal Oak\, MI\, 48067\, United States
CATEGORIES:Dinner,Music
END:VEVENT
BEGIN:VEVENT
DTSTART;TZID=America/Detroit:20190824T160000
DTEND;TZID=America/Detroit:20190824T220000
DTSTAMP:20260424T223532
CREATED:20190821T175437Z
LAST-MODIFIED:20190821T175437Z
UID:850-1566662400-1566684000@thenudeli.com
SUMMARY:North Cass Neighborhood Summer Sidewalk Sale
DESCRIPTION:In partnership with Sfumato Fragrances / Costalia Cocktails
URL:https://thenudeli.com/event/north-cass-neighborhood-summer-sidewalk-sale/
LOCATION:Castalia at Sfumato\, 3980 2nd Avenue\, Detroit\, 48201\, United States
CATEGORIES:Dinner,Market
ATTACH;FMTTYPE=image/jpeg:https://thenudeli.com/wp-content/uploads/2019/08/North-Cass-Summer-Sidewalk-Sale-2019-Banner-for-Facebook.jpg
END:VEVENT
BEGIN:VEVENT
DTSTART;TZID=America/Detroit:20190822T173000
DTEND;TZID=America/Detroit:20190822T210000
DTSTAMP:20260424T223532
CREATED:20190821T174742Z
LAST-MODIFIED:20190821T174742Z
UID:845-1566495000-1566507600@thenudeli.com
SUMMARY:Troy Concerts in the Park: Thornetta Davis
DESCRIPTION:
URL:https://thenudeli.com/event/troy-concerts-in-the-park-thornetta-davis/
LOCATION:Boulan Park\, Troy\, 1898 Boulan Park Dr\, Troy\, MI\, 48084\, United States
CATEGORIES:Dinner,Music
ORGANIZER;CN="City of Troy":MAILTO:Cindy.Stewart@troymi.gov
END:VEVENT
BEGIN:VEVENT
DTSTART;TZID=America/Detroit:20190727T170000
DTEND;TZID=America/Detroit:20190727T210000
DTSTAMP:20260424T223532
CREATED:20190726T133035Z
LAST-MODIFIED:20190726T133035Z
UID:834-1564246800-1564261200@thenudeli.com
SUMMARY:Dead Night @ Northville Brewery
DESCRIPTION:
URL:https://thenudeli.com/event/dead-night-northville-brewery/
LOCATION:Northville Winery and Brewery\, 630 Baseline Rd\, Northville\, MI\, 48167\, United States
CATEGORIES:Dinner,Music
END:VEVENT
BEGIN:VEVENT
DTSTART;TZID=America/Detroit:20190726T170000
DTEND;TZID=America/Detroit:20190726T210000
DTSTAMP:20260424T223532
CREATED:20190726T132954Z
LAST-MODIFIED:20190726T132954Z
UID:832-1564160400-1564174800@thenudeli.com
SUMMARY:Detroit Fleat
DESCRIPTION:
URL:https://thenudeli.com/event/detroit-fleat-3/
LOCATION:Detroit Fleat\, 1820 E Nine Mile Rd\, Ferndale\, MI\, 48220\, United States
CATEGORIES:Dinner
END:VEVENT
BEGIN:VEVENT
DTSTART;TZID=America/Detroit:20190719T220000
DTEND;TZID=America/Detroit:20190720T000000
DTSTAMP:20260424T223532
CREATED:20190708T035300Z
LAST-MODIFIED:20190708T035300Z
UID:823-1563573600-1563580800@thenudeli.com
SUMMARY:Henry Ford Hospital\, New Center
DESCRIPTION:
URL:https://thenudeli.com/event/henry-ford-hospital-new-center-3/
LOCATION:Henry Ford Hospital\, West Grand Boulevard @ Lodge Fwy\, Detroit\, MI\, United States
CATEGORIES:Dinner
END:VEVENT
BEGIN:VEVENT
DTSTART;TZID=America/Detroit:20190713T170000
DTEND;TZID=America/Detroit:20190713T210000
DTSTAMP:20260424T223532
CREATED:20190708T034618Z
LAST-MODIFIED:20190708T034618Z
UID:817-1563037200-1563051600@thenudeli.com
SUMMARY:Urbanrest Brewing\, Ferndale
DESCRIPTION:
URL:https://thenudeli.com/event/urbanrest-brewing-ferndale-3/
LOCATION:Urbanrest Brewing Company\, 2615 Wolcott Street\, Ferndale\, MI\, 48220\, United States
CATEGORIES:Dinner
END:VEVENT
BEGIN:VEVENT
DTSTART;TZID=America/Detroit:20190710T170000
DTEND;TZID=America/Detroit:20190710T210000
DTSTAMP:20260424T223532
CREATED:20190708T033953Z
LAST-MODIFIED:20190708T033953Z
UID:809-1562778000-1562792400@thenudeli.com
SUMMARY:Royal Oak Farmers Market
DESCRIPTION:
URL:https://thenudeli.com/event/royal-oak-farmers-market-3/
LOCATION:Royal Oak Farmers Market\, 316 E 11 Mile Rd\, Royal Oak\, MI\, 48067\, United States
CATEGORIES:Dinner,Rally
END:VEVENT
BEGIN:VEVENT
DTSTART;TZID=America/Detroit:20190629T190000
DTEND;TZID=America/Detroit:20190629T220000
DTSTAMP:20260424T223532
CREATED:20190628T141659Z
LAST-MODIFIED:20190628T141659Z
UID:795-1561834800-1561845600@thenudeli.com
SUMMARY:TBE Food Truck Festival
DESCRIPTION:Join us at Temple Beth El in Bloomfield Hills alongside some of our favorite trucks. Open bar! Ticket prices vary; please visit https://www.tbeonline.org/food-truck-festival for more info.
URL:https://thenudeli.com/event/tbe-food-truck-festival/
LOCATION:Temple Beth El\, 7400 Telegraph Rd\, Bloomfield Hills\, MI\, 48301\, United States
CATEGORIES:Dinner,Rally
END:VEVENT
BEGIN:VEVENT
DTSTART;TZID=America/Detroit:20190612T170000
DTEND;TZID=America/Detroit:20190612T210000
DTSTAMP:20260424T223532
CREATED:20190610T000918Z
LAST-MODIFIED:20190610T000918Z
UID:772-1560358800-1560373200@thenudeli.com
SUMMARY:Urbanrest Brewing\, Ferndale
DESCRIPTION:
URL:https://thenudeli.com/event/urbanrest-brewing-ferndale-2/
LOCATION:Urbanrest Brewing Company\, 2615 Wolcott Street\, Ferndale\, MI\, 48220\, United States
CATEGORIES:Dinner
END:VEVENT
BEGIN:VEVENT
DTSTART;TZID=America/Detroit:20190609T170000
DTEND;TZID=America/Detroit:20190609T210000
DTSTAMP:20260424T223532
CREATED:20190610T001649Z
LAST-MODIFIED:20190610T001649Z
UID:782-1560099600-1560114000@thenudeli.com
SUMMARY:Detroit Fleat
DESCRIPTION:
URL:https://thenudeli.com/event/detroit-fleat-2/
LOCATION:Detroit Fleat\, 1820 E Nine Mile Rd\, Ferndale\, MI\, 48220\, United States
CATEGORIES:Dinner
END:VEVENT
BEGIN:VEVENT
DTSTART;TZID=America/Detroit:20190609T160000
DTEND;TZID=America/Detroit:20190609T220000
DTSTAMP:20260424T223532
CREATED:20190610T001307Z
LAST-MODIFIED:20190610T001307Z
UID:778-1560096000-1560117600@thenudeli.com
SUMMARY:Canton Liberty Fest
DESCRIPTION:
URL:https://thenudeli.com/event/canton-liberty-fest-3/
LOCATION:Heritage Park\, Canton\, Heritage Park\, Canton\, MI\, United States
CATEGORIES:Dinner,Festival
END:VEVENT
BEGIN:VEVENT
DTSTART;TZID=America/Detroit:20190503T170000
DTEND;TZID=America/Detroit:20190503T210000
DTSTAMP:20260424T223532
CREATED:20190429T225121Z
LAST-MODIFIED:20190429T225121Z
UID:683-1556902800-1556917200@thenudeli.com
SUMMARY:Babes & Brews @ Urbanrest Brewing\, Ferndale
DESCRIPTION:That means babies. Infants\, toddlers\, young ‘uns. And beer. For our season opener\, we’re bringing our usual top game and letting the chips fall where they may. Weather looks great — come out and greet the first day of spring with us!
URL:https://thenudeli.com/event/babes-brews-urbanrest-brewing-ferndale/
LOCATION:Urbanrest Brewing Company\, 2615 Wolcott Street\, Ferndale\, MI\, 48220\, United States
CATEGORIES:Dinner
END:VEVENT
BEGIN:VEVENT
DTSTART;TZID=America/Detroit:20180921T170000
DTEND;TZID=America/Detroit:20180921T190000
DTSTAMP:20260424T223532
CREATED:20180919T135348Z
LAST-MODIFIED:20180919T135729Z
UID:675-1537549200-1537556400@thenudeli.com
SUMMARY:Detroit Welcoming Week
DESCRIPTION:
URL:https://thenudeli.com/event/675/
LOCATION:Spirit of Detroit Plaza\, 1 Woodward Avenue\, Detroit\, MI\, United States
CATEGORIES:Dinner,Festival
END:VEVENT
BEGIN:VEVENT
DTSTART;TZID=America/Detroit:20180920T160000
DTEND;TZID=America/Detroit:20180920T230000
DTSTAMP:20260424T223532
CREATED:20180910T171401Z
LAST-MODIFIED:20180910T171401Z
UID:666-1537459200-1537484400@thenudeli.com
SUMMARY:Eastern Market After Dark
DESCRIPTION:
URL:https://thenudeli.com/event/eastern-market-after-dark/
LOCATION:MI
CATEGORIES:Dinner,Festival,Market
END:VEVENT
BEGIN:VEVENT
DTSTART;TZID=America/Detroit:20180907T170000
DTEND;TZID=America/Detroit:20180907T210000
DTSTAMP:20260424T223532
CREATED:20180906T220025Z
LAST-MODIFIED:20180906T220025Z
UID:647-1536339600-1536354000@thenudeli.com
SUMMARY:Detroit Fleat\, Ferndale
DESCRIPTION:Our first sunshine appearance here all summer! Looking forward to a great evening with friends from Delectabowl\, Mac Shack and Pita Post.
URL:https://thenudeli.com/event/detroit-fleat-ferndale-2/
LOCATION:Detroit Fleat\, 1820 E Nine Mile Rd\, Ferndale\, MI\, 48220\, United States
CATEGORIES:Dinner
END:VEVENT
BEGIN:VEVENT
DTSTART;TZID=America/Detroit:20180808T170000
DTEND;TZID=America/Detroit:20180808T210000
DTSTAMP:20260424T223532
CREATED:20180803T224435Z
LAST-MODIFIED:20180803T224435Z
UID:616-1533747600-1533762000@thenudeli.com
SUMMARY:Royal Oak Farmers Market
DESCRIPTION:Oakland County’s biggest rally is at its summer peak! We promise multiple frosty smoothies to take the edge off the sultry evening.
URL:https://thenudeli.com/event/royal-oak-farmers-market/
LOCATION:Royal Oak Farmers Market\, 316 E 11 Mile Rd\, Royal Oak\, MI\, 48067\, United States
CATEGORIES:Dinner,Rally
END:VEVENT
BEGIN:VEVENT
DTSTART;TZID=America/Detroit:20180727T180000
DTEND;TZID=America/Detroit:20180727T210000
DTSTAMP:20260424T223532
CREATED:20180727T203627Z
LAST-MODIFIED:20180727T203627Z
UID:606-1532714400-1532725200@thenudeli.com
SUMMARY:Lathrup Village Food Truck Fridays
DESCRIPTION:We’re back!
URL:https://thenudeli.com/event/lathrup-village-food-truck-fridays-2/
LOCATION:City of Lathrup Village
CATEGORIES:Dinner
END:VEVENT
BEGIN:VEVENT
DTSTART;TZID=America/Detroit:20180726T180000
DTEND;TZID=America/Detroit:20180726T220000
DTSTAMP:20260424T223532
CREATED:20180718T022301Z
LAST-MODIFIED:20180718T022301Z
UID:602-1532628000-1532642400@thenudeli.com
SUMMARY:BARish Pop-up @Urbanrest Brewing Company
DESCRIPTION:
URL:https://thenudeli.com/event/barish-pop-up-urbanrest-brewing-company/
LOCATION:Urbanrest Brewing Company\, 2615 Wolcott Street\, Ferndale\, MI\, 48220\, United States
CATEGORIES:Dinner
END:VEVENT
BEGIN:VEVENT
DTSTART;TZID=America/Detroit:20180720T220000
DTEND;TZID=America/Detroit:20180720T220000
DTSTAMP:20260424T223532
CREATED:20180718T021444Z
LAST-MODIFIED:20180718T021444Z
UID:592-1532124000-1532124000@thenudeli.com
SUMMARY:HFHS Midnight Rally
DESCRIPTION:
URL:https://thenudeli.com/event/hfhs-midnight-rally/
LOCATION:Henry Ford Hospital\, West Grand Boulevard @ Lodge Fwy\, Detroit\, MI\, United States
CATEGORIES:Dinner
END:VEVENT
BEGIN:VEVENT
DTSTART;TZID=America/Detroit:20180720T160000
DTEND;TZID=America/Detroit:20180720T210000
DTSTAMP:20260424T223532
CREATED:20180718T021004Z
LAST-MODIFIED:20180718T021004Z
UID:586-1532102400-1532120400@thenudeli.com
SUMMARY:Fridays @ Detroit Fleat
DESCRIPTION:
URL:https://thenudeli.com/event/fridays-detroit-fleat/
LOCATION:Detroit Fleat\, 1820 E Nine Mile Rd\, Ferndale\, MI\, 48220\, United States
CATEGORIES:Dinner
END:VEVENT
BEGIN:VEVENT
DTSTART;TZID=America/Detroit:20180713T180000
DTEND;TZID=America/Detroit:20180713T210000
DTSTAMP:20260424T223532
CREATED:20180711T154914Z
LAST-MODIFIED:20180711T154914Z
UID:569-1531504800-1531515600@thenudeli.com
SUMMARY:Northville Brewery with Bri Bradley Band
DESCRIPTION:LOVE THIS SPOT. Nowhere better to be on a summer evening than this shady orchard with some mellow tunes and a frozen ciderita. Get on down!
URL:https://thenudeli.com/event/northville-brewery-with-bri-bradley-band/
LOCATION:Northville Winery and Brewery\, 630 Baseline Rd\, Northville\, MI\, 48167\, United States
CATEGORIES:Dinner,Music
END:VEVENT
BEGIN:VEVENT
DTSTART;TZID=America/Detroit:20180630T180000
DTEND;TZID=America/Detroit:20180630T220000
DTSTAMP:20260424T223532
CREATED:20180627T174314Z
LAST-MODIFIED:20180627T174314Z
UID:528-1530381600-1530396000@thenudeli.com
SUMMARY:Honey Monsoon w/ Nu Deli
DESCRIPTION:
URL:https://thenudeli.com/event/honey-monsoon-w-nu-deli/
LOCATION:Northville Winery and Brewery\, 630 Baseline Rd\, Northville\, MI\, 48167\, United States
CATEGORIES:Dinner,Music
ATTACH;FMTTYPE=image/jpeg:https://thenudeli.com/wp-content/uploads/2018/06/49813650-65FA-4513-BBB3-1A222C686489.jpeg
END:VEVENT
BEGIN:VEVENT
DTSTART;TZID=America/Detroit:20180628T170000
DTEND;TZID=America/Detroit:20180628T220000
DTSTAMP:20260424T223532
CREATED:20180627T165151Z
LAST-MODIFIED:20180627T165151Z
UID:519-1530205200-1530223200@thenudeli.com
SUMMARY:Veggie Bash
DESCRIPTION:
URL:https://thenudeli.com/event/veggie-bash/
LOCATION:Royal Oak Farmers Market\, 316 E 11 Mile Rd\, Royal Oak\, MI\, 48067\, United States
CATEGORIES:Dinner,Festival
ATTACH;FMTTYPE=image/jpeg:https://thenudeli.com/wp-content/uploads/2018/06/C1246B6F-7654-40EF-BCA7-06A03A1FB306.jpeg
END:VEVENT
BEGIN:VEVENT
DTSTART;TZID=America/Detroit:20180623T180000
DTEND;TZID=America/Detroit:20180623T210000
DTSTAMP:20260424T223532
CREATED:20180611T223718Z
LAST-MODIFIED:20180611T224036Z
UID:494-1529776800-1529787600@thenudeli.com
SUMMARY:Dinner @Urbanrest Brewing Co.
DESCRIPTION:
URL:https://thenudeli.com/event/dinner-urbanrest-brewing-co/
LOCATION:Urbanrest Brewing Company\, 2615 Wolcott Street\, Ferndale\, MI\, 48220\, United States
CATEGORIES:Dinner
ATTACH;FMTTYPE=image/jpeg:https://thenudeli.com/wp-content/uploads/2018/06/FFF5C596-2470-4728-8429-8653C8100D21.jpeg
END:VEVENT
BEGIN:VEVENT
DTSTART;TZID=America/Detroit:20180622T040000
DTEND;TZID=America/Detroit:20180622T210000
DTSTAMP:20260424T223532
CREATED:20180611T223106Z
LAST-MODIFIED:20180611T224434Z
UID:489-1529640000-1529701200@thenudeli.com
SUMMARY:Food Truck Rally @Detroit Fleat
DESCRIPTION:
URL:https://thenudeli.com/event/food-truck-rally-detroit-fleat/
LOCATION:MI
CATEGORIES:Dinner,Music,Rally
ATTACH;FMTTYPE=image/jpeg:https://thenudeli.com/wp-content/uploads/2018/05/IMG_0250.jpg
END:VEVENT
BEGIN:VEVENT
DTSTART;TZID=America/Detroit:20180615T170000
DTEND;TZID=America/Detroit:20180616T220000
DTSTAMP:20260424T223532
CREATED:20180611T221015Z
LAST-MODIFIED:20180611T221015Z
UID:477-1529082000-1529186400@thenudeli.com
SUMMARY:Canton Liberty Fest
DESCRIPTION:
URL:https://thenudeli.com/event/canton-liberty-fest-2/
LOCATION:MI
CATEGORIES:Dinner,Festival
ATTACH;FMTTYPE=image/jpeg:https://thenudeli.com/wp-content/uploads/2018/06/93D815EF-5174-4BDC-96B9-A8F83593468C.jpeg
END:VEVENT
BEGIN:VEVENT
DTSTART;TZID=America/Detroit:20180611T170000
DTEND;TZID=America/Detroit:20180611T200000
DTSTAMP:20260424T223532
CREATED:20180611T215730Z
LAST-MODIFIED:20180611T215847Z
UID:472-1528736400-1528747200@thenudeli.com
SUMMARY:Royal Oak Food Truck Rally
DESCRIPTION:
URL:https://thenudeli.com/event/royal-oak-food-truck-rally/
LOCATION:Royal Oak Farmers Market\, 316 E 11 Mile Rd\, Royal Oak\, MI\, 48067\, United States
CATEGORIES:Dinner,Rally
ATTACH;FMTTYPE=image/jpeg:https://thenudeli.com/wp-content/uploads/2018/06/2B9F0121-7BA7-4A66-A1A3-2EB779E28BA0.jpeg
END:VEVENT
BEGIN:VEVENT
DTSTART;TZID=America/Detroit:20180602T180000
DTEND;TZID=America/Detroit:20180602T220000
DTSTAMP:20260424T223532
CREATED:20180602T184642Z
LAST-MODIFIED:20180602T184642Z
UID:454-1527962400-1527976800@thenudeli.com
SUMMARY:Beatles Night @ Northville Brewery
DESCRIPTION:Where better to spend a beautiful summer evening? Kick back with a frosty cider-rita and a Nu Dog or two and hear Rob & friends pay tribute to the greats.
URL:https://thenudeli.com/event/beatles-night-northville-brewery/
LOCATION:Northville Winery and Brewery\, 630 Baseline Rd\, Northville\, MI\, 48167\, United States
CATEGORIES:Dinner,Music
END:VEVENT
END:VCALENDAR