BEGIN:VCALENDAR
VERSION:2.0
PRODID:-//Nu Deli - ECPv6.15.1.1//NONSGML v1.0//EN
CALSCALE:GREGORIAN
METHOD:PUBLISH
X-ORIGINAL-URL:https://thenudeli.com
X-WR-CALDESC:Events for Nu Deli
REFRESH-INTERVAL;VALUE=DURATION:PT1H
X-Robots-Tag:noindex
X-PUBLISHED-TTL:PT1H
BEGIN:VTIMEZONE
TZID:America/Detroit
BEGIN:DAYLIGHT
TZOFFSETFROM:-0500
TZOFFSETTO:-0400
TZNAME:EDT
DTSTART:20210314T070000
END:DAYLIGHT
BEGIN:STANDARD
TZOFFSETFROM:-0400
TZOFFSETTO:-0500
TZNAME:EST
DTSTART:20211107T060000
END:STANDARD
END:VTIMEZONE
BEGIN:VEVENT
DTSTART;TZID=America/Detroit:20210917T170000
DTEND;TZID=America/Detroit:20210917T200000
DTSTAMP:20260424T051753
CREATED:20210909T015903Z
LAST-MODIFIED:20210909T015903Z
UID:996-1631898000-1631908800@thenudeli.com
SUMMARY:Northville Winery & Brewery (& Cider!)
DESCRIPTION:Perhaps the pleasantest spot in Southeast Michigan to chill under the stars with live music — now with apples! Kick off cider season with us at Northville Brewery and let’s hope it’s not too chilly for a frosty ciderita.
URL:https://thenudeli.com/event/northville-winery-brewery-cider/
LOCATION:Northville Winery and Brewery\, 630 Baseline Rd\, Northville\, MI\, 48167\, United States
CATEGORIES:Brewery,Dinner,Music
END:VEVENT
BEGIN:VEVENT
DTSTART;TZID=America/Detroit:20210916T170000
DTEND;TZID=America/Detroit:20210916T200000
DTSTAMP:20260424T051753
CREATED:20210909T015559Z
LAST-MODIFIED:20210909T015559Z
UID:993-1631811600-1631822400@thenudeli.com
SUMMARY:Urbanrest Brewing\, Ferndale
DESCRIPTION:May you be inscribed in the book of life for a hot and sweet new year. Breaking our fast here — with a beer.
URL:https://thenudeli.com/event/urbanrest-brewing-ferndale-9/
LOCATION:Urbanrest Brewing Company\, 2615 Wolcott Street\, Ferndale\, MI\, 48220\, United States
CATEGORIES:Brewery,Dinner
END:VEVENT
BEGIN:VEVENT
DTSTART;TZID=America/Detroit:20210912T110000
DTEND;TZID=America/Detroit:20210912T160000
DTSTAMP:20260424T051753
CREATED:20210909T012512Z
LAST-MODIFIED:20210909T012512Z
UID:985-1631444400-1631462400@thenudeli.com
SUMMARY:Lions kickoff @ Eastern Market Brewing Co.
DESCRIPTION:Miss the tailgate? We’re right at the center of Lions excitement in Eastern Market! Great beer\, great food\, plausible deniability. We’ll be kicking it in the alley.
URL:https://thenudeli.com/event/lions-kickoff-eastern-market-brewing-co/
LOCATION:Eastern Market Brewing Co.\, 2515 Riopelle\, Detroit\, MI\, 48207\, United States
CATEGORIES:Brewery,Game Day
END:VEVENT
BEGIN:VEVENT
DTSTART;TZID=America/Detroit:20210901T170000
DTEND;TZID=America/Detroit:20210901T200000
DTSTAMP:20260424T051753
CREATED:20210901T142138Z
LAST-MODIFIED:20210901T142138Z
UID:978-1630515600-1630526400@thenudeli.com
SUMMARY:Urbanrest Brewing\, Ferndale
DESCRIPTION:Our last of the summer. Yeah\, we get one more shot at Ferndale in September but this is the gorgeous day to seize. Come on out.
URL:https://thenudeli.com/event/urbanrest-brewing-ferndale-8/
LOCATION:Urbanrest Brewing Company\, 2615 Wolcott Street\, Ferndale\, MI\, 48220\, United States
CATEGORIES:Brewery,Dinner
END:VEVENT
BEGIN:VEVENT
DTSTART;TZID=America/Detroit:20210829T170000
DTEND;TZID=America/Detroit:20210829T200000
DTSTAMP:20260424T051753
CREATED:20210825T231954Z
LAST-MODIFIED:20210825T231954Z
UID:976-1630256400-1630267200@thenudeli.com
SUMMARY:Urbanrest Brewing\, Ferndale
DESCRIPTION:Dogs and bikes welcome.
URL:https://thenudeli.com/event/urbanrest-brewing-ferndale-7/
LOCATION:Urbanrest Brewing Company\, 2615 Wolcott Street\, Ferndale\, MI\, 48220\, United States
CATEGORIES:Brewery,Dinner
END:VEVENT
BEGIN:VEVENT
DTSTART;TZID=America/Detroit:20210811T170000
DTEND;TZID=America/Detroit:20210811T200000
DTSTAMP:20260424T051753
CREATED:20210807T030802Z
LAST-MODIFIED:20210807T030802Z
UID:963-1628701200-1628712000@thenudeli.com
SUMMARY:Urbanrest Brewing\, Ferndale
DESCRIPTION:Back in Ferndale and loving it.
URL:https://thenudeli.com/event/urbanrest-brewing-ferndale-6/
LOCATION:Urbanrest Brewing Company\, 2615 Wolcott Street\, Ferndale\, MI\, 48220\, United States
CATEGORIES:Brewery,Dinner
END:VEVENT
BEGIN:VEVENT
DTSTART;TZID=America/Detroit:20210725T170000
DTEND;TZID=America/Detroit:20210725T200000
DTSTAMP:20260424T051753
CREATED:20210718T222928Z
LAST-MODIFIED:20210718T222928Z
UID:951-1627232400-1627243200@thenudeli.com
SUMMARY:Urbanrest Brewing\, Ferndale
DESCRIPTION:
URL:https://thenudeli.com/event/urbanrest-brewing-ferndale-5/
LOCATION:Urbanrest Brewing Company\, 2615 Wolcott Street\, Ferndale\, MI\, 48220\, United States
CATEGORIES:Brewery,Dinner
END:VEVENT
BEGIN:VEVENT
DTSTART;TZID=America/Detroit:20210723T170000
DTEND;TZID=America/Detroit:20210723T210000
DTSTAMP:20260424T051753
CREATED:20210718T222740Z
LAST-MODIFIED:20210718T222740Z
UID:947-1627059600-1627074000@thenudeli.com
SUMMARY:Northville Winery & Brewing
DESCRIPTION:
URL:https://thenudeli.com/event/northville-winery-brewing/
LOCATION:Northville Winery and Brewery\, 630 Baseline Rd\, Northville\, MI\, 48167\, United States
CATEGORIES:Brewery,Dinner
END:VEVENT
BEGIN:VEVENT
DTSTART;TZID=America/Detroit:20210721T170000
DTEND;TZID=America/Detroit:20210721T200000
DTSTAMP:20260424T051753
CREATED:20210718T222350Z
LAST-MODIFIED:20210718T222350Z
UID:941-1626886800-1626897600@thenudeli.com
SUMMARY:Urbanrest Brewing\, Ferndale
DESCRIPTION:
URL:https://thenudeli.com/event/urbanrest-brewing-ferndale-4/
LOCATION:Urbanrest Brewing Company\, 2615 Wolcott Street\, Ferndale\, MI\, 48220\, United States
CATEGORIES:Brewery,Dinner
END:VEVENT
BEGIN:VEVENT
DTSTART;TZID=America/Detroit:20210620T170000
DTEND;TZID=America/Detroit:20210620T200000
DTSTAMP:20260424T051753
CREATED:20210617T031736Z
LAST-MODIFIED:20210617T031736Z
UID:922-1624208400-1624219200@thenudeli.com
SUMMARY:Urbanrest Brewing
DESCRIPTION:Return to Ferndale! Sandwich stans will recall our long pandemic home stand at Rust Belt. It was you guys who got us through the long\, ugly between-time. We miss you all and we can’t wait to see your shining\, maskless faces. It’s time for a beer. See you all at Urbanrest’s breezy picnic area.
URL:https://thenudeli.com/event/urbanrest-brewing/
LOCATION:Urbanrest Brewing Company\, 2615 Wolcott Street\, Ferndale\, MI\, 48220\, United States
CATEGORIES:Brewery,Dinner
END:VEVENT
END:VCALENDAR